BEGIN:VCALENDAR
VERSION:2.0
PRODID:-//Alpine Arts Center - ECPv6.15.11//NONSGML v1.0//EN
CALSCALE:GREGORIAN
METHOD:PUBLISH
X-ORIGINAL-URL:https://alpineartscenter.org
X-WR-CALDESC:Events for Alpine Arts Center
REFRESH-INTERVAL;VALUE=DURATION:PT1H
X-Robots-Tag:noindex
X-PUBLISHED-TTL:PT1H
BEGIN:VTIMEZONE
TZID:America/Denver
BEGIN:DAYLIGHT
TZOFFSETFROM:-0700
TZOFFSETTO:-0600
TZNAME:MDT
DTSTART:20230312T090000
END:DAYLIGHT
BEGIN:STANDARD
TZOFFSETFROM:-0600
TZOFFSETTO:-0700
TZNAME:MST
DTSTART:20231105T080000
END:STANDARD
BEGIN:DAYLIGHT
TZOFFSETFROM:-0700
TZOFFSETTO:-0600
TZNAME:MDT
DTSTART:20240310T090000
END:DAYLIGHT
BEGIN:STANDARD
TZOFFSETFROM:-0600
TZOFFSETTO:-0700
TZNAME:MST
DTSTART:20241103T080000
END:STANDARD
BEGIN:DAYLIGHT
TZOFFSETFROM:-0700
TZOFFSETTO:-0600
TZNAME:MDT
DTSTART:20250309T090000
END:DAYLIGHT
BEGIN:STANDARD
TZOFFSETFROM:-0600
TZOFFSETTO:-0700
TZNAME:MST
DTSTART:20251102T080000
END:STANDARD
BEGIN:DAYLIGHT
TZOFFSETFROM:-0700
TZOFFSETTO:-0600
TZNAME:MDT
DTSTART:20260308T090000
END:DAYLIGHT
BEGIN:STANDARD
TZOFFSETFROM:-0600
TZOFFSETTO:-0700
TZNAME:MST
DTSTART:20261101T080000
END:STANDARD
END:VTIMEZONE
BEGIN:VEVENT
DTSTART;TZID=America/Denver:20250416T170000
DTEND;TZID=America/Denver:20250416T183000
DTSTAMP:20260423T212539
CREATED:20250313T184108Z
LAST-MODIFIED:20250405T211521Z
UID:10000608-1744822800-1744828200@alpineartscenter.org
SUMMARY:Discover Vail Art Series
DESCRIPTION:Register \nDiscounted Art Class: End of Season Paint Pottery Party! \nWednesday\, April 16th @ 5-6:30pm \nAlpine Arts Center hosts a discounted class at Vendetta’s \nCome create your own paint pottery mug at this end of season event! All materials & step-by-step instruction will be provided. Alpine Arts Center is excited to offer art programs in partnership with the Town of Vail for a discounted price of $25 per person! Events are fun\, social\, and open to all ages unless otherwise noted (children should be accompanied by a participating adult). \nProjects will be ready approximately one week after the event; shipping can also be arranged for an additional fee. \nThank you to our event sponsors: Discover Vail\, Vail Daily\, Holy Cross\, & Alpine Bank \nLearn more about what is happening in Vail at discovervail.com
URL:https://alpineartscenter.org/event/town-of-vail-art-series-11/
LOCATION:Vendetta’s\, 291 Bridge Street\, Vail\, 81657\, United States
ATTACH;FMTTYPE=image/jpeg:https://alpineartscenter.org/wp-content/uploads/2024/03/ski-mugs-scaled.jpeg
END:VEVENT
BEGIN:VEVENT
DTSTART;TZID=America/Denver:20241016T173000
DTEND;TZID=America/Denver:20241016T190000
DTSTAMP:20260423T212539
CREATED:20240920T174421Z
LAST-MODIFIED:20240920T174618Z
UID:10000574-1729099800-1729105200@alpineartscenter.org
SUMMARY:Town of Vail Art Series
DESCRIPTION:Register \nDiscounted Art Class: Seasonal Beer Stein Paint Pottery! \nWednesday\, October 16th @ 5:30-7pm \nAlpine Arts Center hosts a discounted class at Vendetta’s \nCome create your own paint pottery seasonal stein! All materials & instruction will be provided. Alpine Arts Center is excited to offer art programs in partnership with the Town of Vail for a discounted price of $25 per person! Events are fun\, social\, and open to all ages unless otherwise noted (children should be accompanied by a participating adult). Steins will be brought back to Alpine Arts Center afterwards and ready to pick up about a week later (shipping available for an additional fee). \nThank you to our event sponsors: Town of Vail\, Vail Daily\, Holy Cross\, & Alpine Bank \nLearn more about what is happening in Vail at discovervail.com
URL:https://alpineartscenter.org/event/town-of-vail-art-series-9/
LOCATION:Vendetta’s\, 291 Bridge Street\, Vail\, 81657\, United States
ATTACH;FMTTYPE=image/jpeg:https://alpineartscenter.org/wp-content/uploads/2024/09/BEER-STEIN-PAINTING.jpg
END:VEVENT
BEGIN:VEVENT
DTSTART;TZID=America/Denver:20240416T170000
DTEND;TZID=America/Denver:20240416T183000
DTSTAMP:20260423T212539
CREATED:20240306T170812Z
LAST-MODIFIED:20240306T171152Z
UID:10000532-1713286800-1713292200@alpineartscenter.org
SUMMARY:Town of Vail Art Series
DESCRIPTION:Register \nDiscounted Art Class: End of Season Paint Pottery Party! \nTuesday\, April 16th @ 5-6:30pm \nAlpine Arts Center hosts a discounted class at Vendetta’s \nCome create your own paint pottery mug at this end of season event! All materials & step-by-step instruction will be provided. Alpine Arts Center is excited to offer art programs in partnership with the Town of Vail for a discounted price of $25 per person! Events are fun\, social\, and open to all ages unless otherwise noted (children should be accompanied by a participating adult). \nThank you to our event sponsors: Town of Vail\, Vail Daily\, Holy Cross\, & Alpine Bank \nLearn more about what is happening in Vail at discovervail.com
URL:https://alpineartscenter.org/event/town-of-vail-art-series-2/
LOCATION:Vendetta’s\, 291 Bridge Street\, Vail\, 81657\, United States
ATTACH;FMTTYPE=image/jpeg:https://alpineartscenter.org/wp-content/uploads/2024/03/ski-mugs-scaled.jpeg
END:VEVENT
END:VCALENDAR