BEGIN:VCALENDAR
VERSION:2.0
PRODID:-//Alpine Arts Center - ECPv6.15.11//NONSGML v1.0//EN
CALSCALE:GREGORIAN
METHOD:PUBLISH
X-WR-CALNAME:Alpine Arts Center
X-ORIGINAL-URL:https://alpineartscenter.org
X-WR-CALDESC:Events for Alpine Arts Center
REFRESH-INTERVAL;VALUE=DURATION:PT1H
X-Robots-Tag:noindex
X-PUBLISHED-TTL:PT1H
BEGIN:VTIMEZONE
TZID:America/Denver
BEGIN:DAYLIGHT
TZOFFSETFROM:-0700
TZOFFSETTO:-0600
TZNAME:MDT
DTSTART:20210314T090000
END:DAYLIGHT
BEGIN:STANDARD
TZOFFSETFROM:-0600
TZOFFSETTO:-0700
TZNAME:MST
DTSTART:20211107T080000
END:STANDARD
BEGIN:DAYLIGHT
TZOFFSETFROM:-0700
TZOFFSETTO:-0600
TZNAME:MDT
DTSTART:20220313T090000
END:DAYLIGHT
BEGIN:STANDARD
TZOFFSETFROM:-0600
TZOFFSETTO:-0700
TZNAME:MST
DTSTART:20221106T080000
END:STANDARD
BEGIN:DAYLIGHT
TZOFFSETFROM:-0700
TZOFFSETTO:-0600
TZNAME:MDT
DTSTART:20230312T090000
END:DAYLIGHT
BEGIN:STANDARD
TZOFFSETFROM:-0600
TZOFFSETTO:-0700
TZNAME:MST
DTSTART:20231105T080000
END:STANDARD
BEGIN:DAYLIGHT
TZOFFSETFROM:-0700
TZOFFSETTO:-0600
TZNAME:MDT
DTSTART:20240310T090000
END:DAYLIGHT
BEGIN:STANDARD
TZOFFSETFROM:-0600
TZOFFSETTO:-0700
TZNAME:MST
DTSTART:20241103T080000
END:STANDARD
END:VTIMEZONE
BEGIN:VEVENT
DTSTART;TZID=America/Denver:20231108T183000
DTEND;TZID=America/Denver:20231108T203000
DTSTAMP:20260423T234049
CREATED:20230506T114850Z
LAST-MODIFIED:20231008T161453Z
UID:10000465-1699468200-1699475400@alpineartscenter.org
SUMMARY:Town of Vail Art series: String Art
DESCRIPTION:Register \nDiscounted Art Class: String Art \nWednesday\, November 8th @ 6:30-8:30pm \nAlpine Arts Center hosts a discounted class at Vail Recreation District (2nd Floor Lionshead Welcome Center) \nCome create Mountain String Art! All materials & step-by-step instruction will be provided. Alpine Arts Center is excited to offer art programs in partnership with the Town of Vail for a discounted price of $25 per person! Events are fun\, social\, and open to all ages unless otherwise noted (children should be accompanied by a participating adult).
URL:https://alpineartscenter.org/event/town-of-vail-art-series-string-art/
LOCATION:Vail Recreation District\, 395 E Lionshead Circle\, Vail\, CO\, 81657\, United States
ATTACH;FMTTYPE=image/jpeg:https://alpineartscenter.org/wp-content/uploads/2021/05/stringart-1086.jpg
END:VEVENT
BEGIN:VEVENT
DTSTART;TZID=America/Denver:20221130T170000
DTEND;TZID=America/Denver:20221130T190000
DTSTAMP:20260423T234049
CREATED:20221012T233554Z
LAST-MODIFIED:20221013T001716Z
UID:10000403-1669827600-1669834800@alpineartscenter.org
SUMMARY:Town of Vail Art Series: Pottery Picture Frame
DESCRIPTION:Register Now! \nDiscounted Art Class: Paint Pottery Picture Frame Design \nWednesday\, November 30th @ 6-7:30pm \nAlpine Arts Center hosts a discounted class in Vail at Vail Recreation District! (Located on 2nd floor above Lionshead Welcome Center) \nCome personalize picture frames with vibrant glazes and unique application techniques! All materials & step-by-step instruction will be provided. Alpine Arts Center is excited to offer art programs in partnership with the Town of Vail for a discounted price of $25 per person! Events are fun\, social\, and open to all ages unless otherwise noted (children should be accompanied by a participating adult).
URL:https://alpineartscenter.org/event/town-of-vail-art-series-pottery-picture-frame/
LOCATION:Vail Recreation District\, 395 E Lionshead Circle\, Vail\, CO\, 81657\, United States
ATTACH;FMTTYPE=image/jpeg:https://alpineartscenter.org/wp-content/uploads/2022/10/pictureframesample.jpg
END:VEVENT
END:VCALENDAR