BEGIN:VCALENDAR
VERSION:2.0
PRODID:-//Alpine Arts Center - ECPv6.15.11//NONSGML v1.0//EN
CALSCALE:GREGORIAN
METHOD:PUBLISH
X-WR-CALNAME:Alpine Arts Center
X-ORIGINAL-URL:https://alpineartscenter.org
X-WR-CALDESC:Events for Alpine Arts Center
REFRESH-INTERVAL;VALUE=DURATION:PT1H
X-Robots-Tag:noindex
X-PUBLISHED-TTL:PT1H
BEGIN:VTIMEZONE
TZID:America/Denver
BEGIN:DAYLIGHT
TZOFFSETFROM:-0700
TZOFFSETTO:-0600
TZNAME:MDT
DTSTART:20210314T090000
END:DAYLIGHT
BEGIN:STANDARD
TZOFFSETFROM:-0600
TZOFFSETTO:-0700
TZNAME:MST
DTSTART:20211107T080000
END:STANDARD
BEGIN:DAYLIGHT
TZOFFSETFROM:-0700
TZOFFSETTO:-0600
TZNAME:MDT
DTSTART:20220313T090000
END:DAYLIGHT
BEGIN:STANDARD
TZOFFSETFROM:-0600
TZOFFSETTO:-0700
TZNAME:MST
DTSTART:20221106T080000
END:STANDARD
BEGIN:DAYLIGHT
TZOFFSETFROM:-0700
TZOFFSETTO:-0600
TZNAME:MDT
DTSTART:20230312T090000
END:DAYLIGHT
BEGIN:STANDARD
TZOFFSETFROM:-0600
TZOFFSETTO:-0700
TZNAME:MST
DTSTART:20231105T080000
END:STANDARD
BEGIN:DAYLIGHT
TZOFFSETFROM:-0700
TZOFFSETTO:-0600
TZNAME:MDT
DTSTART:20240310T090000
END:DAYLIGHT
BEGIN:STANDARD
TZOFFSETFROM:-0600
TZOFFSETTO:-0700
TZNAME:MST
DTSTART:20241103T080000
END:STANDARD
BEGIN:DAYLIGHT
TZOFFSETFROM:-0700
TZOFFSETTO:-0600
TZNAME:MDT
DTSTART:20250309T090000
END:DAYLIGHT
BEGIN:STANDARD
TZOFFSETFROM:-0600
TZOFFSETTO:-0700
TZNAME:MST
DTSTART:20251102T080000
END:STANDARD
BEGIN:DAYLIGHT
TZOFFSETFROM:-0700
TZOFFSETTO:-0600
TZNAME:MDT
DTSTART:20260308T090000
END:DAYLIGHT
BEGIN:STANDARD
TZOFFSETFROM:-0600
TZOFFSETTO:-0700
TZNAME:MST
DTSTART:20261101T080000
END:STANDARD
END:VTIMEZONE
BEGIN:VEVENT
DTSTART;TZID=America/Denver:20250507T170000
DTEND;TZID=America/Denver:20250507T183000
DTSTAMP:20260423T211946
CREATED:20250313T184530Z
LAST-MODIFIED:20250426T193014Z
UID:10000609-1746637200-1746642600@alpineartscenter.org
SUMMARY:Discover Vail Art Series
DESCRIPTION:REGISTER HERE \nDiscounted Art Class: Flower Mandala Wall Hanging \nWednesday\, May 7th @ 5-6:30pm \nAlpine Arts Center hosts a discounted class at Root & Flower\, Vail Village \nCome create your own flower mandala wall hanging! All materials & step-by-step instruction will be provided. Alpine Arts Center is excited to offer art programs in partnership with the Town of Vail for a discounted price of $25 per person! \nThank you to our event sponsors: Discover Vail\, Vail Daily\, Holy Cross\, & Alpine Bank \nLearn more about what is happening in Vail at discovervail.com
URL:https://alpineartscenter.org/event/town-of-vail-art-series-12/
LOCATION:Root & Flower\, 288 Bridge St Unit C4\, Vail\, CO\, 81657\, United States
ATTACH;FMTTYPE=image/png:https://alpineartscenter.org/wp-content/uploads/2024/04/flower-mandala-wall-hanging-1.png
END:VEVENT
BEGIN:VEVENT
DTSTART;TZID=America/Denver:20241121T170000
DTEND;TZID=America/Denver:20241121T183000
DTSTAMP:20260423T211946
CREATED:20240920T173825Z
LAST-MODIFIED:20240920T173825Z
UID:10000573-1732208400-1732213800@alpineartscenter.org
SUMMARY:Town of Vail Art Series
DESCRIPTION:Register \nDiscounted Art Class: Pressed Flower Seasonal Ornaments \nThursday\, November 21 @ 5:00-6:30pm \nAlpine Arts Center hosts a discounted class at Root & Flower \nCome create Pressed Flower Seasonal Ornaments\, great for Thanksgiving and also holiday gift giving! All materials & step-by-step instruction will be provided. Alpine Arts Center is excited to offer art programs in partnership with the Town of Vail for a discounted price of $25 per person!
URL:https://alpineartscenter.org/event/town-of-vail-art-series-8/
LOCATION:Root & Flower\, 288 Bridge St Unit C4\, Vail\, CO\, 81657\, United States
ATTACH;FMTTYPE=image/jpeg:https://alpineartscenter.org/wp-content/uploads/2024/09/flower-pressed-ornament.jpg
END:VEVENT
BEGIN:VEVENT
DTSTART;TZID=America/Denver:20240529T170000
DTEND;TZID=America/Denver:20240529T183000
DTSTAMP:20260423T211946
CREATED:20240410T214959Z
LAST-MODIFIED:20240412T221119Z
UID:10000554-1717002000-1717007400@alpineartscenter.org
SUMMARY:Town of Vail Art Series
DESCRIPTION:Register \nDiscounted Art Class: Flower Mandala Wall Hanging \nWednesday\, May 29th @ 5-6:30pm \nAlpine Arts Center hosts a discounted class at Root & Flower\, Vail Village \nCome create your own flower mandala wall hanging! All materials & step-by-step instruction will be provided. Alpine Arts Center is excited to offer art programs in partnership with the Town of Vail for a discounted price of $25 per person! \nThank you to our event sponsors: Town of Vail\, Vail Daily\, Holy Cross\, & Alpine Bank \nLearn more about what is happening in Vail at discovervail.com
URL:https://alpineartscenter.org/event/town-of-vail-art-series-3/
LOCATION:Root & Flower\, 288 Bridge St Unit C4\, Vail\, CO\, 81657\, United States
ATTACH;FMTTYPE=image/png:https://alpineartscenter.org/wp-content/uploads/2024/04/flower-mandala-wall-hanging-1.png
END:VEVENT
BEGIN:VEVENT
DTSTART;TZID=America/Denver:20231213T170000
DTEND;TZID=America/Denver:20231213T183000
DTSTAMP:20260423T211946
CREATED:20230506T115838Z
LAST-MODIFIED:20231008T160047Z
UID:10000466-1702486800-1702492200@alpineartscenter.org
SUMMARY:Town of Vail Art Series: Holiday Gift Making
DESCRIPTION:Register \nDiscounted Art Class: Holiday Gift Making (Personalize Pattern/Stencil Ceramic Mugs) \nWednesday\, December 13th @ 5:00-6:30pm \nAlpine Arts Center hosts a discounted class at Root & Flower \nCome create Holiday Gifts for friends & family! All materials & step-by-step instruction will be provided. Alpine Arts Center is excited to offer art programs in partnership with the Town of Vail for a discounted price of $25 per person! Events are fun\, social\, and open to all ages unless otherwise noted (children should be accompanied by a participating adult).
URL:https://alpineartscenter.org/event/town-of-vail-art-series-holiday-gift-making/
LOCATION:Root & Flower\, 288 Bridge St Unit C4\, Vail\, CO\, 81657\, United States
ATTACH;FMTTYPE=image/png:https://alpineartscenter.org/wp-content/uploads/2023/07/Ceramics-Stencils.png
END:VEVENT
BEGIN:VEVENT
DTSTART;TZID=America/Denver:20220526T160000
DTEND;TZID=America/Denver:20220526T180000
DTSTAMP:20260423T211946
CREATED:20220503T221924Z
LAST-MODIFIED:20220508T182108Z
UID:10000381-1653580800-1653588000@alpineartscenter.org
SUMMARY:Town of Vail Art Series: Wildflower Stitched Canvas
DESCRIPTION:Register Now! \nDiscounted Art Class: Wildflower Stitched Canvas \nThursday\, May 26th @ 5-7pm \nAlpine Arts Center hosts a discounted class in Vail at Root & Flower off of Bridge Street! \nCome create a beautiful Wildflower Stitched Canvas with acrylic paint & embroidery string! All materials & step-by-step instruction will be provided. Alpine Arts Center is excited to offer art programs in partnership with the Town of Vail for a discounted price of $25 per person! Events are fun\, social\, and open to all ages unless otherwise noted (children should be accompanied by a participating adult).
URL:https://alpineartscenter.org/event/town-of-vail-art-series-wildflower-stitched-canvas/
LOCATION:Root & Flower\, 288 Bridge St Unit C4\, Vail\, CO\, 81657\, United States
ATTACH;FMTTYPE=image/png:https://alpineartscenter.org/wp-content/uploads/2022/05/wildflower-stitched-canvas.png
END:VEVENT
END:VCALENDAR