BEGIN:VCALENDAR
VERSION:2.0
PRODID:-//Alpine Arts Center - ECPv6.15.11//NONSGML v1.0//EN
CALSCALE:GREGORIAN
METHOD:PUBLISH
X-WR-CALNAME:Alpine Arts Center
X-ORIGINAL-URL:https://alpineartscenter.org
X-WR-CALDESC:Events for Alpine Arts Center
REFRESH-INTERVAL;VALUE=DURATION:PT1H
X-Robots-Tag:noindex
X-PUBLISHED-TTL:PT1H
BEGIN:VTIMEZONE
TZID:America/Denver
BEGIN:DAYLIGHT
TZOFFSETFROM:-0700
TZOFFSETTO:-0600
TZNAME:MDT
DTSTART:20250309T090000
END:DAYLIGHT
BEGIN:STANDARD
TZOFFSETFROM:-0600
TZOFFSETTO:-0700
TZNAME:MST
DTSTART:20251102T080000
END:STANDARD
BEGIN:DAYLIGHT
TZOFFSETFROM:-0700
TZOFFSETTO:-0600
TZNAME:MDT
DTSTART:20260308T090000
END:DAYLIGHT
BEGIN:STANDARD
TZOFFSETFROM:-0600
TZOFFSETTO:-0700
TZNAME:MST
DTSTART:20261101T080000
END:STANDARD
BEGIN:DAYLIGHT
TZOFFSETFROM:-0700
TZOFFSETTO:-0600
TZNAME:MDT
DTSTART:20270314T090000
END:DAYLIGHT
BEGIN:STANDARD
TZOFFSETFROM:-0600
TZOFFSETTO:-0700
TZNAME:MST
DTSTART:20271107T080000
END:STANDARD
END:VTIMEZONE
BEGIN:VEVENT
DTSTART;TZID=America/Denver:20260630T153000
DTEND;TZID=America/Denver:20260630T170000
DTSTAMP:20260423T131537
CREATED:20260417T222903Z
LAST-MODIFIED:20260417T223442Z
UID:10000728-1782833400-1782838800@alpineartscenter.org
SUMMARY:Discover Vail Art Series
DESCRIPTION:REGISTER HERE \nDiscounted Art Class: Colorado Wildflower Meadow Painting \nTuesday\, June 30th @ 3:30-5pm \nAlpine Arts Center hosts a discounted class at The Amp\, Vail Village \nCome join us for a social art event and learn to create your own Colorado Wildflower Meadow masterpiece! All materials & step-by-step instruction will be provided. Alpine Arts Center is excited to offer art programs in partnership with Discover Vail for a discounted price of $25 per person! All programs are fun\, social\, and open to all ages (children should be accompanied by a participating adult). \nAlso join us during the concert starting @ 5:30 for drop-in art – canvas painting! \nThank you to our event sponsors: Discover Vail\, Holy Cross\, & Alpine Bank \nLearn more about what is happening in Vail at discovervail.com
URL:https://alpineartscenter.org/event/discover-vail-art-series-12/
LOCATION:Gerald R. Ford Amphitheater\, 503 S Frontage Rd E\, Vail\, CO\, 81656\, United States
ATTACH;FMTTYPE=image/jpeg:https://alpineartscenter.org/wp-content/uploads/2026/04/IMG_4977-scaled.jpeg
END:VEVENT
BEGIN:VEVENT
DTSTART;TZID=America/Denver:20260714T153000
DTEND;TZID=America/Denver:20260714T170000
DTSTAMP:20260423T131537
CREATED:20260417T223358Z
LAST-MODIFIED:20260417T223358Z
UID:10000729-1784043000-1784048400@alpineartscenter.org
SUMMARY:Discover Vail Art Series
DESCRIPTION:REGISTER HERE \nDiscounted Art Class: Spray Paint Canvas Painting (or bring a t-shirt if you prefer to create wearable art) \nTuesday\, July 14th @ 3:30-5pm \nAlpine Arts Center hosts a discounted class at The Amp\, Vail Village \nCome join us for a social art event and learn to create your own Spray Paint Art masterpiece! All materials & step-by-step instruction will be provided. Alpine Arts Center is excited to offer art programs in partnership with Discover Vail for a discounted price of $25 per person! All programs are fun\, social\, and open to all ages (children should be accompanied by a participating adult). \nAlso join us during the concert starting @ 5:30 for drop-in art – spray & canvas painting! \nThank you to our event sponsors: Discover Vail\, Holy Cross\, & Alpine Bank \nLearn more about what is happening in Vail at discovervail.com
URL:https://alpineartscenter.org/event/discover-vail-art-series-13/
LOCATION:Gerald R. Ford Amphitheater\, 503 S Frontage Rd E\, Vail\, CO\, 81656\, United States
ATTACH;FMTTYPE=image/jpeg:https://alpineartscenter.org/wp-content/uploads/2023/05/1-1.jpeg
END:VEVENT
BEGIN:VEVENT
DTSTART;TZID=America/Denver:20260721T153000
DTEND;TZID=America/Denver:20260721T200000
DTSTAMP:20260423T131537
CREATED:20260417T222231Z
LAST-MODIFIED:20260417T222231Z
UID:10000727-1784647800-1784664000@alpineartscenter.org
SUMMARY:Discover Vail Art Series
DESCRIPTION:*No registration necessary* \nDiscounted Art Class: Silk & Hat Marbling \nIn Vail @ The Amp (Gerald R. Ford Amphitheater) \nTuesday\, July 21st Starting @ 3:30pm \nAlpine Arts Center is excited to offer art programs in partnership with Discover Vail for a discounted price! Events are fun\, social\, and open to all ages unless otherwise noted (children should be accompanied by a participating adult). \nStop by our silk marbling booth for an amazing art medium and experience. All materials & step-by-step instruction will be provided for $25+ (depending on marbling selection). \nThank you to our sponsors: Discover Vail\, Holy Cross Energy and Alpine Bank. \nLearn more about what is happening in Vail at discovervail.com
URL:https://alpineartscenter.org/event/discover-vail-art-series-11/
LOCATION:Gerald R. Ford Amphitheater\, 503 S Frontage Rd E\, Vail\, CO\, 81656\, United States
ATTACH;FMTTYPE=image/png:https://alpineartscenter.org/wp-content/uploads/2021/06/silkscarf.png
END:VEVENT
END:VCALENDAR