BEGIN:VCALENDAR
VERSION:2.0
PRODID:-//Alpine Arts Center - ECPv6.15.11//NONSGML v1.0//EN
CALSCALE:GREGORIAN
METHOD:PUBLISH
X-ORIGINAL-URL:https://alpineartscenter.org
X-WR-CALDESC:Events for Alpine Arts Center
REFRESH-INTERVAL;VALUE=DURATION:PT1H
X-Robots-Tag:noindex
X-PUBLISHED-TTL:PT1H
BEGIN:VTIMEZONE
TZID:America/Denver
BEGIN:DAYLIGHT
TZOFFSETFROM:-0700
TZOFFSETTO:-0600
TZNAME:MDT
DTSTART:20210314T090000
END:DAYLIGHT
BEGIN:STANDARD
TZOFFSETFROM:-0600
TZOFFSETTO:-0700
TZNAME:MST
DTSTART:20211107T080000
END:STANDARD
BEGIN:DAYLIGHT
TZOFFSETFROM:-0700
TZOFFSETTO:-0600
TZNAME:MDT
DTSTART:20220313T090000
END:DAYLIGHT
BEGIN:STANDARD
TZOFFSETFROM:-0600
TZOFFSETTO:-0700
TZNAME:MST
DTSTART:20221106T080000
END:STANDARD
BEGIN:DAYLIGHT
TZOFFSETFROM:-0700
TZOFFSETTO:-0600
TZNAME:MDT
DTSTART:20230312T090000
END:DAYLIGHT
BEGIN:STANDARD
TZOFFSETFROM:-0600
TZOFFSETTO:-0700
TZNAME:MST
DTSTART:20231105T080000
END:STANDARD
END:VTIMEZONE
BEGIN:VEVENT
DTSTART;TZID=America/Denver:20220319T173000
DTEND;TZID=America/Denver:20220319T193000
DTSTAMP:20260424T023658
CREATED:20220109T233153Z
LAST-MODIFIED:20220109T233153Z
UID:10000356-1647711000-1647718200@alpineartscenter.org
SUMMARY:Cocktails & Clay
DESCRIPTION:Register Now! \nCeramic Tray Class! \nSaturday\, March 19th @ 6:30pm \nYour clay class includes all materials\, instruction\, and firing/glazing based on a set glaze for the entire class. Projects will be ready to pick up approximately 2 weeks later\, or shipping can be arranged at an additional fee. If you prefer to glaze your own piece\, you may opt to do that for a half-price drop-in fee of $8; please ask your instructor if you are interested in this add-on.
URL:https://alpineartscenter.org/event/cocktails-clay-13/
LOCATION:Vail Public Library\, 292 W Meadow Dr\, Vail\, CO\, 81657\, United States
ATTACH;FMTTYPE=image/jpeg:https://alpineartscenter.org/wp-content/uploads/2021/05/set-of-leaf-platters.jpg
END:VEVENT
BEGIN:VEVENT
DTSTART;TZID=America/Denver:20220313T140000
DTEND;TZID=America/Denver:20220313T153000
DTSTAMP:20260424T023658
CREATED:20220109T234947Z
LAST-MODIFIED:20220109T234947Z
UID:10000254-1647180000-1647185400@alpineartscenter.org
SUMMARY:Cupcakes & Canvas
DESCRIPTION:Register Now! \nColorado Flag Landscape Painting \nSunday\, March 13th @ 3pm
URL:https://alpineartscenter.org/event/cupcakes-canvas-14/
LOCATION:Vail Public Library\, 292 W Meadow Dr\, Vail\, CO\, 81657\, United States
ATTACH;FMTTYPE=image/jpeg:https://alpineartscenter.org/wp-content/uploads/2021/06/colorado-flag-landscape.jpg
END:VEVENT
BEGIN:VEVENT
DTSTART;TZID=America/Denver:20220309T173000
DTEND;TZID=America/Denver:20220309T193000
DTSTAMP:20260424T023658
CREATED:20220109T234703Z
LAST-MODIFIED:20220109T234703Z
UID:10000363-1646847000-1646854200@alpineartscenter.org
SUMMARY:Cocktails & Canvas
DESCRIPTION:Register Now! \nAcrylic Paint Pouring \nWednesday\, March 9th @ 6:30pm
URL:https://alpineartscenter.org/event/cocktails-canvas-23/
LOCATION:Vail Public Library\, 292 W Meadow Dr\, Vail\, CO\, 81657\, United States
ATTACH;FMTTYPE=image/jpeg:https://alpineartscenter.org/wp-content/uploads/2021/05/acyrlic_paint_pouring.jpg
END:VEVENT
BEGIN:VEVENT
DTSTART;TZID=America/Denver:20220305T173000
DTEND;TZID=America/Denver:20220305T193000
DTSTAMP:20260424T023658
CREATED:20220109T234338Z
LAST-MODIFIED:20220109T235501Z
UID:10000360-1646501400-1646508600@alpineartscenter.org
SUMMARY:Cocktails & Canvas
DESCRIPTION:Register Now! \nMt. Holy Cross Painting \nSaturday\, March 5th @ 6:30pm
URL:https://alpineartscenter.org/event/cocktails-canvas-22/
LOCATION:Vail Public Library\, 292 W Meadow Dr\, Vail\, CO\, 81657\, United States
ATTACH;FMTTYPE=image/jpeg:https://alpineartscenter.org/wp-content/uploads/2021/06/Mount-Holy-Cross-scaled.jpg
END:VEVENT
BEGIN:VEVENT
DTSTART;TZID=America/Denver:20220227T140000
DTEND;TZID=America/Denver:20220227T153000
DTSTAMP:20260424T023658
CREATED:20211201T224148Z
LAST-MODIFIED:20211201T224148Z
UID:10000346-1645970400-1645975800@alpineartscenter.org
SUMMARY:Cupcakes & Clay
DESCRIPTION:Register Now! \nCeramic Antler Mug \nSunday\, February 27th – 3pm \nYour clay class includes cupcakes\, all materials\, instruction\, and firing/glazing based on a set glaze for the entire class. Projects will be ready to pick up approximately 2 weeks later\, or shipping can be arranged at an additional fee. If you prefer to glaze your own piece\, you may opt to do that for a half-price drop-in fee of $8; please ask your instructor if you are interested in this add-on.
URL:https://alpineartscenter.org/event/cupcakes-clay-5/
LOCATION:Vail Public Library\, 292 W Meadow Dr\, Vail\, CO\, 81657\, United States
ATTACH;FMTTYPE=image/png:https://alpineartscenter.org/wp-content/uploads/2021/12/antlermug.png
END:VEVENT
BEGIN:VEVENT
DTSTART;TZID=America/Denver:20220223T173000
DTEND;TZID=America/Denver:20220223T200000
DTSTAMP:20260424T023658
CREATED:20211201T234500Z
LAST-MODIFIED:20211201T234500Z
UID:10000354-1645637400-1645646400@alpineartscenter.org
SUMMARY:Paint Your Pet!
DESCRIPTION:Register Now! \nPainted Pet Portraits \nWednesday\, February 23rd – 6:30pm \nPlease email your pet photo to info@alpineartscenter.org after registering so we can have it drawn on your canvas upon arrival. A headshot of your pet is easiest\, but a full body is ok too! A clear image with good lighting will make things easiest!\nDisclaimer: This class is open to all levels\, but it is a little more challenging than our standard classes because everyone’s pet is unique. If this is your first time painting you may want to consider a traditional Cocktails & Canvas class first\, but if you are up for a challenge we are happy to have you join in!
URL:https://alpineartscenter.org/event/paint-your-pet-2/
LOCATION:Vail Public Library\, 292 W Meadow Dr\, Vail\, CO\, 81657\, United States
ATTACH;FMTTYPE=image/jpeg:https://alpineartscenter.org/wp-content/uploads/2021/05/animal_portrait-571.jpg
END:VEVENT
BEGIN:VEVENT
DTSTART;TZID=America/Denver:20220219T173000
DTEND;TZID=America/Denver:20220219T193000
DTSTAMP:20260424T023658
CREATED:20211201T234046Z
LAST-MODIFIED:20211201T234046Z
UID:10000352-1645291800-1645299000@alpineartscenter.org
SUMMARY:Cocktails & Canvas
DESCRIPTION:Register Now! \nTwilight Stream Painting \nSaturday\, February 19th – 6:30pm
URL:https://alpineartscenter.org/event/cocktails-canvas-21/
LOCATION:Vail Public Library\, 292 W Meadow Dr\, Vail\, CO\, 81657\, United States
ATTACH;FMTTYPE=image/jpeg:https://alpineartscenter.org/wp-content/uploads/2021/06/Twilight-Stream-scaled.jpg
END:VEVENT
BEGIN:VEVENT
DTSTART;TZID=America/Denver:20220213T140000
DTEND;TZID=America/Denver:20220213T153000
DTSTAMP:20260424T023658
CREATED:20211201T222730Z
LAST-MODIFIED:20211201T222730Z
UID:10000344-1644760800-1644766200@alpineartscenter.org
SUMMARY:Cupcakes & Canvas
DESCRIPTION:Register Now! \nLove Birds Painting \nSunday\, February 13th – 3pm
URL:https://alpineartscenter.org/event/cupcakes-canvas-13/
LOCATION:Vail Public Library\, 292 W Meadow Dr\, Vail\, CO\, 81657\, United States
ATTACH;FMTTYPE=image/jpeg:https://alpineartscenter.org/wp-content/uploads/2021/05/sunset_birds-711.jpg
END:VEVENT
BEGIN:VEVENT
DTSTART;TZID=America/Denver:20220209T173000
DTEND;TZID=America/Denver:20220209T193000
DTSTAMP:20260424T023658
CREATED:20211201T233220Z
LAST-MODIFIED:20211201T233220Z
UID:10000350-1644427800-1644435000@alpineartscenter.org
SUMMARY:Cocktails & Clay
DESCRIPTION:Register Now! \nCeramic Aspen Vases \nWednesday\, February 9th – 6:30pm \nYour clay class includes all materials\, instruction\, and firing/glazing based on a set glaze for the entire class. Projects will be ready to pick up approximately 2 weeks later\, or shipping can be arranged at an additional fee. If you prefer to glaze your own piece\, you may opt to do that for a half-price drop-in fee of $8; please ask your instructor if you are interested in this add-on.
URL:https://alpineartscenter.org/event/cocktails-clay-12/
LOCATION:Vail Public Library\, 292 W Meadow Dr\, Vail\, CO\, 81657\, United States
ATTACH;FMTTYPE=image/jpeg:https://alpineartscenter.org/wp-content/uploads/2021/05/aspen_vases-736.jpg
END:VEVENT
BEGIN:VEVENT
DTSTART;TZID=America/Denver:20220205T173000
DTEND;TZID=America/Denver:20220205T193000
DTSTAMP:20260424T023658
CREATED:20211201T224644Z
LAST-MODIFIED:20211201T224644Z
UID:10000348-1644082200-1644089400@alpineartscenter.org
SUMMARY:Cocktails & Canvas
DESCRIPTION:Register Now! \nAspen Glow Landscape \nSaturday\, February 5th – 6:30pm
URL:https://alpineartscenter.org/event/cocktails-canvas-20/
LOCATION:Vail Public Library\, 292 W Meadow Dr\, Vail\, CO\, 81657\, United States
ATTACH;FMTTYPE=image/jpeg:https://alpineartscenter.org/wp-content/uploads/2021/05/aspenglow-572.jpg
END:VEVENT
BEGIN:VEVENT
DTSTART;TZID=America/Denver:20220202T173000
DTEND;TZID=America/Denver:20220202T193000
DTSTAMP:20260424T023658
CREATED:20220112T233719Z
LAST-MODIFIED:20220112T233719Z
UID:10000256-1643823000-1643830200@alpineartscenter.org
SUMMARY:Wax & Wine
DESCRIPTION:Register Now! \nEncaustic Wax Art \nWednesday\, February 2nd @ 6:30pm
URL:https://alpineartscenter.org/event/wax-wine/
LOCATION:Vail Public Library\, 292 W Meadow Dr\, Vail\, CO\, 81657\, United States
ATTACH;FMTTYPE=image/jpeg:https://alpineartscenter.org/wp-content/uploads/2021/05/encaustic_cards-715.jpg
END:VEVENT
BEGIN:VEVENT
DTSTART;TZID=America/Denver:20220130T140000
DTEND;TZID=America/Denver:20220130T153000
DTSTAMP:20260424T023658
CREATED:20211111T200205Z
LAST-MODIFIED:20211111T200205Z
UID:10000253-1643551200-1643556600@alpineartscenter.org
SUMMARY:Cupcakes & Clay
DESCRIPTION:Register Now! \nHandbuilding Mugs \nSunday\, January 30th @ 3pm \nIn this clay class\, you can give your mug the “Aspen look” or freestyle your design! Your clay class includes all materials\, instruction\, and firing/glazing based on a set glaze for the entire class. Projects will be ready to pick up approximately 2 weeks later\, or shipping can be arranged at an additional fee. If you prefer to glaze your own piece\, you may opt to do that for a half-price drop-in fee of $8; please ask your instructor if you are interested in this add-on.
URL:https://alpineartscenter.org/event/cupcakes-clay-4/
LOCATION:Vail Public Library\, 292 W Meadow Dr\, Vail\, CO\, 81657\, United States
ATTACH;FMTTYPE=image/jpeg:https://alpineartscenter.org/wp-content/uploads/2021/05/aspen_mug-732.jpg
END:VEVENT
BEGIN:VEVENT
DTSTART;TZID=America/Denver:20220126T173000
DTEND;TZID=America/Denver:20220126T193000
DTSTAMP:20260424T023658
CREATED:20211111T193109Z
LAST-MODIFIED:20220114T180247Z
UID:10000250-1643218200-1643225400@alpineartscenter.org
SUMMARY:Cocktails & Canvas
DESCRIPTION:Register Now! \nGolden Aspens Painting \nWednesday\, January 26th @ 6:30pm \n 
URL:https://alpineartscenter.org/event/encaustic-cards-cocktails/
LOCATION:Vail Public Library\, 292 W Meadow Dr\, Vail\, CO\, 81657\, United States
ATTACH;FMTTYPE=image/jpeg:https://alpineartscenter.org/wp-content/uploads/2021/05/aspens-739.jpg
END:VEVENT
BEGIN:VEVENT
DTSTART;TZID=America/Denver:20220122T173000
DTEND;TZID=America/Denver:20220122T193000
DTSTAMP:20260424T023658
CREATED:20211111T192248Z
LAST-MODIFIED:20211111T192248Z
UID:10000249-1642872600-1642879800@alpineartscenter.org
SUMMARY:Cocktails & Clay
DESCRIPTION:Register Here! \nSculpt Your Pet! \nSaturday\, January 22nd @ 6:30pm \nYour clay class includes all materials\, instruction\, and firing/glazing. Projects will be ready to pick up approximately 2 weeks later\, or shipping can be arranged at an additional fee. Pieces will take approximately one week for the first firing\, and the glazing drop-in is covered in this class.
URL:https://alpineartscenter.org/event/cocktails-clay-11/
LOCATION:Vail Public Library\, 292 W Meadow Dr\, Vail\, CO\, 81657\, United States
ATTACH;FMTTYPE=image/png:https://alpineartscenter.org/wp-content/uploads/2021/05/sculptyourpet-1082.png
END:VEVENT
BEGIN:VEVENT
DTSTART;TZID=America/Denver:20220116T140000
DTEND;TZID=America/Denver:20220116T153000
DTSTAMP:20260424T023658
CREATED:20211111T194754Z
LAST-MODIFIED:20211111T194754Z
UID:10000252-1642341600-1642347000@alpineartscenter.org
SUMMARY:Cupcakes & Canvas
DESCRIPTION:Register Now! \nSki Vail Painting \nSunday\, January 16th @ 3pm
URL:https://alpineartscenter.org/event/cupcakes-canvas-12/
LOCATION:Vail Public Library\, 292 W Meadow Dr\, Vail\, CO\, 81657\, United States
ATTACH;FMTTYPE=image/jpeg:https://alpineartscenter.org/wp-content/uploads/2021/06/ski-vail.jpg
END:VEVENT
BEGIN:VEVENT
DTSTART;TZID=America/Denver:20220112T173000
DTEND;TZID=America/Denver:20220112T193000
DTSTAMP:20260424T023658
CREATED:20211111T191305Z
LAST-MODIFIED:20211111T191305Z
UID:10000248-1642008600-1642015800@alpineartscenter.org
SUMMARY:Cocktails & Canvas
DESCRIPTION:Register Now! \nSnowy Sunset Painting \nWednesday\, January 12th @ 6:30 pm
URL:https://alpineartscenter.org/event/cocktails-canvas-19/
LOCATION:Vail Public Library\, 292 W Meadow Dr\, Vail\, CO\, 81657\, United States
ATTACH;FMTTYPE=image/jpeg:https://alpineartscenter.org/wp-content/uploads/2021/05/snowy_sunset-778.jpg
END:VEVENT
BEGIN:VEVENT
DTSTART;TZID=America/Denver:20220108T173000
DTEND;TZID=America/Denver:20220108T193000
DTSTAMP:20260424T023658
CREATED:20211111T190831Z
LAST-MODIFIED:20211111T190831Z
UID:10000247-1641663000-1641670200@alpineartscenter.org
SUMMARY:Cocktails & Clay
DESCRIPTION:Register Now! \nAspen Vases \nSaturday\, January 8th @ 6:30pm \nYour clay class includes all materials\, instruction\, and firing/glazing based on a set glaze for the entire class. Projects will be ready to pick up approximately 2 weeks later\, or shipping can be arranged at an additional fee. If you prefer to glaze your own piece\, you may opt to do that for a half-price drop-in fee of $8; please ask your instructor if you are interested in this add-on.
URL:https://alpineartscenter.org/event/cocktails-clay-10/
LOCATION:Vail Public Library\, 292 W Meadow Dr\, Vail\, CO\, 81657\, United States
ATTACH;FMTTYPE=image/jpeg:https://alpineartscenter.org/wp-content/uploads/2021/05/aspen_vases-736.jpg
END:VEVENT
BEGIN:VEVENT
DTSTART;TZID=America/Denver:20220102T140000
DTEND;TZID=America/Denver:20220102T153000
DTSTAMP:20260424T023658
CREATED:20211111T193930Z
LAST-MODIFIED:20211111T193930Z
UID:10000251-1641132000-1641137400@alpineartscenter.org
SUMMARY:Cupcakes & Canvas
DESCRIPTION:Register Now! \nVail Fireworks Painting \nSunday\, January 2nd @ 3pm
URL:https://alpineartscenter.org/event/cupcakes-canvas-11/
LOCATION:Vail Public Library\, 292 W Meadow Dr\, Vail\, CO\, 81657\, United States
ATTACH;FMTTYPE=image/png:https://alpineartscenter.org/wp-content/uploads/2021/06/Vail-Fireworks.png
END:VEVENT
END:VCALENDAR