BEGIN:VCALENDAR
VERSION:2.0
PRODID:-//Alpine Arts Center - ECPv6.15.11//NONSGML v1.0//EN
CALSCALE:GREGORIAN
METHOD:PUBLISH
X-WR-CALNAME:Alpine Arts Center
X-ORIGINAL-URL:https://alpineartscenter.org
X-WR-CALDESC:Events for Alpine Arts Center
REFRESH-INTERVAL;VALUE=DURATION:PT1H
X-Robots-Tag:noindex
X-PUBLISHED-TTL:PT1H
BEGIN:VTIMEZONE
TZID:America/Denver
BEGIN:DAYLIGHT
TZOFFSETFROM:-0700
TZOFFSETTO:-0600
TZNAME:MDT
DTSTART:20210314T090000
END:DAYLIGHT
BEGIN:STANDARD
TZOFFSETFROM:-0600
TZOFFSETTO:-0700
TZNAME:MST
DTSTART:20211107T080000
END:STANDARD
BEGIN:DAYLIGHT
TZOFFSETFROM:-0700
TZOFFSETTO:-0600
TZNAME:MDT
DTSTART:20220313T090000
END:DAYLIGHT
BEGIN:STANDARD
TZOFFSETFROM:-0600
TZOFFSETTO:-0700
TZNAME:MST
DTSTART:20221106T080000
END:STANDARD
BEGIN:DAYLIGHT
TZOFFSETFROM:-0700
TZOFFSETTO:-0600
TZNAME:MDT
DTSTART:20230312T090000
END:DAYLIGHT
BEGIN:STANDARD
TZOFFSETFROM:-0600
TZOFFSETTO:-0700
TZNAME:MST
DTSTART:20231105T080000
END:STANDARD
END:VTIMEZONE
BEGIN:VEVENT
DTSTART;TZID=America/Denver:20220703T140000
DTEND;TZID=America/Denver:20220703T153000
DTSTAMP:20260423T234535
CREATED:20220428T212552Z
LAST-MODIFIED:20220428T212552Z
UID:10000376-1656856800-1656862200@alpineartscenter.org
SUMMARY:Cupcakes & Canvas
DESCRIPTION:Register Now! \nVail Fireworks Painting \nSunday\, July 3rd @ 3pm
URL:https://alpineartscenter.org/event/cupcakes-canvas-19/
LOCATION:Vail Public Library\, 292 W Meadow Dr\, Vail\, CO\, 81657\, United States
ATTACH;FMTTYPE=image/png:https://alpineartscenter.org/wp-content/uploads/2021/06/Vail-Fireworks.png
END:VEVENT
BEGIN:VEVENT
DTSTART;TZID=America/Denver:20220629T173000
DTEND;TZID=America/Denver:20220629T193000
DTSTAMP:20260423T234535
CREATED:20220318T163951Z
LAST-MODIFIED:20220318T163951Z
UID:10000371-1656523800-1656531000@alpineartscenter.org
SUMMARY:Cocktails & Canvas
DESCRIPTION:Register Now! \nLittle Red Barn Painting \nWednesday\, June 29th @ 6:30pm
URL:https://alpineartscenter.org/event/cocktails-canvas-32/
LOCATION:Vail Public Library\, 292 W Meadow Dr\, Vail\, CO\, 81657\, United States
ATTACH;FMTTYPE=image/jpeg:https://alpineartscenter.org/wp-content/uploads/2021/06/Little-Red-Barn.jpg
END:VEVENT
BEGIN:VEVENT
DTSTART;TZID=America/Denver:20220625T173000
DTEND;TZID=America/Denver:20220625T193000
DTSTAMP:20260423T234535
CREATED:20220318T164354Z
LAST-MODIFIED:20220318T164354Z
UID:10000372-1656178200-1656185400@alpineartscenter.org
SUMMARY:Cocktails & Canvas
DESCRIPTION:Register Now! \nBack Bowls Landscape \nSaturday\, June 25th @ 6:30pm
URL:https://alpineartscenter.org/event/cocktails-canvas-33/
LOCATION:Vail Public Library\, 292 W Meadow Dr\, Vail\, CO\, 81657\, United States
ATTACH;FMTTYPE=image/jpeg:https://alpineartscenter.org/wp-content/uploads/2021/05/BackBowls-765.jpg
END:VEVENT
BEGIN:VEVENT
DTSTART;TZID=America/Denver:20220619T140000
DTEND;TZID=America/Denver:20220619T153000
DTSTAMP:20260423T234535
CREATED:20220318T174935Z
LAST-MODIFIED:20220318T174935Z
UID:10000266-1655647200-1655652600@alpineartscenter.org
SUMMARY:Cupcakes & Canvas
DESCRIPTION:Register Now! \nVail Summer Trail Map Painting \nSunday\, June 19th @ 3pm \n 
URL:https://alpineartscenter.org/event/cupcakes-canvas-18/
LOCATION:Vail Public Library\, 292 W Meadow Dr\, Vail\, CO\, 81657\, United States
ATTACH;FMTTYPE=image/jpeg:https://alpineartscenter.org/wp-content/uploads/2021/05/Summer-Trail-Map.jpeg
END:VEVENT
BEGIN:VEVENT
DTSTART;TZID=America/Denver:20220615T173000
DTEND;TZID=America/Denver:20220615T193000
DTSTAMP:20260423T234535
CREATED:20220318T162400Z
LAST-MODIFIED:20220318T181420Z
UID:10000369-1655314200-1655321400@alpineartscenter.org
SUMMARY:Cocktails & Clay
DESCRIPTION:Register Now! \nSculpt Your Pet \nWednesday\, June 15th @ 6:30pm \nYour clay class includes all materials\, instruction\, and firing/glazing based on a set glaze for the entire class. Projects will be ready to pick up approximately 2 weeks later\, or shipping can be arranged at an additional fee. After your piece has been kiln fired once\, you can come into the studio to glaze your pet for no additional fee.
URL:https://alpineartscenter.org/event/cocktails-clay-17/
LOCATION:Vail Public Library\, 292 W Meadow Dr\, Vail\, CO\, 81657\, United States
ATTACH;FMTTYPE=image/png:https://alpineartscenter.org/wp-content/uploads/2021/05/sculptyourpet-1082.png
END:VEVENT
BEGIN:VEVENT
DTSTART;TZID=America/Denver:20220611T173000
DTEND;TZID=America/Denver:20220611T193000
DTSTAMP:20260423T234535
CREATED:20220318T162902Z
LAST-MODIFIED:20220318T162954Z
UID:10000370-1654968600-1654975800@alpineartscenter.org
SUMMARY:Cocktails & Canvas
DESCRIPTION:Register Now! \nMountain Landscape on Wood \nSaturday\, June 11th @ 6:30pm
URL:https://alpineartscenter.org/event/cocktails-canvas-31/
LOCATION:Vail Public Library\, 292 W Meadow Dr\, Vail\, CO\, 81657\, United States
ATTACH;FMTTYPE=image/jpeg:https://alpineartscenter.org/wp-content/uploads/2021/05/mountainsonwood-scaled.jpg
END:VEVENT
BEGIN:VEVENT
DTSTART;TZID=America/Denver:20220605T140000
DTEND;TZID=America/Denver:20220605T153000
DTSTAMP:20260423T234535
CREATED:20220318T173139Z
LAST-MODIFIED:20220318T173139Z
UID:10000265-1654437600-1654443000@alpineartscenter.org
SUMMARY:Cupcakes & Canvas
DESCRIPTION:Register Now! \nCampfire Glow Painting \nSunday\, June 5th @ 3pm
URL:https://alpineartscenter.org/event/cupcakes-canvas-17/
LOCATION:Vail Public Library\, 292 W Meadow Dr\, Vail\, CO\, 81657\, United States
ATTACH;FMTTYPE=image/jpeg:https://alpineartscenter.org/wp-content/uploads/2021/05/campfire_glow-574.jpg
END:VEVENT
BEGIN:VEVENT
DTSTART;TZID=America/Denver:20220601T173000
DTEND;TZID=America/Denver:20220601T193000
DTSTAMP:20260423T234535
CREATED:20220318T161934Z
LAST-MODIFIED:20220318T161934Z
UID:10000368-1654104600-1654111800@alpineartscenter.org
SUMMARY:Cocktails & Canvas
DESCRIPTION:Register Now! \nSummer Path Landscape \nWednesday\, June 1st @ 6:30pm
URL:https://alpineartscenter.org/event/cocktails-canvas-30/
LOCATION:Vail Public Library\, 292 W Meadow Dr\, Vail\, CO\, 81657\, United States
ATTACH;FMTTYPE=image/jpeg:https://alpineartscenter.org/wp-content/uploads/2021/05/summerpath-707.jpg
END:VEVENT
BEGIN:VEVENT
DTSTART;TZID=America/Denver:20220528T173000
DTEND;TZID=America/Denver:20220528T193000
DTSTAMP:20260423T234535
CREATED:20220317T215335Z
LAST-MODIFIED:20220317T215335Z
UID:10000367-1653759000-1653766200@alpineartscenter.org
SUMMARY:Cocktails & Canvas
DESCRIPTION:Register Now! \nElk at Dusk Painting \nSaturday\, May 28th @ 6:30pm
URL:https://alpineartscenter.org/event/cocktails-canvas-29/
LOCATION:Vail Public Library\, 292 W Meadow Dr\, Vail\, CO\, 81657\, United States
ATTACH;FMTTYPE=image/jpeg:https://alpineartscenter.org/wp-content/uploads/2021/05/ElkatDusk-scaled.jpg
END:VEVENT
BEGIN:VEVENT
DTSTART;TZID=America/Denver:20220522T140000
DTEND;TZID=America/Denver:20220522T153000
DTSTAMP:20260423T234535
CREATED:20220318T171811Z
LAST-MODIFIED:20220318T181643Z
UID:10000264-1653228000-1653233400@alpineartscenter.org
SUMMARY:Cupcakes & Clay
DESCRIPTION:Register Now! \nAspen Mug \nSunday\, May 22nd @ 3pm \nYour clay class includes all materials\, instruction\, and firing/glazing based on a set glaze for the entire class. Projects will be ready to pick up approximately 2 weeks later\, or shipping can be arranged at an additional fee. If you prefer to glaze your own piece\, you may opt to do that for a half-price drop-in fee of $8; please ask your instructor if you are interested in this add-on.
URL:https://alpineartscenter.org/event/cupcakes-clay-8/
LOCATION:Vail Public Library\, 292 W Meadow Dr\, Vail\, CO\, 81657\, United States
ATTACH;FMTTYPE=image/jpeg:https://alpineartscenter.org/wp-content/uploads/2021/05/aspen_mug-732.jpg
END:VEVENT
BEGIN:VEVENT
DTSTART;TZID=America/Denver:20220518T173000
DTEND;TZID=America/Denver:20220518T193000
DTSTAMP:20260423T234535
CREATED:20220317T214251Z
LAST-MODIFIED:20220317T214251Z
UID:10000366-1652895000-1652902200@alpineartscenter.org
SUMMARY:Cocktails & Canvas
DESCRIPTION:Register Now! \nSpring Bear Painting \nWednesday\, May 18th @ 6:30pm
URL:https://alpineartscenter.org/event/cocktails-canvas-28/
LOCATION:Vail Public Library\, 292 W Meadow Dr\, Vail\, CO\, 81657\, United States
ATTACH;FMTTYPE=image/jpeg:https://alpineartscenter.org/wp-content/uploads/2021/05/springbear-1074.jpg
END:VEVENT
BEGIN:VEVENT
DTSTART;TZID=America/Denver:20220514T173000
DTEND;TZID=America/Denver:20220514T193000
DTSTAMP:20260423T234535
CREATED:20220317T195219Z
LAST-MODIFIED:20220318T180552Z
UID:10000365-1652549400-1652556600@alpineartscenter.org
SUMMARY:Cocktails & Clay
DESCRIPTION:Register Now! \nCeramic Aspen Vases \nSaturday\, May 14th \nYour clay class includes all materials\, instruction\, and firing/glazing based on a set glaze for the entire class. Projects will be ready to pick up approximately 2 weeks later\, or shipping can be arranged at an additional fee. If you prefer to glaze your own piece\, you may opt to do that for a half-price drop-in fee of $8; please ask your instructor if you are interested in this add-on.
URL:https://alpineartscenter.org/event/cocktails-clay-16/
LOCATION:Vail Public Library\, 292 W Meadow Dr\, Vail\, CO\, 81657\, United States
ATTACH;FMTTYPE=image/jpeg:https://alpineartscenter.org/wp-content/uploads/2021/05/aspen_vases-736.jpg
END:VEVENT
BEGIN:VEVENT
DTSTART;TZID=America/Denver:20220508T140000
DTEND;TZID=America/Denver:20220508T153000
DTSTAMP:20260423T234535
CREATED:20220318T170015Z
LAST-MODIFIED:20220330T171830Z
UID:10000373-1652018400-1652023800@alpineartscenter.org
SUMMARY:Mother's Day Cupcakes & Canvas
DESCRIPTION:Register Now! \nSwirly Trees Painting \nSunday\, May 8th @ 3pm \nServing Mother’s Day Mimosas all day for $5\, and all moms receive their first mimosa for free!
URL:https://alpineartscenter.org/event/cupcakes-canvas-16/
LOCATION:Vail Public Library\, 292 W Meadow Dr\, Vail\, CO\, 81657\, United States
ATTACH;FMTTYPE=image/jpeg:https://alpineartscenter.org/wp-content/uploads/2021/05/Swirly_Trees-795.jpg
END:VEVENT
BEGIN:VEVENT
DTSTART;TZID=America/Denver:20220504T173000
DTEND;TZID=America/Denver:20220504T200000
DTSTAMP:20260423T234535
CREATED:20220317T194554Z
LAST-MODIFIED:20220318T181521Z
UID:10000364-1651685400-1651694400@alpineartscenter.org
SUMMARY:Paint Your Pet!
DESCRIPTION:Register Now! \nPaint Your Pet \nWednesday\, May 4th @ 6:30pm \nBe sure to email us a photo of your pet 48 hours in advance so we can transfer your photo onto canvas! Email photo to: info@alpineartscenter.org
URL:https://alpineartscenter.org/event/paint-your-pet-3/
LOCATION:Vail Public Library\, 292 W Meadow Dr\, Vail\, CO\, 81657\, United States
ATTACH;FMTTYPE=image/jpeg:https://alpineartscenter.org/wp-content/uploads/2021/05/animal-portrait.jpg
END:VEVENT
BEGIN:VEVENT
DTSTART;TZID=America/Denver:20220430T173000
DTEND;TZID=America/Denver:20220430T193000
DTSTAMP:20260423T234535
CREATED:20220220T195017Z
LAST-MODIFIED:20220220T195017Z
UID:10000261-1651339800-1651347000@alpineartscenter.org
SUMMARY:Cocktails & Canvas
DESCRIPTION:Register Now! \nWildflower Forest Painting \nSaturday\, April 30th @ 6:30pm
URL:https://alpineartscenter.org/event/cocktails-canvas-27/
LOCATION:Vail Public Library\, 292 W Meadow Dr\, Vail\, CO\, 81657\, United States
ATTACH;FMTTYPE=image/jpeg:https://alpineartscenter.org/wp-content/uploads/2021/05/Wildflower_Forrest-774.jpg
END:VEVENT
BEGIN:VEVENT
DTSTART;TZID=America/Denver:20220424T140000
DTEND;TZID=America/Denver:20220424T153000
DTSTAMP:20260423T234535
CREATED:20220220T200421Z
LAST-MODIFIED:20220220T200421Z
UID:10000263-1650808800-1650814200@alpineartscenter.org
SUMMARY:Cupcakes & Canvas
DESCRIPTION:Register Now! \nAnimal Silhouettes On Wood \nSunday\, April 24th @ 3pm
URL:https://alpineartscenter.org/event/cupcakes-canvas-15/
LOCATION:Vail Public Library\, 292 W Meadow Dr\, Vail\, CO\, 81657\, United States
ATTACH;FMTTYPE=image/jpeg:https://alpineartscenter.org/wp-content/uploads/2021/05/animal_silhouette_on_wood.jpg
END:VEVENT
BEGIN:VEVENT
DTSTART;TZID=America/Denver:20220423T150000
DTEND;TZID=America/Denver:20220423T170000
DTSTAMP:20260423T234535
CREATED:20220327T203229Z
LAST-MODIFIED:20220424T193029Z
UID:10000267-1650726000-1650733200@alpineartscenter.org
SUMMARY:Town of Vail Art Series: Trail Map Coaster Painting
DESCRIPTION:Register Now! \nDiscounted Art Class: Coaster Creations \nSaturday\, April 23rd @ 4-6pm \nAlpine Arts Center hosts a discounted class in Vail at Vail Recreation District! (Located on 2nd floor above Lionshead Welcome Center) \nCome personalize wood coasters with trail maps or freehand and create something on your own! All materials & step-by-step instruction will be provided. Alpine Arts Center is excited to offer art programs in partnership with the Town of Vail for a discounted price of $25 per person! Events are fun\, social\, and open to all ages unless otherwise noted (children should be accompanied by a participating adult).
URL:https://alpineartscenter.org/event/town-of-vail-art-series-trail-map-coaster-painting/
LOCATION:Vail Public Library\, 292 W Meadow Dr\, Vail\, CO\, 81657\, United States
ATTACH;FMTTYPE=image/jpeg:https://alpineartscenter.org/wp-content/uploads/2022/03/mapcoasters-1-scaled.jpg
END:VEVENT
BEGIN:VEVENT
DTSTART;TZID=America/Denver:20220420T173000
DTEND;TZID=America/Denver:20220420T193000
DTSTAMP:20260423T234535
CREATED:20220220T193038Z
LAST-MODIFIED:20220220T193038Z
UID:10000260-1650475800-1650483000@alpineartscenter.org
SUMMARY:Cocktails & Clay
DESCRIPTION:Register Now! \nCeramic Aspen Mug Set \nWednesday\, April 20th @ 6:30pm \nYour clay class includes all materials\, instruction\, and firing/glazing based on a set glaze for the entire class. Projects will be ready to pick up approximately 2 weeks later\, or shipping can be arranged at an additional fee. If you prefer to glaze your own piece\, you may opt to do that for a half-price drop-in fee of $8; please ask your instructor if you are interested in this add-on.
URL:https://alpineartscenter.org/event/cocktails-clay-15/
LOCATION:Vail Public Library\, 292 W Meadow Dr\, Vail\, CO\, 81657\, United States
ATTACH;FMTTYPE=image/jpeg:https://alpineartscenter.org/wp-content/uploads/2021/05/aspen_mug-732.jpg
END:VEVENT
BEGIN:VEVENT
DTSTART;TZID=America/Denver:20220416T173000
DTEND;TZID=America/Denver:20220416T193000
DTSTAMP:20260423T234535
CREATED:20220220T192150Z
LAST-MODIFIED:20220220T195315Z
UID:10000259-1650130200-1650137400@alpineartscenter.org
SUMMARY:Cocktails & Canvas
DESCRIPTION:Register Now! \nSunset Over Gore Range \nSaturday\, April 16th @ 6:30pm
URL:https://alpineartscenter.org/event/cocktails-clay-14/
LOCATION:Vail Public Library\, 292 W Meadow Dr\, Vail\, CO\, 81657\, United States
ATTACH;FMTTYPE=image/jpeg:https://alpineartscenter.org/wp-content/uploads/2021/06/IMG_3243-scaled.jpg
END:VEVENT
BEGIN:VEVENT
DTSTART;TZID=America/Denver:20220410T140000
DTEND;TZID=America/Denver:20220410T153000
DTSTAMP:20260423T234535
CREATED:20220220T195825Z
LAST-MODIFIED:20220220T195825Z
UID:10000262-1649599200-1649604600@alpineartscenter.org
SUMMARY:Cupcakes & Clay
DESCRIPTION:Register Now! \nCeramic Wall Hanging Heart Planter \nSunday\, April 10th @ 3pm \nYour clay class includes all materials\, instruction\, and firing/glazing based on a set glaze for the entire class. Projects will be ready to pick up approximately 2 weeks later\, or shipping can be arranged at an additional fee. If you prefer to glaze your own piece\, you may opt to do that for a half-price drop-in fee of $8; please ask your instructor if you are interested in this add-on.
URL:https://alpineartscenter.org/event/cupcakes-clay-7/
LOCATION:Vail Public Library\, 292 W Meadow Dr\, Vail\, CO\, 81657\, United States
ATTACH;FMTTYPE=image/jpeg:https://alpineartscenter.org/wp-content/uploads/2021/05/HeartPlanter-770.jpg
END:VEVENT
BEGIN:VEVENT
DTSTART;TZID=America/Denver:20220406T173000
DTEND;TZID=America/Denver:20220406T193000
DTSTAMP:20260423T234535
CREATED:20220220T191809Z
LAST-MODIFIED:20220220T191809Z
UID:10000258-1649266200-1649273400@alpineartscenter.org
SUMMARY:Cocktails & Canvas
DESCRIPTION:Register Now! \nSpring Fever Painting \nWednesday\, April 6th @ 6:30pm
URL:https://alpineartscenter.org/event/cocktails-canvas-26/
LOCATION:Vail Public Library\, 292 W Meadow Dr\, Vail\, CO\, 81657\, United States
ATTACH;FMTTYPE=image/png:https://alpineartscenter.org/wp-content/uploads/2022/02/Spring-Fever.png
END:VEVENT
BEGIN:VEVENT
DTSTART;TZID=America/Denver:20220402T173000
DTEND;TZID=America/Denver:20220402T193000
DTSTAMP:20260423T234535
CREATED:20220220T190420Z
LAST-MODIFIED:20220220T193531Z
UID:10000257-1648920600-1648927800@alpineartscenter.org
SUMMARY:Cocktails & Canvas
DESCRIPTION:Register Now! \nAspen Meadow \nSaturday\, April 2nd @ 6:30pm \n 
URL:https://alpineartscenter.org/event/cocktails-canvas-25/
LOCATION:Vail Public Library\, 292 W Meadow Dr\, Vail\, CO\, 81657\, United States
ATTACH;FMTTYPE=image/jpeg:https://alpineartscenter.org/wp-content/uploads/2021/05/AspenMeadow-764.jpg
END:VEVENT
BEGIN:VEVENT
DTSTART;TZID=America/Denver:20220327T140000
DTEND;TZID=America/Denver:20220327T153000
DTSTAMP:20260423T234535
CREATED:20220109T233807Z
LAST-MODIFIED:20220109T233807Z
UID:10000358-1648389600-1648395000@alpineartscenter.org
SUMMARY:Cupcakes & Clay
DESCRIPTION:Register Now! \nCeramic Aspen Vase Making \nSunday\, March 27th @ 3pm \nYour clay class includes all materials\, instruction\, and firing/glazing. Projects will be ready to pick up approximately 2 weeks later\, or shipping can be arranged at an additional fee. Pieces will take approximately one week for the first firing\, and the glazing drop-in is covered in this class.
URL:https://alpineartscenter.org/event/cupcakes-clay-6/
LOCATION:Vail Public Library\, 292 W Meadow Dr\, Vail\, CO\, 81657\, United States
ATTACH;FMTTYPE=image/jpeg:https://alpineartscenter.org/wp-content/uploads/2021/05/aspen_flower_Small-714.jpg
END:VEVENT
BEGIN:VEVENT
DTSTART;TZID=America/Denver:20220323T173000
DTEND;TZID=America/Denver:20220323T193000
DTSTAMP:20260423T234535
CREATED:20220109T235221Z
LAST-MODIFIED:20220109T235221Z
UID:10000255-1648056600-1648063800@alpineartscenter.org
SUMMARY:Cocktails & Canvas
DESCRIPTION:Register Now! \nMountain Love Landscape Painting \nWednesday\, March 23rd @ 6:30pm
URL:https://alpineartscenter.org/event/cocktails-canvas-24/
LOCATION:Vail Public Library\, 292 W Meadow Dr\, Vail\, CO\, 81657\, United States
ATTACH;FMTTYPE=image/jpeg:https://alpineartscenter.org/wp-content/uploads/2021/05/Mountain_Love-777.jpg
END:VEVENT
BEGIN:VEVENT
DTSTART;TZID=America/Denver:20220319T173000
DTEND;TZID=America/Denver:20220319T193000
DTSTAMP:20260423T234535
CREATED:20220109T233153Z
LAST-MODIFIED:20220109T233153Z
UID:10000356-1647711000-1647718200@alpineartscenter.org
SUMMARY:Cocktails & Clay
DESCRIPTION:Register Now! \nCeramic Tray Class! \nSaturday\, March 19th @ 6:30pm \nYour clay class includes all materials\, instruction\, and firing/glazing based on a set glaze for the entire class. Projects will be ready to pick up approximately 2 weeks later\, or shipping can be arranged at an additional fee. If you prefer to glaze your own piece\, you may opt to do that for a half-price drop-in fee of $8; please ask your instructor if you are interested in this add-on.
URL:https://alpineartscenter.org/event/cocktails-clay-13/
LOCATION:Vail Public Library\, 292 W Meadow Dr\, Vail\, CO\, 81657\, United States
ATTACH;FMTTYPE=image/jpeg:https://alpineartscenter.org/wp-content/uploads/2021/05/set-of-leaf-platters.jpg
END:VEVENT
BEGIN:VEVENT
DTSTART;TZID=America/Denver:20220313T140000
DTEND;TZID=America/Denver:20220313T153000
DTSTAMP:20260423T234535
CREATED:20220109T234947Z
LAST-MODIFIED:20220109T234947Z
UID:10000254-1647180000-1647185400@alpineartscenter.org
SUMMARY:Cupcakes & Canvas
DESCRIPTION:Register Now! \nColorado Flag Landscape Painting \nSunday\, March 13th @ 3pm
URL:https://alpineartscenter.org/event/cupcakes-canvas-14/
LOCATION:Vail Public Library\, 292 W Meadow Dr\, Vail\, CO\, 81657\, United States
ATTACH;FMTTYPE=image/jpeg:https://alpineartscenter.org/wp-content/uploads/2021/06/colorado-flag-landscape.jpg
END:VEVENT
BEGIN:VEVENT
DTSTART;TZID=America/Denver:20220309T173000
DTEND;TZID=America/Denver:20220309T193000
DTSTAMP:20260423T234535
CREATED:20220109T234703Z
LAST-MODIFIED:20220109T234703Z
UID:10000363-1646847000-1646854200@alpineartscenter.org
SUMMARY:Cocktails & Canvas
DESCRIPTION:Register Now! \nAcrylic Paint Pouring \nWednesday\, March 9th @ 6:30pm
URL:https://alpineartscenter.org/event/cocktails-canvas-23/
LOCATION:Vail Public Library\, 292 W Meadow Dr\, Vail\, CO\, 81657\, United States
ATTACH;FMTTYPE=image/jpeg:https://alpineartscenter.org/wp-content/uploads/2021/05/acyrlic_paint_pouring.jpg
END:VEVENT
BEGIN:VEVENT
DTSTART;TZID=America/Denver:20220305T173000
DTEND;TZID=America/Denver:20220305T193000
DTSTAMP:20260423T234535
CREATED:20220109T234338Z
LAST-MODIFIED:20220109T235501Z
UID:10000360-1646501400-1646508600@alpineartscenter.org
SUMMARY:Cocktails & Canvas
DESCRIPTION:Register Now! \nMt. Holy Cross Painting \nSaturday\, March 5th @ 6:30pm
URL:https://alpineartscenter.org/event/cocktails-canvas-22/
LOCATION:Vail Public Library\, 292 W Meadow Dr\, Vail\, CO\, 81657\, United States
ATTACH;FMTTYPE=image/jpeg:https://alpineartscenter.org/wp-content/uploads/2021/06/Mount-Holy-Cross-scaled.jpg
END:VEVENT
BEGIN:VEVENT
DTSTART;TZID=America/Denver:20220227T140000
DTEND;TZID=America/Denver:20220227T153000
DTSTAMP:20260423T234535
CREATED:20211201T224148Z
LAST-MODIFIED:20211201T224148Z
UID:10000346-1645970400-1645975800@alpineartscenter.org
SUMMARY:Cupcakes & Clay
DESCRIPTION:Register Now! \nCeramic Antler Mug \nSunday\, February 27th – 3pm \nYour clay class includes cupcakes\, all materials\, instruction\, and firing/glazing based on a set glaze for the entire class. Projects will be ready to pick up approximately 2 weeks later\, or shipping can be arranged at an additional fee. If you prefer to glaze your own piece\, you may opt to do that for a half-price drop-in fee of $8; please ask your instructor if you are interested in this add-on.
URL:https://alpineartscenter.org/event/cupcakes-clay-5/
LOCATION:Vail Public Library\, 292 W Meadow Dr\, Vail\, CO\, 81657\, United States
ATTACH;FMTTYPE=image/png:https://alpineartscenter.org/wp-content/uploads/2021/12/antlermug.png
END:VEVENT
BEGIN:VEVENT
DTSTART;TZID=America/Denver:20220223T173000
DTEND;TZID=America/Denver:20220223T200000
DTSTAMP:20260423T234535
CREATED:20211201T234500Z
LAST-MODIFIED:20211201T234500Z
UID:10000354-1645637400-1645646400@alpineartscenter.org
SUMMARY:Paint Your Pet!
DESCRIPTION:Register Now! \nPainted Pet Portraits \nWednesday\, February 23rd – 6:30pm \nPlease email your pet photo to info@alpineartscenter.org after registering so we can have it drawn on your canvas upon arrival. A headshot of your pet is easiest\, but a full body is ok too! A clear image with good lighting will make things easiest!\nDisclaimer: This class is open to all levels\, but it is a little more challenging than our standard classes because everyone’s pet is unique. If this is your first time painting you may want to consider a traditional Cocktails & Canvas class first\, but if you are up for a challenge we are happy to have you join in!
URL:https://alpineartscenter.org/event/paint-your-pet-2/
LOCATION:Vail Public Library\, 292 W Meadow Dr\, Vail\, CO\, 81657\, United States
ATTACH;FMTTYPE=image/jpeg:https://alpineartscenter.org/wp-content/uploads/2021/05/animal_portrait-571.jpg
END:VEVENT
END:VCALENDAR