BEGIN:VCALENDAR
VERSION:2.0
PRODID:-//Alpine Arts Center - ECPv6.15.11//NONSGML v1.0//EN
CALSCALE:GREGORIAN
METHOD:PUBLISH
X-ORIGINAL-URL:https://alpineartscenter.org
X-WR-CALDESC:Events for Alpine Arts Center
REFRESH-INTERVAL;VALUE=DURATION:PT1H
X-Robots-Tag:noindex
X-PUBLISHED-TTL:PT1H
BEGIN:VTIMEZONE
TZID:America/Denver
BEGIN:DAYLIGHT
TZOFFSETFROM:-0700
TZOFFSETTO:-0600
TZNAME:MDT
DTSTART:20210314T090000
END:DAYLIGHT
BEGIN:STANDARD
TZOFFSETFROM:-0600
TZOFFSETTO:-0700
TZNAME:MST
DTSTART:20211107T080000
END:STANDARD
BEGIN:DAYLIGHT
TZOFFSETFROM:-0700
TZOFFSETTO:-0600
TZNAME:MDT
DTSTART:20220313T090000
END:DAYLIGHT
BEGIN:STANDARD
TZOFFSETFROM:-0600
TZOFFSETTO:-0700
TZNAME:MST
DTSTART:20221106T080000
END:STANDARD
BEGIN:DAYLIGHT
TZOFFSETFROM:-0700
TZOFFSETTO:-0600
TZNAME:MDT
DTSTART:20230312T090000
END:DAYLIGHT
BEGIN:STANDARD
TZOFFSETFROM:-0600
TZOFFSETTO:-0700
TZNAME:MST
DTSTART:20231105T080000
END:STANDARD
END:VTIMEZONE
BEGIN:VEVENT
DTSTART;TZID=America/Denver:20221113T140000
DTEND;TZID=America/Denver:20221113T153000
DTSTAMP:20260423T200735
CREATED:20220904T173102Z
LAST-MODIFIED:20220904T173102Z
UID:10000395-1668348000-1668353400@alpineartscenter.org
SUMMARY:Cupcakes & Canvas
DESCRIPTION:Register Now! \nAnimal Silhouettes on Wood \nSunday\, November 13th 3-4:30 pm
URL:https://alpineartscenter.org/event/cupcakes-canvas-25/
LOCATION:Vail Public Library\, 292 W Meadow Dr\, Vail\, CO\, 81657\, United States
ATTACH;FMTTYPE=image/jpeg:https://alpineartscenter.org/wp-content/uploads/2021/05/animal_silhouette_on_wood.jpg
END:VEVENT
BEGIN:VEVENT
DTSTART;TZID=America/Denver:20221109T173000
DTEND;TZID=America/Denver:20221109T193000
DTSTAMP:20260423T200735
CREATED:20220904T171326Z
LAST-MODIFIED:20220904T171326Z
UID:10000391-1668015000-1668022200@alpineartscenter.org
SUMMARY:Sip & String Art
DESCRIPTION:Register Now! \nMountain String Art \nWednesday\, November 9th  6:30-8:30 pm
URL:https://alpineartscenter.org/event/sip-string-art-2/
LOCATION:Vail Public Library\, 292 W Meadow Dr\, Vail\, CO\, 81657\, United States
ATTACH;FMTTYPE=image/jpeg:https://alpineartscenter.org/wp-content/uploads/2021/05/stringart-1086.jpg
END:VEVENT
BEGIN:VEVENT
DTSTART;TZID=America/Denver:20221105T173000
DTEND;TZID=America/Denver:20221105T193000
DTSTAMP:20260423T200735
CREATED:20220904T171524Z
LAST-MODIFIED:20220904T171524Z
UID:10000392-1667669400-1667676600@alpineartscenter.org
SUMMARY:Cocktails & Canvas
DESCRIPTION:Register Now! \nFall Pumpkin Painting \nSaturday\, November 5th 6:30-8:30 pm
URL:https://alpineartscenter.org/event/cocktails-canvas-43/
LOCATION:Vail Public Library\, 292 W Meadow Dr\, Vail\, CO\, 81657\, United States
ATTACH;FMTTYPE=image/jpeg:https://alpineartscenter.org/wp-content/uploads/2021/05/fall_pumpkin-586.jpg
END:VEVENT
BEGIN:VEVENT
DTSTART;TZID=America/Denver:20221028T150000
DTEND;TZID=America/Denver:20221028T183000
DTSTAMP:20260423T200735
CREATED:20221016T201456Z
LAST-MODIFIED:20221020T170515Z
UID:10000404-1666969200-1666981800@alpineartscenter.org
SUMMARY:Pumpkin Carving Party
DESCRIPTION:Register Now! \nFriday. October 28th  –   Time slots: 4-5:30 pm & 6-7:30 pm \nJoin us for a night of candy\, carving & creativity! Bring in your pumpkin and we have the tools & templates to help you create your next jack-o-lantern! \nCome for the art\, stay for the boo’s!\nGrab a beer or glass of wine from our art bar during “witching hour” where we will have $4 glasses of beer\, wine & champagne!\nBYOP – Bring Your Own Pumpkin
URL:https://alpineartscenter.org/event/pumpkin-carving-party-2/
LOCATION:Vail Public Library\, 292 W Meadow Dr\, Vail\, CO\, 81657\, United States
ATTACH;FMTTYPE=image/jpeg:https://alpineartscenter.org/wp-content/uploads/2021/10/122960400_10157347468736744_5538799051722867010_n.jpg
END:VEVENT
BEGIN:VEVENT
DTSTART;TZID=America/Denver:20221026T173000
DTEND;TZID=America/Denver:20221026T193000
DTSTAMP:20260423T200735
CREATED:20220831T210840Z
LAST-MODIFIED:20220831T210840Z
UID:10000388-1666805400-1666812600@alpineartscenter.org
SUMMARY:Paint Your Pet!
DESCRIPTION:Register Now! \nPaint Your Pet \nWednesday\, October 26th 6:30-9 pm
URL:https://alpineartscenter.org/event/paint-your-pet-4/
LOCATION:Vail Public Library\, 292 W Meadow Dr\, Vail\, CO\, 81657\, United States
ATTACH;FMTTYPE=image/jpeg:https://alpineartscenter.org/wp-content/uploads/2021/05/animal-portrait.jpg
END:VEVENT
BEGIN:VEVENT
DTSTART;TZID=America/Denver:20221023T140000
DTEND;TZID=America/Denver:20221023T153000
DTSTAMP:20260423T200735
CREATED:20220831T211232Z
LAST-MODIFIED:20220831T211549Z
UID:10000389-1666533600-1666539000@alpineartscenter.org
SUMMARY:Cupcakes & Clay
DESCRIPTION:Register Now! \nCeramic Mug Making \nSunday\, October 23rd 3-4:30 pm \nYour clay class includes all materials\, instruction\, and firing/glazing based on a set glaze for the entire class. Projects will be ready to pick up approximately 2 weeks later\, or shipping can be arranged at an additional fee. If you prefer to glaze your own piece\, you may opt to do that for a half-price drop-in fee of $8; please ask your instructor if you are interested in this add-on.
URL:https://alpineartscenter.org/event/cupcakes-clay-11/
LOCATION:Vail Public Library\, 292 W Meadow Dr\, Vail\, CO\, 81657\, United States
ATTACH;FMTTYPE=image/jpeg:https://alpineartscenter.org/wp-content/uploads/2021/05/aspen_mug-732.jpg
END:VEVENT
BEGIN:VEVENT
DTSTART;TZID=America/Denver:20221023T120000
DTEND;TZID=America/Denver:20221023T140000
DTSTAMP:20260423T200735
CREATED:20221019T182549Z
LAST-MODIFIED:20221019T182549Z
UID:10000405-1666526400-1666533600@alpineartscenter.org
SUMMARY:Inktober Teen Pop-Up
DESCRIPTION:Calling all teen artists! Come for a drop-in to make your Inktober masterpieces and hang with your friends at our studio. \nWe’ll be creating right alongside you\, so come get to know us\, maybe learn a thing or two about drawing and make something amazing in the process. \nInktober is an event where artists create a pen-and-ink drawing every day in the month of October. Since its creation in 2009\, Inktober has become a beloved social media movement among artists\, and there’s been an official list of prompts since 2016. \nNo pre-registration required! For ages 11 and up. \nDon’t forget to tag us in your Inktober drawings on Instagram! @alpine_arts_center
URL:https://alpineartscenter.org/event/inktober-teen-pop-up/
LOCATION:Vail Public Library\, 292 W Meadow Dr\, Vail\, CO\, 81657\, United States
ATTACH;FMTTYPE=image/png:https://alpineartscenter.org/wp-content/uploads/2022/10/teen-square.png
END:VEVENT
BEGIN:VEVENT
DTSTART;TZID=America/Denver:20221022T173000
DTEND;TZID=America/Denver:20221022T193000
DTSTAMP:20260423T200735
CREATED:20220831T210104Z
LAST-MODIFIED:20220831T210104Z
UID:10000387-1666459800-1666467000@alpineartscenter.org
SUMMARY:Cocktails & Canvas
DESCRIPTION:Register Now! \nMount Holy Cross Painting \nSaturday\, October 22nd 6:30-8:30 pm \n 
URL:https://alpineartscenter.org/event/cocktails-canvas-42/
LOCATION:Vail Public Library\, 292 W Meadow Dr\, Vail\, CO\, 81657\, United States
ATTACH;FMTTYPE=image/png:https://alpineartscenter.org/wp-content/uploads/2021/06/Mount-Holy-Cross-zoomed-in.png
END:VEVENT
BEGIN:VEVENT
DTSTART;TZID=America/Denver:20221021T163000
DTEND;TZID=America/Denver:20221021T180000
DTSTAMP:20260423T200735
CREATED:20220920T181422Z
LAST-MODIFIED:20220922T223457Z
UID:10000399-1666369800-1666375200@alpineartscenter.org
SUMMARY:Bravo! Vail
DESCRIPTION:Register Now! \nBravo! Vail • French Themed Cocktails & Canvas \nThis adult-friendly event provides art materials and inspiration for participants to make Impressionist-style paintings while enjoying cocktails and discussion from a Bravo! Vail scholar on French art\, music\, history\, and culture. Admission is free\, but reservations are required. Please arrive 15 minutes early\, Beer/Wine is available for purchase at our Art Bar!
URL:https://alpineartscenter.org/event/register-now/
LOCATION:Vail Public Library\, 292 W Meadow Dr\, Vail\, CO\, 81657\, United States
ATTACH;FMTTYPE=image/jpeg:https://alpineartscenter.org/wp-content/uploads/2022/09/Bravo-Monet-Sample-scaled.jpg
END:VEVENT
BEGIN:VEVENT
DTSTART;TZID=America/Denver:20221018T150000
DTEND;TZID=America/Denver:20221018T163000
DTSTAMP:20260423T200735
CREATED:20220920T181038Z
LAST-MODIFIED:20220922T223602Z
UID:10000398-1666105200-1666110600@alpineartscenter.org
SUMMARY:Bravo! Vail
DESCRIPTION:Register Now! \n\n\nBravo! Vail • Mexican Ofrendas & Music \n\n\nOfrendas\, or altars\, are an essential part of the Day of the Dead celebrations in Mexico. This family-friendly workshop gives participants an opportunity to create their own ofrenda while learning about Mexican art\, music\, history\, and culture from a Bravo! Vail scholar. Admission is free\, but reservations are required. \n\n\nPlease bring 6 items of personal meaning to place in your shoebox altar. Please arrive 15 minutes early to get settled before the class begins. Beer/wine and non-alcoholic drinks will be available for purchase. \nRegister Now!
URL:https://alpineartscenter.org/event/bravovail-mexican-ofrendas-music/
LOCATION:Vail Public Library\, 292 W Meadow Dr\, Vail\, CO\, 81657\, United States
ATTACH;FMTTYPE=image/png:https://alpineartscenter.org/wp-content/uploads/2022/09/Bravo-Mexican-Alters-.png
END:VEVENT
BEGIN:VEVENT
DTSTART;TZID=America/Denver:20221012T173000
DTEND;TZID=America/Denver:20221012T193000
DTSTAMP:20260423T200735
CREATED:20220831T205529Z
LAST-MODIFIED:20220831T205529Z
UID:10000386-1665595800-1665603000@alpineartscenter.org
SUMMARY:Cocktails & Canvas
DESCRIPTION:Register Now! \nSerene Stream Landscape Painting \nWednesday\, October 12th 6:30-8:30pm
URL:https://alpineartscenter.org/event/cocktails-canvas-41/
LOCATION:Vail Public Library\, 292 W Meadow Dr\, Vail\, CO\, 81657\, United States
ATTACH;FMTTYPE=image/jpeg:https://alpineartscenter.org/wp-content/uploads/2021/05/serenestream-1085.jpeg
END:VEVENT
BEGIN:VEVENT
DTSTART;TZID=America/Denver:20221009T140000
DTEND;TZID=America/Denver:20221009T153000
DTSTAMP:20260423T200735
CREATED:20220831T211424Z
LAST-MODIFIED:20220831T211424Z
UID:10000390-1665324000-1665329400@alpineartscenter.org
SUMMARY:Cupcakes & Canvas
DESCRIPTION:Register Now! \nScarecrow Painting \nSunday\, October 9th 3-4:30 pm
URL:https://alpineartscenter.org/event/cupcakes-canvas-24/
LOCATION:Vail Public Library\, 292 W Meadow Dr\, Vail\, CO\, 81657\, United States
ATTACH;FMTTYPE=image/png:https://alpineartscenter.org/wp-content/uploads/2021/06/Scarecrow.png
END:VEVENT
BEGIN:VEVENT
DTSTART;TZID=America/Denver:20221008T173000
DTEND;TZID=America/Denver:20221008T193000
DTSTAMP:20260423T200735
CREATED:20220831T205113Z
LAST-MODIFIED:20220831T210155Z
UID:10000385-1665250200-1665257400@alpineartscenter.org
SUMMARY:Cocktails & Clay
DESCRIPTION:Register Now! \nSaturday\, October 8th 6:30-8:30pm \nYour clay class includes all materials\, instruction\, and firing/glazing based on a set glaze for the entire class. Projects will be ready to pick up approximately 2 weeks later\, or shipping can be arranged at an additional fee. If you prefer to glaze your own piece\, you may opt to do that for a half-price drop-in fee of $8; please ask your instructor if you are interested in this add-on.
URL:https://alpineartscenter.org/event/cocktails-clay-23/
LOCATION:Vail Public Library\, 292 W Meadow Dr\, Vail\, CO\, 81657\, United States
ATTACH;FMTTYPE=image/jpeg:https://alpineartscenter.org/wp-content/uploads/2021/05/aspen_vases-736.jpg
END:VEVENT
BEGIN:VEVENT
DTSTART;TZID=America/Denver:20221005T170000
DTEND;TZID=America/Denver:20221005T190000
DTSTAMP:20260423T200735
CREATED:20220927T164936Z
LAST-MODIFIED:20220927T164936Z
UID:10000402-1664989200-1664996400@alpineartscenter.org
SUMMARY:Inktober Potluck Parlay
DESCRIPTION:No registration required! \nWednesday\, October 5th\, 6-8 pm. \nCalling all artists! Come create your Inktober masterpieces and meet other local artists with us. \nBring an app or a dessert to share\, and we’ll have drinks. We’ll be creating right alongside you\, so come meet other local artists\, get to know us and make something amazing in the process. \nPlease arrive by 7 pm as a courtesy to our staff. \nInktober is an event where artists create a pen-and-ink drawing every day in the month of October. Since its creation in 2009\, Inktober has become a beloved social media movement among artists\, and there’s been an official list of prompts since 2016. \nDon’t forget to tag us in your Inktober drawings on Instagram! @alpine_arts_center
URL:https://alpineartscenter.org/event/inktober-potluck-parlay-2/
LOCATION:Vail Public Library\, 292 W Meadow Dr\, Vail\, CO\, 81657\, United States
ATTACH;FMTTYPE=image/png:https://alpineartscenter.org/wp-content/uploads/2022/09/2.png
END:VEVENT
BEGIN:VEVENT
DTSTART;TZID=America/Denver:20221001T130000
DTEND;TZID=America/Denver:20221001T170000
DTSTAMP:20260423T200735
CREATED:20220922T170002Z
LAST-MODIFIED:20220921T224133Z
UID:10000400-1664629200-1664643600@alpineartscenter.org
SUMMARY:Inktober Launch Party
DESCRIPTION:No registration required! \nSaturday\, October 1st\, 2-6 pm \nDrinks\, music\, fall hangout and drawing … is there anything better than that? \nInktober is an event where artists create a pen-and-ink drawing every day in the month of October. Since its creation in 2009\, Inktober has become a beloved social media movement among artists\, and there’s been an official list of prompts since 2016. \nInterested in taking on the challenge? Come join us for our Launch Party and official kick off. \nAt 2:30\, we’ll have a mini-lesson on drawing with pen and ink\, and our instructors will be available for supported drop-ins to help with techniques and questions until 6 pm. \nCome have a drink with us\, get into the Inktober spirit\, meet our talented instructors and become ~inspired~ for the creative month ahead! \nDon’t forget to tag us in your Inktober drawings on Instagram! @alpine_arts_center
URL:https://alpineartscenter.org/event/inktober-launch-party/
LOCATION:Vail Public Library\, 292 W Meadow Dr\, Vail\, CO\, 81657\, United States
ATTACH;FMTTYPE=image/png:https://alpineartscenter.org/wp-content/uploads/2022/09/1.png
END:VEVENT
BEGIN:VEVENT
DTSTART;TZID=America/Denver:20220928T173000
DTEND;TZID=America/Denver:20220928T193000
DTSTAMP:20260423T200735
CREATED:20220801T025125Z
LAST-MODIFIED:20220801T025125Z
UID:10000287-1664386200-1664393400@alpineartscenter.org
SUMMARY:Cocktails & Canvas
DESCRIPTION:Register Now! \nCocktails & Canvas: Fall Colors \nWednesday\, September 28th 6:30-8:30pm
URL:https://alpineartscenter.org/event/cocktails-canvas-40/
LOCATION:Vail Public Library\, 292 W Meadow Dr\, Vail\, CO\, 81657\, United States
ATTACH;FMTTYPE=image/jpeg:https://alpineartscenter.org/wp-content/uploads/2021/05/fall_colors-585.jpg
END:VEVENT
BEGIN:VEVENT
DTSTART;TZID=America/Denver:20220925T140000
DTEND;TZID=America/Denver:20220925T153000
DTSTAMP:20260423T200735
CREATED:20220801T031052Z
LAST-MODIFIED:20220801T031122Z
UID:10000291-1664114400-1664119800@alpineartscenter.org
SUMMARY:Cupcakes & Canvas
DESCRIPTION:Register Now! \nCupcakes & Canvas: Campfire Glow \nIncludes all materials & a cupcake! \nSunday\, September 25th 3 – 4:30 pm
URL:https://alpineartscenter.org/event/cupcakes-canvas-23/
LOCATION:Vail Public Library\, 292 W Meadow Dr\, Vail\, CO\, 81657\, United States
ATTACH;FMTTYPE=image/png:https://alpineartscenter.org/wp-content/uploads/2022/06/campfireglow.png
END:VEVENT
BEGIN:VEVENT
DTSTART;TZID=America/Denver:20220924T173000
DTEND;TZID=America/Denver:20220924T193000
DTSTAMP:20260423T200735
CREATED:20220801T024300Z
LAST-MODIFIED:20220801T033540Z
UID:10000283-1664040600-1664047800@alpineartscenter.org
SUMMARY:Wax & Wine
DESCRIPTION:Register Now! \nEncaustics (wax painting) \nSaturday\, September 24th 6:30-8:30pm \nLearn the art of wax painting and create 4 fine art prints/cards using wax and a craft iron. Sign up to try something new; no prior experience is necessary!
URL:https://alpineartscenter.org/event/wax-wine-2/
LOCATION:Vail Public Library\, 292 W Meadow Dr\, Vail\, CO\, 81657\, United States
ATTACH;FMTTYPE=image/jpeg:https://alpineartscenter.org/wp-content/uploads/2022/07/encaustics.jpeg
END:VEVENT
BEGIN:VEVENT
DTSTART;TZID=America/Denver:20220921T070000
DTEND;TZID=America/Denver:20220921T160000
DTSTAMP:20260423T200735
CREATED:20220922T170052Z
LAST-MODIFIED:20220921T224306Z
UID:10000401-1663743600-1663776000@alpineartscenter.org
SUMMARY:Inktober Potluck Parlay
DESCRIPTION:No registration required! \nWednesday\, October 5th\, 6-8 pm \nCalling all artists! Come create your Inktober masterpieces and meet other local artists with us. \nBring an app or a dessert to share\, and we’ll have drinks. We’ll be creating right alongside you\, so come meet other local artists\, get to know us and make something amazing in the process. \nPlease arrive by 7 pm as a courtesy to our staff. \nInktober is an event where artists create a pen-and-ink drawing every day in the month of October. Since its creation in 2009\, Inktober has become a beloved social media movement among artists\, and there’s been an official list of prompts since 2016. \nDon’t forget to tag us in your Inktober drawings on Instagram! @alpine_arts_center
URL:https://alpineartscenter.org/event/inktober-potluck-parlay/
LOCATION:Vail Public Library\, 292 W Meadow Dr\, Vail\, CO\, 81657\, United States
END:VEVENT
BEGIN:VEVENT
DTSTART;TZID=America/Denver:20220914T173000
DTEND;TZID=America/Denver:20220914T193000
DTSTAMP:20260423T200735
CREATED:20220801T024653Z
LAST-MODIFIED:20220801T033702Z
UID:10000285-1663176600-1663183800@alpineartscenter.org
SUMMARY:Cocktails & Clay
DESCRIPTION:Register Now! \nCocktails & Clay\, Aspen Leaf Platter \nWednesday\, September 14th 6:30-8:30pm \nYour clay class includes all materials\, instruction\, and firing/glazing based on a set glaze for the entire class. Projects will be ready to pick up approximately 2 weeks later\, or shipping can be arranged at an additional fee. If you prefer to glaze your own piece\, you may opt to do that for a half-price drop-in fee of $8; please ask your instructor if you are interested in this add-on.
URL:https://alpineartscenter.org/event/cocktails-clay-22/
LOCATION:Vail Public Library\, 292 W Meadow Dr\, Vail\, CO\, 81657\, United States
ATTACH;FMTTYPE=image/jpeg:https://alpineartscenter.org/wp-content/uploads/2021/05/aspen_platter-734.jpg
END:VEVENT
BEGIN:VEVENT
DTSTART;TZID=America/Denver:20220911T140000
DTEND;TZID=America/Denver:20220911T153000
DTSTAMP:20260423T200735
CREATED:20220801T030339Z
LAST-MODIFIED:20220801T030809Z
UID:10000289-1662904800-1662910200@alpineartscenter.org
SUMMARY:Cupcakes & Canvas
DESCRIPTION:Register Now! \nCupcakes & Canvas: Wildlife at Dusk \nIncludes all materials and a cupcake \nSunday\, September 11th 3 – 4:30 pm
URL:https://alpineartscenter.org/event/cupcakes-canvas-22/
LOCATION:Vail Public Library\, 292 W Meadow Dr\, Vail\, CO\, 81657\, United States
ATTACH;FMTTYPE=image/jpeg:https://alpineartscenter.org/wp-content/uploads/2021/05/ElkatDusk-scaled.jpg
END:VEVENT
BEGIN:VEVENT
DTSTART;TZID=America/Denver:20220910T173000
DTEND;TZID=America/Denver:20220910T193000
DTSTAMP:20260423T200735
CREATED:20220801T023525Z
LAST-MODIFIED:20220801T023525Z
UID:10000281-1662831000-1662838200@alpineartscenter.org
SUMMARY:Cocktails & Canvas
DESCRIPTION:Register Now! \nSunset Over Gore Range \nSaturday\, September 10th 6:30-8:30pm \n 
URL:https://alpineartscenter.org/event/cocktails-canvas-39/
LOCATION:Vail Public Library\, 292 W Meadow Dr\, Vail\, CO\, 81657\, United States
ATTACH;FMTTYPE=image/jpeg:https://alpineartscenter.org/wp-content/uploads/2021/06/IMG_3243-scaled.jpg
END:VEVENT
BEGIN:VEVENT
DTSTART;TZID=America/Denver:20220906T173000
DTEND;TZID=America/Denver:20220906T193000
DTSTAMP:20260423T200735
CREATED:20220809T213426Z
LAST-MODIFIED:20220818T151540Z
UID:10000384-1662485400-1662492600@alpineartscenter.org
SUMMARY:Cocktails & Canvas: Fundraiser for Ukraine
DESCRIPTION:Register Now! \nTuesday\, September 6th 6:30-8:30pm \n$10 from you registration will benefit Limbs for Liberty \nIncluded in your class is one drink\, provided by an anonymous donor. There will also be a silent auction and bake sale during the event. \n— \nLimbs For Liberty was co-founded in June\, 2022 by Vail Valley residents Kelli Rohrig and Tyler Schmidt\, after they’d met as volunteer partners in Ukraine. Dedicated to providing prosthetics for children and adults who have lost limbs during the Ukraine/Russia conflict\, Limbs for Liberty is devoted to helping amputees of all ages enhance their growth\, development\, and quality of life. Staffed solely by volunteers\, 100% of each donation goes directly to the procurement of prosthetics\, and the related care/training of each recipient. For more information\, visit www.LimbsforLiberty.com.
URL:https://alpineartscenter.org/event/cocktails-canvas-fundraiser-for-ukraine/
LOCATION:Vail Public Library\, 292 W Meadow Dr\, Vail\, CO\, 81657\, United States
ATTACH;FMTTYPE=image/jpeg:https://alpineartscenter.org/wp-content/uploads/2022/08/FundraiserUkraine_9.6.22.jpg
END:VEVENT
BEGIN:VEVENT
DTSTART;TZID=America/Denver:20220831T173000
DTEND;TZID=America/Denver:20220831T193000
DTSTAMP:20260423T200735
CREATED:20220801T021430Z
LAST-MODIFIED:20220801T021628Z
UID:10000279-1661967000-1661974200@alpineartscenter.org
SUMMARY:Cocktails & Clay
DESCRIPTION:Register Now! \nWednesday\, August 31st 6:30-8:30pm \nYour clay class includes all materials\, instruction\, and firing/glazing based on a set glaze for the entire class. Projects will be ready to pick up approximately 2 weeks later\, or shipping can be arranged at an additional fee. If you prefer to glaze your own piece\, you may opt to do that for a half-price drop-in fee of $8; please ask your instructor if you are interested in this add-on.
URL:https://alpineartscenter.org/event/cocktails-clay-21/
LOCATION:Vail Public Library\, 292 W Meadow Dr\, Vail\, CO\, 81657\, United States
ATTACH;FMTTYPE=image/jpeg:https://alpineartscenter.org/wp-content/uploads/2021/05/aspen_vases-736.jpg
END:VEVENT
BEGIN:VEVENT
DTSTART;TZID=America/Denver:20220828T140000
DTEND;TZID=America/Denver:20220828T153000
DTSTAMP:20260423T200735
CREATED:20220428T214607Z
LAST-MODIFIED:20220428T214607Z
UID:10000380-1661695200-1661700600@alpineartscenter.org
SUMMARY:Cupcakes & Canvas
DESCRIPTION:Register Now! \nBike On-Trail Painting \nSunday\, August 28th @ 3pm
URL:https://alpineartscenter.org/event/cupcakes-canvas-21/
LOCATION:Vail Public Library\, 292 W Meadow Dr\, Vail\, CO\, 81657\, United States
ATTACH;FMTTYPE=image/png:https://alpineartscenter.org/wp-content/uploads/2021/06/Bike-on-Trail.png
END:VEVENT
BEGIN:VEVENT
DTSTART;TZID=America/Denver:20220824T173000
DTEND;TZID=America/Denver:20220824T193000
DTSTAMP:20260423T200735
CREATED:20220428T211853Z
LAST-MODIFIED:20220428T211913Z
UID:10000375-1661362200-1661369400@alpineartscenter.org
SUMMARY:Cocktails & Clay
DESCRIPTION:Register Now! \nCeramic Aspen Mugs \nWednesday\, August 24th @ 6:30pm \nYour clay class includes all materials\, instruction\, and firing/glazing based on a set glaze for the entire class. Projects will be ready to pick up approximately 2 weeks later\, or shipping can be arranged at an additional fee. If you prefer to glaze your own piece\, you may opt to do that for a half-price drop-in fee of $8; please ask your instructor if you are interested in this add-on.
URL:https://alpineartscenter.org/event/cocktails-clay-20/
LOCATION:Vail Public Library\, 292 W Meadow Dr\, Vail\, CO\, 81657\, United States
ATTACH;FMTTYPE=image/jpeg:https://alpineartscenter.org/wp-content/uploads/2021/05/aspen_mug-732.jpg
END:VEVENT
BEGIN:VEVENT
DTSTART;TZID=America/Denver:20220820T173000
DTEND;TZID=America/Denver:20220820T193000
DTSTAMP:20260423T200735
CREATED:20220428T211625Z
LAST-MODIFIED:20220428T211625Z
UID:10000374-1661016600-1661023800@alpineartscenter.org
SUMMARY:Cocktails & Canvas
DESCRIPTION:Register Now! \nAcrylic Paint Pouring (Drip Art) \nSaturday\, August 20th @ 6:30pm \nPaintings may take up to 18-24 hours to dry. Pick-up is available the following day.
URL:https://alpineartscenter.org/event/cocktails-canvas-38/
LOCATION:Vail Public Library\, 292 W Meadow Dr\, Vail\, CO\, 81657\, United States
ATTACH;FMTTYPE=image/jpeg:https://alpineartscenter.org/wp-content/uploads/2021/05/acyrlic_paint_pouring.jpg
END:VEVENT
BEGIN:VEVENT
DTSTART;TZID=America/Denver:20220814T140000
DTEND;TZID=America/Denver:20220814T160000
DTSTAMP:20260423T200735
CREATED:20220428T214012Z
LAST-MODIFIED:20220428T214012Z
UID:10000379-1660485600-1660492800@alpineartscenter.org
SUMMARY:Cupcakes & Clay
DESCRIPTION:Register Now! \nSculpt Your Pet \nSunday\, August 14th \nYour clay class includes all materials\, instruction\, and firing/glazing based on a set glaze for the entire class. Projects will be ready to pick up approximately 2 weeks later\, or shipping can be arranged at an additional fee. After your piece has been kiln fired once\, you can come into the studio to glaze your pet for an additional 1/2-priced drop-in fee of $8.
URL:https://alpineartscenter.org/event/cupcakes-clay-10/
LOCATION:Vail Public Library\, 292 W Meadow Dr\, Vail\, CO\, 81657\, United States
ATTACH;FMTTYPE=image/png:https://alpineartscenter.org/wp-content/uploads/2021/05/sculptyourpet-1082.png
END:VEVENT
BEGIN:VEVENT
DTSTART;TZID=America/Denver:20220810T173000
DTEND;TZID=America/Denver:20220810T193000
DTSTAMP:20260423T200735
CREATED:20220428T211217Z
LAST-MODIFIED:20220428T211217Z
UID:10000273-1660152600-1660159800@alpineartscenter.org
SUMMARY:Cocktails & Canvas
DESCRIPTION:Register Now! \nMountain Lake Painting \nWednesday\, August 10th @ 6:30pm
URL:https://alpineartscenter.org/event/cocktails-canvas-37/
LOCATION:Vail Public Library\, 292 W Meadow Dr\, Vail\, CO\, 81657\, United States
ATTACH;FMTTYPE=image/jpeg:https://alpineartscenter.org/wp-content/uploads/2021/05/mountain_lake-598.jpg
END:VEVENT
BEGIN:VEVENT
DTSTART;TZID=America/Denver:20220806T173000
DTEND;TZID=America/Denver:20220806T193000
DTSTAMP:20260423T200735
CREATED:20220428T205538Z
LAST-MODIFIED:20220428T205538Z
UID:10000272-1659807000-1659814200@alpineartscenter.org
SUMMARY:Cocktails & Clay
DESCRIPTION:Register Now! \nCeramic trays \nSaturday\, August 6th @ 6:30pm \nYour clay class includes all materials\, instruction\, and firing/glazing based on a set glaze for the entire class. Projects will be ready to pick up approximately 2 weeks later\, or shipping can be arranged at an additional fee. If you prefer to glaze your own piece\, you may opt to do that for a half-price drop-in fee of $8; please ask your instructor if you are interested in this add-on.
URL:https://alpineartscenter.org/event/cocktails-clay-19/
LOCATION:Vail Public Library\, 292 W Meadow Dr\, Vail\, CO\, 81657\, United States
ATTACH;FMTTYPE=image/jpeg:https://alpineartscenter.org/wp-content/uploads/2021/05/set-of-leaf-platters.jpg
END:VEVENT
END:VCALENDAR