BEGIN:VCALENDAR
VERSION:2.0
PRODID:-//Alpine Arts Center - ECPv6.15.11//NONSGML v1.0//EN
CALSCALE:GREGORIAN
METHOD:PUBLISH
X-ORIGINAL-URL:https://alpineartscenter.org
X-WR-CALDESC:Events for Alpine Arts Center
REFRESH-INTERVAL;VALUE=DURATION:PT1H
X-Robots-Tag:noindex
X-PUBLISHED-TTL:PT1H
BEGIN:VTIMEZONE
TZID:America/Denver
BEGIN:DAYLIGHT
TZOFFSETFROM:-0700
TZOFFSETTO:-0600
TZNAME:MDT
DTSTART:20220313T090000
END:DAYLIGHT
BEGIN:STANDARD
TZOFFSETFROM:-0600
TZOFFSETTO:-0700
TZNAME:MST
DTSTART:20221106T080000
END:STANDARD
BEGIN:DAYLIGHT
TZOFFSETFROM:-0700
TZOFFSETTO:-0600
TZNAME:MDT
DTSTART:20230312T090000
END:DAYLIGHT
BEGIN:STANDARD
TZOFFSETFROM:-0600
TZOFFSETTO:-0700
TZNAME:MST
DTSTART:20231105T080000
END:STANDARD
BEGIN:DAYLIGHT
TZOFFSETFROM:-0700
TZOFFSETTO:-0600
TZNAME:MDT
DTSTART:20240310T090000
END:DAYLIGHT
BEGIN:STANDARD
TZOFFSETFROM:-0600
TZOFFSETTO:-0700
TZNAME:MST
DTSTART:20241103T080000
END:STANDARD
END:VTIMEZONE
BEGIN:VEVENT
DTSTART;TZID=America/Denver:20231021T183000
DTEND;TZID=America/Denver:20231021T203000
DTSTAMP:20260424T070254
CREATED:20230720T171300Z
LAST-MODIFIED:20231008T162600Z
UID:10000476-1697913000-1697920200@alpineartscenter.org
SUMMARY:Cocktails & Clay
DESCRIPTION:Register \nAspen Vase \nYour clay class includes all materials\, instruction\, and firing/glazing based on a set glaze for the entire class. Projects will be ready to pick up approximately 2 weeks later\, or shipping can be arranged at an additional fee. If you prefer to glaze your own piece\, you may opt to do that for a half-price drop-in fee of $8; please ask your instructor if you are interested in this add-on.
URL:https://alpineartscenter.org/event/cocktails-clay-39/
LOCATION:Alpine Arts Center\, 280 MAIN ST UNIT C-101\, EDWARDS\, CO\, 816328501\, United States
ATTACH;FMTTYPE=image/jpeg:https://alpineartscenter.org/wp-content/uploads/2022/11/aspen-vase.jpg
END:VEVENT
BEGIN:VEVENT
DTSTART;TZID=America/Denver:20231020T173000
DTEND;TZID=America/Denver:20231020T190000
DTSTAMP:20260424T070254
CREATED:20230911T151716Z
LAST-MODIFIED:20231012T191432Z
UID:10000483-1697823000-1697828400@alpineartscenter.org
SUMMARY:Cocktails & Canvas • La vie bohème
DESCRIPTION:Register \nFrench Themed: La bohème & Impressionist Style – Paintings \nIn celebration of Bravo! Vail’s La bohème presentation in 2024 with The Philadelphia Orchestra\, this adult-friendly event provides materials for participants to make French-inspired art centered around the storied opera\, while listening to musical excerpts from the beloved piece. Please arrive 15 minutes early\, Beer/Wine/Champagne is available for purchase at our Art Bar!
URL:https://alpineartscenter.org/event/cocktails-canvas-la-vie-boheme/
LOCATION:Alpine Arts Center\, 280 MAIN ST UNIT C-101\, EDWARDS\, CO\, 816328501\, United States
ATTACH;FMTTYPE=image/png:https://alpineartscenter.org/wp-content/uploads/2023/09/Screenshot-2023-10-12-at-1.09.32-PM.png
END:VEVENT
BEGIN:VEVENT
DTSTART;TZID=America/Denver:20231015T150000
DTEND;TZID=America/Denver:20231015T163000
DTSTAMP:20260424T070254
CREATED:20230720T170905Z
LAST-MODIFIED:20231008T163018Z
UID:10000475-1697382000-1697387400@alpineartscenter.org
SUMMARY:Cupcakes & Clay
DESCRIPTION:Register \nAspen Mugs – Ceramic Mug Designs \nYour clay class includes all materials\, instruction\, and firing/glazing based on a set glaze for the entire class. Projects will be ready to pick up approximately 2 weeks later\, or shipping can be arranged at an additional fee. If you prefer to glaze your own piece\, you may opt to do that for a half-price drop-in fee of $8; please ask your instructor if you are interested in this add-on.
URL:https://alpineartscenter.org/event/cupcakes-clay-18/
LOCATION:Alpine Arts Center\, 280 MAIN ST UNIT C-101\, EDWARDS\, CO\, 816328501\, United States
ATTACH;FMTTYPE=image/jpeg:https://alpineartscenter.org/wp-content/uploads/2021/05/aspen_mug-732.jpg
END:VEVENT
BEGIN:VEVENT
DTSTART;TZID=America/Denver:20231011T183000
DTEND;TZID=America/Denver:20231011T203000
DTSTAMP:20260424T070254
CREATED:20230720T170648Z
LAST-MODIFIED:20231010T164657Z
UID:10000474-1697049000-1697056200@alpineartscenter.org
SUMMARY:Cocktails & Canvas
DESCRIPTION:Register \nFall Colors Painting
URL:https://alpineartscenter.org/event/coctails-canvas/
LOCATION:Alpine Arts Center\, 280 MAIN ST UNIT C-101\, EDWARDS\, CO\, 816328501\, United States
ATTACH;FMTTYPE=image/jpeg:https://alpineartscenter.org/wp-content/uploads/2021/05/fall_colors-585.jpg
END:VEVENT
BEGIN:VEVENT
DTSTART;TZID=America/Denver:20231007T183000
DTEND;TZID=America/Denver:20231007T203000
DTSTAMP:20260424T070254
CREATED:20230720T170359Z
LAST-MODIFIED:20231007T193226Z
UID:10000473-1696703400-1696710600@alpineartscenter.org
SUMMARY:Cocktails & Canvas
DESCRIPTION:Register \nGolden Aspens Painting
URL:https://alpineartscenter.org/event/cocktails-canvas-69/
LOCATION:Alpine Arts Center\, 280 MAIN ST UNIT C-101\, EDWARDS\, CO\, 816328501\, United States
ATTACH;FMTTYPE=image/jpeg:https://alpineartscenter.org/wp-content/uploads/2021/05/aspens-739.jpg
END:VEVENT
BEGIN:VEVENT
DTSTART;TZID=America/Denver:20231001T150000
DTEND;TZID=America/Denver:20231001T163000
DTSTAMP:20260424T070254
CREATED:20230720T165848Z
LAST-MODIFIED:20230720T172403Z
UID:10000472-1696172400-1696177800@alpineartscenter.org
SUMMARY:Cupcakes & Canvas
DESCRIPTION:Register \nSunset Bike Ride Painting \n  \n 
URL:https://alpineartscenter.org/event/cupcakes-canvas-39/
LOCATION:Alpine Arts Center\, 280 MAIN ST UNIT C-101\, EDWARDS\, CO\, 816328501\, United States
ATTACH;FMTTYPE=image/png:https://alpineartscenter.org/wp-content/uploads/2023/07/Sunset-Bike-Ride.png
END:VEVENT
BEGIN:VEVENT
DTSTART;TZID=America/Denver:20230927T183000
DTEND;TZID=America/Denver:20230927T203000
DTSTAMP:20260424T070254
CREATED:20230720T165331Z
LAST-MODIFIED:20230720T165331Z
UID:10000471-1695839400-1695846600@alpineartscenter.org
SUMMARY:Cocktails & Canvas
DESCRIPTION:Register \nMountains On Wood Painting
URL:https://alpineartscenter.org/event/cocktails-canvas-68/
LOCATION:Alpine Arts Center\, 280 MAIN ST UNIT C-101\, EDWARDS\, CO\, 816328501\, United States
ATTACH;FMTTYPE=image/jpeg:https://alpineartscenter.org/wp-content/uploads/2021/05/mountainsonwood-scaled.jpg
END:VEVENT
BEGIN:VEVENT
DTSTART;TZID=America/Denver:20230923T183000
DTEND;TZID=America/Denver:20230923T203000
DTSTAMP:20260424T070254
CREATED:20230720T164900Z
LAST-MODIFIED:20230726T020732Z
UID:10000470-1695493800-1695501000@alpineartscenter.org
SUMMARY:Cocktails & Clay
DESCRIPTION:Register \nAspen Vase \nYour clay class includes all materials\, instruction\, and firing/glazing based on a set glaze for the entire class. Projects will be ready to pick up approximately 2 weeks later\, or shipping can be arranged at an additional fee. If you prefer to glaze your own piece\, you may opt to do that for a half-price drop-in fee of $8; please ask your instructor if you are interested in this add-on.
URL:https://alpineartscenter.org/event/cocktails-clay-38/
LOCATION:Alpine Arts Center\, 280 MAIN ST UNIT C-101\, EDWARDS\, CO\, 816328501\, United States
ATTACH;FMTTYPE=image/jpeg:https://alpineartscenter.org/wp-content/uploads/2021/05/aspen_vases-736.jpg
END:VEVENT
BEGIN:VEVENT
DTSTART;TZID=America/Denver:20230917T150000
DTEND;TZID=America/Denver:20230917T163000
DTSTAMP:20260424T070254
CREATED:20230726T023402Z
LAST-MODIFIED:20230831T002153Z
UID:10000481-1694962800-1694968200@alpineartscenter.org
SUMMARY:Cupcakes & Canvas
DESCRIPTION:Register \nColorado Flag Landscape Painting
URL:https://alpineartscenter.org/event/cupcakes-canvas-41/
LOCATION:Alpine Arts Center\, 280 MAIN ST UNIT C-101\, EDWARDS\, CO\, 816328501\, United States
ATTACH;FMTTYPE=image/jpeg:https://alpineartscenter.org/wp-content/uploads/2021/06/colorado-flag-landscape.jpg
END:VEVENT
BEGIN:VEVENT
DTSTART;TZID=America/Denver:20230909T183000
DTEND;TZID=America/Denver:20230909T203000
DTSTAMP:20260424T070254
CREATED:20230726T022553Z
LAST-MODIFIED:20230728T204623Z
UID:10000479-1694284200-1694291400@alpineartscenter.org
SUMMARY:Cocktails & Canvas
DESCRIPTION:Register \nFull Moon Aspens Painting
URL:https://alpineartscenter.org/event/cocktails-canvas-71/
LOCATION:Alpine Arts Center\, 280 MAIN ST UNIT C-101\, EDWARDS\, CO\, 816328501\, United States
ATTACH;FMTTYPE=image/jpeg:https://alpineartscenter.org/wp-content/uploads/2021/05/full_moon_aspens-15.jpg
END:VEVENT
BEGIN:VEVENT
DTSTART;TZID=America/Denver:20230903T150000
DTEND;TZID=America/Denver:20230903T163000
DTSTAMP:20260424T070254
CREATED:20230427T201636Z
LAST-MODIFIED:20230427T201636Z
UID:10000457-1693753200-1693758600@alpineartscenter.org
SUMMARY:Cupcakes & Clay
DESCRIPTION:Register \nSculpt Your Pet \nYour clay class includes all materials\, instruction\, and firing/glazing based on a set glaze for the entire class. Projects will be ready to pick up approximately 2 weeks later\, or shipping can be arranged at an additional fee. After your piece has been kiln fired once\, you can come into the studio to glaze your pet for an additional 1/2-priced drop-in fee of $8.
URL:https://alpineartscenter.org/event/cupcakes-clay-17/
LOCATION:Alpine Arts Center\, 280 MAIN ST UNIT C-101\, EDWARDS\, CO\, 816328501\, United States
ATTACH;FMTTYPE=image/png:https://alpineartscenter.org/wp-content/uploads/2021/05/sculptyourpet-1082.png
END:VEVENT
BEGIN:VEVENT
DTSTART;TZID=America/Denver:20230830T183000
DTEND;TZID=America/Denver:20230830T203000
DTSTAMP:20260424T070254
CREATED:20230427T201247Z
LAST-MODIFIED:20230427T201247Z
UID:10000456-1693420200-1693427400@alpineartscenter.org
SUMMARY:Cocktails & Canvas
DESCRIPTION:Register \nLush Landscape Painting
URL:https://alpineartscenter.org/event/cocktails-canvas-66/
LOCATION:Alpine Arts Center\, 280 MAIN ST UNIT C-101\, EDWARDS\, CO\, 816328501\, United States
ATTACH;FMTTYPE=image/jpeg:https://alpineartscenter.org/wp-content/uploads/2021/06/Lush-Landscape.jpg
END:VEVENT
BEGIN:VEVENT
DTSTART;TZID=America/Denver:20230826T183000
DTEND;TZID=America/Denver:20230826T203000
DTSTAMP:20260424T070254
CREATED:20230427T200646Z
LAST-MODIFIED:20230509T223327Z
UID:10000455-1693074600-1693081800@alpineartscenter.org
SUMMARY:Cocktails & Canvas
DESCRIPTION:Register \nBirds At Sunset Painting
URL:https://alpineartscenter.org/event/paint-your-pet-6/
LOCATION:Alpine Arts Center\, 280 MAIN ST UNIT C-101\, EDWARDS\, CO\, 816328501\, United States
ATTACH;FMTTYPE=image/jpeg:https://alpineartscenter.org/wp-content/uploads/2021/05/sunset_birds-711.jpg
END:VEVENT
BEGIN:VEVENT
DTSTART;TZID=America/Denver:20230825T170000
DTEND;TZID=America/Denver:20230825T210000
DTSTAMP:20260424T070254
CREATED:20230726T190612Z
LAST-MODIFIED:20230726T211027Z
UID:10000482-1692982800-1692997200@alpineartscenter.org
SUMMARY:2023 Riverwalk • Art Battle & Block Party!
DESCRIPTION:2023 Riverwalk • Art Battle & Block Party!\nFriday\, Aug. 25th 5-9pm\nWatch local artists battle it out and vote for your favorite artist.\nLocal Artist Competition • Live Music • Art Auction\nCheck-in @ Alpine Arts Center\nLive Music By: Laurie D & The Blues Babes • Altitones \nArtists: Apply to Participate\nFun Interactive Community Event • Free for Artists to Participate with the Chance to Win Big!\nAny Medium & Subject – Prizes for 1st\, 2nd\, 3rd – Silent Auction Opportunity\nFeel free to share this info with other artist friends.\nThe event will take place from 5-8pm.\nLive music and auction will continue until 9pm.\n*No cost for entry\, if you are approved a card will be held on file\, in the case of no call/no show to the event\, a deposit will be taken. \nAPPLY BY EMAIL TO LAUREN@ALPINEARTSCENTER.ORG\nInclude the following:\n1. Your contact info (email and phone)\n2. Art medium you plan to work in\n3. Samples of past work (please attach or provide website link)\n5. Any special requests (electric\, location preference for work space\, etc.)
URL:https://alpineartscenter.org/event/2023-riverwalk-art-battle-block-party/
LOCATION:Alpine Arts Center\, 280 MAIN ST UNIT C-101\, EDWARDS\, CO\, 816328501\, United States
ATTACH;FMTTYPE=image/png:https://alpineartscenter.org/wp-content/uploads/2023/07/2023-Riverwalk-•-Art-Battle-Block-Party-1-e1771801490669.png
END:VEVENT
BEGIN:VEVENT
DTSTART;TZID=America/Denver:20230820T150000
DTEND;TZID=America/Denver:20230820T163000
DTSTAMP:20260424T070254
CREATED:20230427T195630Z
LAST-MODIFIED:20230525T201550Z
UID:10000454-1692543600-1692549000@alpineartscenter.org
SUMMARY:Cupcakes & Canvas
DESCRIPTION:Register \nColumbine Painting
URL:https://alpineartscenter.org/event/cupcakes-canvas-38/
LOCATION:Alpine Arts Center\, 280 MAIN ST UNIT C-101\, EDWARDS\, CO\, 816328501\, United States
ATTACH;FMTTYPE=image/jpeg:https://alpineartscenter.org/wp-content/uploads/2021/05/Columbine-785.jpg
END:VEVENT
BEGIN:VEVENT
DTSTART;TZID=America/Denver:20230816T183000
DTEND;TZID=America/Denver:20230816T203000
DTSTAMP:20260424T070254
CREATED:20230427T195136Z
LAST-MODIFIED:20230428T214056Z
UID:10000362-1692210600-1692217800@alpineartscenter.org
SUMMARY:Paint Your Pet
DESCRIPTION:Register \nPaint Your Pet \nPlease send in the photo of your pet to info@alpineartscenter.org upon registering (the photo should have good/quality lighting\, a close up of your pet works best). For registrations less than 48 hours in advance please inquire before signing up to make sure our staff has time to transfer your image onto your canvas.
URL:https://alpineartscenter.org/event/cocktails-canvas-65/
LOCATION:Alpine Arts Center\, 280 MAIN ST UNIT C-101\, EDWARDS\, CO\, 816328501\, United States
ATTACH;FMTTYPE=image/jpeg:https://alpineartscenter.org/wp-content/uploads/2021/05/animal-portrait.jpg
END:VEVENT
BEGIN:VEVENT
DTSTART;TZID=America/Denver:20230812T183000
DTEND;TZID=America/Denver:20230812T203000
DTSTAMP:20260424T070254
CREATED:20230428T182413Z
LAST-MODIFIED:20230428T182413Z
UID:10000459-1691865000-1691872200@alpineartscenter.org
SUMMARY:Cocktails & Clay
DESCRIPTION:Register \nAspen Vase \nYour clay class includes all materials\, instruction\, and firing/glazing based on a set glaze for the entire class. Projects will be ready to pick up approximately 2 weeks later\, or shipping can be arranged at an additional fee. If you prefer to glaze your own piece\, you may opt to do that for a half-price drop-in fee of $8; please ask your instructor if you are interested in this add-on.
URL:https://alpineartscenter.org/event/cocktails-clay-37/
LOCATION:Alpine Arts Center\, 280 MAIN ST UNIT C-101\, EDWARDS\, CO\, 816328501\, United States
ATTACH;FMTTYPE=image/jpeg:https://alpineartscenter.org/wp-content/uploads/2021/05/aspen_flower_Small-714.jpg
END:VEVENT
BEGIN:VEVENT
DTSTART;TZID=America/Denver:20230808T180000
DTEND;TZID=America/Denver:20230808T210000
DTSTAMP:20260424T070254
CREATED:20230705T145839Z
LAST-MODIFIED:20230705T185236Z
UID:10000469-1691517600-1691528400@alpineartscenter.org
SUMMARY:Tapas & Tumblers
DESCRIPTION:Register Here\n\nJoin us for a night of Spanish tapas and glaze a set of tumblers! During this yummy evening you’ll make olive swirls\, cheese croquettes and mint berry mocktails in a collaborative evening with The Kitchen Conservatory. While enjoying Spanish tapas we’ll be creating a set of tumblers using a special glaze transfer sheet technique.\n\nThis class includes olive swirls\, cheese croquettes\, a mint berry mocktail\, a set of pottery tumblers\, all materials\, instruction\, and firing. Projects will be ready to pick up approximately 1 week later\, or shipping can be arranged at an additional fee.\n\nFor more information on The Kitchen Conservatory visit  www.kitchenconservatory.org
URL:https://alpineartscenter.org/event/tapas-tumblers/
LOCATION:Alpine Arts Center\, 280 MAIN ST UNIT C-101\, EDWARDS\, CO\, 816328501\, United States
END:VEVENT
BEGIN:VEVENT
DTSTART;TZID=America/Denver:20230806T150000
DTEND;TZID=America/Denver:20230806T163000
DTSTAMP:20260424T070254
CREATED:20230427T194518Z
LAST-MODIFIED:20230427T194518Z
UID:10000359-1691334000-1691339400@alpineartscenter.org
SUMMARY:Cupcakes & Clay
DESCRIPTION:Register \nSculpt Your Own Chia Pet! \nYour clay class includes all materials\, instruction\, and firing/glazing based on a clear glaze. Projects will be ready to pick up approximately 2 weeks later\, or shipping can be arranged at an additional fee. If you prefer to glaze your own piece\, you may opt to do that for a half-price drop-in fee of $8; please ask your instructor if you are interested in this add-on.
URL:https://alpineartscenter.org/event/cupcakes-clay-16/
LOCATION:Alpine Arts Center\, 280 MAIN ST UNIT C-101\, EDWARDS\, CO\, 816328501\, United States
ATTACH;FMTTYPE=image/png:https://alpineartscenter.org/wp-content/uploads/2023/02/lion-chia-pet.png
END:VEVENT
BEGIN:VEVENT
DTSTART;TZID=America/Denver:20230802T183000
DTEND;TZID=America/Denver:20230802T203000
DTSTAMP:20260424T070254
CREATED:20230427T193914Z
LAST-MODIFIED:20230708T180343Z
UID:10000357-1691001000-1691008200@alpineartscenter.org
SUMMARY:Cocktails & Canvas
DESCRIPTION:Register \nSunset SUP
URL:https://alpineartscenter.org/event/cocktails-canvas-64/
LOCATION:Alpine Arts Center\, 280 MAIN ST UNIT C-101\, EDWARDS\, CO\, 816328501\, United States
ATTACH;FMTTYPE=image/png:https://alpineartscenter.org/wp-content/uploads/2023/07/Sunset-SUP.png
END:VEVENT
BEGIN:VEVENT
DTSTART;TZID=America/Denver:20230729T183000
DTEND;TZID=America/Denver:20230729T203000
DTSTAMP:20260424T070254
CREATED:20230426T222657Z
LAST-MODIFIED:20230428T181126Z
UID:10000355-1690655400-1690662600@alpineartscenter.org
SUMMARY:Cocktails & Clay
DESCRIPTION:Register \nCustom Clay Platters \nYour clay class includes all materials\, instruction\, and firing/glazing based on a set glaze for the entire class. Projects will be ready to pick up approximately 2 weeks later\, or shipping can be arranged at an additional fee. If you prefer to glaze your own piece\, you may opt to do that for a half-price drop-in fee of $8; please ask your instructor if you are interested in this add-on.
URL:https://alpineartscenter.org/event/cocktails-clay-34/
LOCATION:Alpine Arts Center\, 280 MAIN ST UNIT C-101\, EDWARDS\, CO\, 816328501\, United States
ATTACH;FMTTYPE=image/jpeg:https://alpineartscenter.org/wp-content/uploads/2021/05/set-of-leaf-platters.jpg
END:VEVENT
BEGIN:VEVENT
DTSTART;TZID=America/Denver:20230725T180000
DTEND;TZID=America/Denver:20230725T203000
DTSTAMP:20260424T070254
CREATED:20230525T200524Z
LAST-MODIFIED:20230705T150333Z
UID:10000468-1690308000-1690317000@alpineartscenter.org
SUMMARY:Mocktails & Canvas
DESCRIPTION:Register \nMountain Love Painting \nUnleash your creativity in a captivating Mocktails & Canvas experience\, where an elevated drinking adventure awaits without the need for alcohol. FREE SPIRIT will be joining Alpine Arts Tuesday\, July 25th @ 6pm to provide an alcohol free pop up cash bar.\n\nCheers to a vibrant\, flavor-filled night of non-alcoholic delights\, inspired artistry\, and great company!
URL:https://alpineartscenter.org/event/mocktails-canvas/
LOCATION:Alpine Arts Center\, 280 MAIN ST UNIT C-101\, EDWARDS\, CO\, 816328501\, United States
ATTACH;FMTTYPE=image/png:https://alpineartscenter.org/wp-content/uploads/2023/05/Moctails-Canvas.png
END:VEVENT
BEGIN:VEVENT
DTSTART;TZID=America/Denver:20230723T150000
DTEND;TZID=America/Denver:20230723T163000
DTSTAMP:20260424T070254
CREATED:20230426T222220Z
LAST-MODIFIED:20230426T222220Z
UID:10000353-1690124400-1690129800@alpineartscenter.org
SUMMARY:Cupcakes & Canvas
DESCRIPTION:Register \nKayaks Painting
URL:https://alpineartscenter.org/event/cupcakes-canvas-37/
LOCATION:Alpine Arts Center\, 280 MAIN ST UNIT C-101\, EDWARDS\, CO\, 816328501\, United States
ATTACH;FMTTYPE=image/jpeg:https://alpineartscenter.org/wp-content/uploads/2021/05/kayaks-595.jpg
END:VEVENT
BEGIN:VEVENT
DTSTART;TZID=America/Denver:20230719T183000
DTEND;TZID=America/Denver:20230719T203000
DTSTAMP:20260424T070254
CREATED:20230426T221807Z
LAST-MODIFIED:20230708T180200Z
UID:10000351-1689791400-1689798600@alpineartscenter.org
SUMMARY:Cocktails & Canvas
DESCRIPTION:Register \nSunset Bike Ride
URL:https://alpineartscenter.org/event/cocktails-canvas-63/
LOCATION:Alpine Arts Center\, 280 MAIN ST UNIT C-101\, EDWARDS\, CO\, 816328501\, United States
ATTACH;FMTTYPE=image/png:https://alpineartscenter.org/wp-content/uploads/2023/07/Sunset-Bike-Ride.png
END:VEVENT
BEGIN:VEVENT
DTSTART;TZID=America/Denver:20230715T183000
DTEND;TZID=America/Denver:20230715T203000
DTSTAMP:20260424T070254
CREATED:20230426T220803Z
LAST-MODIFIED:20230428T231022Z
UID:10000349-1689445800-1689453000@alpineartscenter.org
SUMMARY:Sip & Etch
DESCRIPTION:Register \nGlass Etching \nCreate a set of etched glasses using stencils and etching cream! This process is fun to learn and makes the glass etching process a breeze. Your drinks will taste better in a set of your own handmade glasses.
URL:https://alpineartscenter.org/event/cocktails-canvas-62/
LOCATION:Alpine Arts Center\, 280 MAIN ST UNIT C-101\, EDWARDS\, CO\, 816328501\, United States
ATTACH;FMTTYPE=image/jpeg:https://alpineartscenter.org/wp-content/uploads/2021/05/wine_glass_etching-723.jpg
END:VEVENT
BEGIN:VEVENT
DTSTART;TZID=America/Denver:20230709T150000
DTEND;TZID=America/Denver:20230709T163000
DTSTAMP:20260424T070254
CREATED:20230426T215418Z
LAST-MODIFIED:20230426T215418Z
UID:10000347-1688914800-1688920200@alpineartscenter.org
SUMMARY:Cupcakes & Clay
DESCRIPTION:Ceramic Mug Design \nYour clay class includes all materials\, instruction\, and firing/glazing based on a set glaze for the entire class. Projects will be ready to pick up approximately 2 weeks later\, or shipping can be arranged at an additional fee. If you prefer to glaze your own piece\, you may opt to do that for a half-price drop-in fee of $8; please ask your instructor if you are interested in this add-on.
URL:https://alpineartscenter.org/event/cupcakes-clay-15/
LOCATION:Alpine Arts Center\, 280 MAIN ST UNIT C-101\, EDWARDS\, CO\, 816328501\, United States
ATTACH;FMTTYPE=image/jpeg:https://alpineartscenter.org/wp-content/uploads/2021/05/aspen_mug-732.jpg
END:VEVENT
BEGIN:VEVENT
DTSTART;TZID=America/Denver:20230705T183000
DTEND;TZID=America/Denver:20230705T213000
DTSTAMP:20260424T070254
CREATED:20230426T214448Z
LAST-MODIFIED:20230509T182546Z
UID:10000345-1688581800-1688592600@alpineartscenter.org
SUMMARY:Cocktails & Canvas
DESCRIPTION:Register \nWildlife at Dusk Painting \n 
URL:https://alpineartscenter.org/event/cocktails-clay-33/
LOCATION:Alpine Arts Center\, 280 MAIN ST UNIT C-101\, EDWARDS\, CO\, 816328501\, United States
ATTACH;FMTTYPE=image/jpeg:https://alpineartscenter.org/wp-content/uploads/2021/05/ElkatDusk-scaled.jpg
END:VEVENT
BEGIN:VEVENT
DTSTART;TZID=America/Denver:20230701T183000
DTEND;TZID=America/Denver:20230701T203000
DTSTAMP:20260424T070254
CREATED:20230426T213543Z
LAST-MODIFIED:20230426T213543Z
UID:10000453-1688236200-1688243400@alpineartscenter.org
SUMMARY:Cocktails & Clay
DESCRIPTION:Register \nAspen Vase \nYour clay class includes all materials\, instruction\, and firing/glazing based on a set glaze for the entire class. Projects will be ready to pick up approximately 2 weeks later\, or shipping can be arranged at an additional fee. If you prefer to glaze your own piece\, you may opt to do that for a half-price drop-in fee of $8; please ask your instructor if you are interested in this add-on.
URL:https://alpineartscenter.org/event/cocktails-clay-32/
LOCATION:Alpine Arts Center\, 280 MAIN ST UNIT C-101\, EDWARDS\, CO\, 816328501\, United States
ATTACH;FMTTYPE=image/jpeg:https://alpineartscenter.org/wp-content/uploads/2021/05/aspen_vases-736.jpg
END:VEVENT
BEGIN:VEVENT
DTSTART;TZID=America/Denver:20230621T183000
DTEND;TZID=America/Denver:20230621T203000
DTSTAMP:20260424T070254
CREATED:20230426T211955Z
LAST-MODIFIED:20230517T183929Z
UID:10000451-1687372200-1687379400@alpineartscenter.org
SUMMARY:Cocktails & Canvas
DESCRIPTION:Register \nSunset On Gore Range
URL:https://alpineartscenter.org/event/cocktails-canvas-67/
LOCATION:Alpine Arts Center\, 280 MAIN ST UNIT C-101\, EDWARDS\, CO\, 816328501\, United States
ATTACH;FMTTYPE=image/jpeg:https://alpineartscenter.org/wp-content/uploads/2021/06/IMG_3243-scaled.jpg
END:VEVENT
BEGIN:VEVENT
DTSTART;TZID=America/Denver:20230617T183000
DTEND;TZID=America/Denver:20230617T203000
DTSTAMP:20260424T070254
CREATED:20230426T211031Z
LAST-MODIFIED:20230428T230537Z
UID:10000450-1687026600-1687033800@alpineartscenter.org
SUMMARY:Cocktails & Canvas
DESCRIPTION:Register \nSummer Path Painting
URL:https://alpineartscenter.org/event/cocktails-canvas-61/
LOCATION:Alpine Arts Center\, 280 MAIN ST UNIT C-101\, EDWARDS\, CO\, 816328501\, United States
ATTACH;FMTTYPE=image/jpeg:https://alpineartscenter.org/wp-content/uploads/2021/05/summer_path.jpg
END:VEVENT
END:VCALENDAR