BEGIN:VCALENDAR
VERSION:2.0
PRODID:-//Alpine Arts Center - ECPv6.15.11//NONSGML v1.0//EN
CALSCALE:GREGORIAN
METHOD:PUBLISH
X-ORIGINAL-URL:https://alpineartscenter.org
X-WR-CALDESC:Events for Alpine Arts Center
REFRESH-INTERVAL;VALUE=DURATION:PT1H
X-Robots-Tag:noindex
X-PUBLISHED-TTL:PT1H
BEGIN:VTIMEZONE
TZID:America/Denver
BEGIN:DAYLIGHT
TZOFFSETFROM:-0700
TZOFFSETTO:-0600
TZNAME:MDT
DTSTART:20230312T090000
END:DAYLIGHT
BEGIN:STANDARD
TZOFFSETFROM:-0600
TZOFFSETTO:-0700
TZNAME:MST
DTSTART:20231105T080000
END:STANDARD
BEGIN:DAYLIGHT
TZOFFSETFROM:-0700
TZOFFSETTO:-0600
TZNAME:MDT
DTSTART:20240310T090000
END:DAYLIGHT
BEGIN:STANDARD
TZOFFSETFROM:-0600
TZOFFSETTO:-0700
TZNAME:MST
DTSTART:20241103T080000
END:STANDARD
BEGIN:DAYLIGHT
TZOFFSETFROM:-0700
TZOFFSETTO:-0600
TZNAME:MDT
DTSTART:20250309T090000
END:DAYLIGHT
BEGIN:STANDARD
TZOFFSETFROM:-0600
TZOFFSETTO:-0700
TZNAME:MST
DTSTART:20251102T080000
END:STANDARD
END:VTIMEZONE
BEGIN:VEVENT
DTSTART;TZID=America/Denver:20240803T183000
DTEND;TZID=America/Denver:20240803T203000
DTSTAMP:20260424T005213
CREATED:20240405T220742Z
LAST-MODIFIED:20240405T220742Z
UID:10000547-1722709800-1722717000@alpineartscenter.org
SUMMARY:Cocktails & Clay
DESCRIPTION:Register Here \nSucculent Holder \nYour clay class includes all materials\, instruction\, and firing/glazing based on a set glaze for the entire class. Projects will be ready to pick up approximately 2 weeks later\, or shipping can be arranged at an additional fee. If you prefer to glaze your own piece\, you may opt to do that for a half-price drop-in fee of $8; please ask your instructor if you are interested in this add-on.
URL:https://alpineartscenter.org/event/cocktails-clay-44/
LOCATION:Alpine Arts Center\, 280 MAIN ST UNIT C-101\, EDWARDS\, CO\, 816328501\, United States
ATTACH;FMTTYPE=image/jpeg:https://alpineartscenter.org/wp-content/uploads/2023/09/Ceramic-Succulant.jpg
END:VEVENT
BEGIN:VEVENT
DTSTART;TZID=America/Denver:20240727T130000
DTEND;TZID=America/Denver:20240727T143000
DTSTAMP:20260424T005213
CREATED:20240405T215943Z
LAST-MODIFIED:20240405T215943Z
UID:10000546-1722085200-1722090600@alpineartscenter.org
SUMMARY:Cupcakes & Canvas
DESCRIPTION:Register \nBeaver Creek Meadows – Painting
URL:https://alpineartscenter.org/event/cupcakes-canvas-9/
LOCATION:Alpine Arts Center\, 280 MAIN ST UNIT C-101\, EDWARDS\, CO\, 816328501\, United States
ATTACH;FMTTYPE=image/jpeg:https://alpineartscenter.org/wp-content/uploads/2022/07/beavercreekmeadows.jpg
END:VEVENT
BEGIN:VEVENT
DTSTART;TZID=America/Denver:20240724T183000
DTEND;TZID=America/Denver:20240724T203000
DTSTAMP:20260424T005213
CREATED:20240405T215427Z
LAST-MODIFIED:20240405T215435Z
UID:10000545-1721845800-1721853000@alpineartscenter.org
SUMMARY:Cocktails & Canvas
DESCRIPTION:Register \nSunset Bike Ride Painting
URL:https://alpineartscenter.org/event/cocktails-canvas-11/
LOCATION:Alpine Arts Center\, 280 MAIN ST UNIT C-101\, EDWARDS\, CO\, 816328501\, United States
ATTACH;FMTTYPE=image/png:https://alpineartscenter.org/wp-content/uploads/2023/07/Sunset-Bike-Ride.png
END:VEVENT
BEGIN:VEVENT
DTSTART;TZID=America/Denver:20240720T183000
DTEND;TZID=America/Denver:20240720T203000
DTSTAMP:20260424T005213
CREATED:20240405T214857Z
LAST-MODIFIED:20240405T214857Z
UID:10000544-1721500200-1721507400@alpineartscenter.org
SUMMARY:Cocktails & Clay
DESCRIPTION:Register Here \nAspen Vase \nYour clay class includes all materials\, instruction\, and firing/glazing based on a set glaze for the entire class. Projects will be ready to pick up approximately 2 weeks later\, or shipping can be arranged at an additional fee. If you prefer to glaze your own piece\, you may opt to do that for a half-price drop-in fee of $8; please ask your instructor if you are interested in this add-on.
URL:https://alpineartscenter.org/event/cocktails-clay-43/
LOCATION:Alpine Arts Center\, 280 MAIN ST UNIT C-101\, EDWARDS\, CO\, 816328501\, United States
ATTACH;FMTTYPE=image/jpeg:https://alpineartscenter.org/wp-content/uploads/2021/05/aspen_vases-736.jpg
END:VEVENT
BEGIN:VEVENT
DTSTART;TZID=America/Denver:20240713T130000
DTEND;TZID=America/Denver:20240713T143000
DTSTAMP:20260424T005213
CREATED:20240405T214458Z
LAST-MODIFIED:20240405T214458Z
UID:10000543-1720875600-1720881000@alpineartscenter.org
SUMMARY:Cupcakes & Canvas
DESCRIPTION:Register \nWander – Collage Painting
URL:https://alpineartscenter.org/event/cupcakes-canvas-8/
LOCATION:Alpine Arts Center\, 280 MAIN ST UNIT C-101\, EDWARDS\, CO\, 816328501\, United States
ATTACH;FMTTYPE=image/png:https://alpineartscenter.org/wp-content/uploads/2021/06/Wander.png
END:VEVENT
BEGIN:VEVENT
DTSTART;TZID=America/Denver:20240710T183000
DTEND;TZID=America/Denver:20240710T203000
DTSTAMP:20260424T005213
CREATED:20240405T213027Z
LAST-MODIFIED:20240405T213027Z
UID:10000542-1720636200-1720643400@alpineartscenter.org
SUMMARY:Cocktails & Canvas
DESCRIPTION:Register \nEdwards Sunset Painting
URL:https://alpineartscenter.org/event/cocktails-canvas-10/
LOCATION:Alpine Arts Center\, 280 MAIN ST UNIT C-101\, EDWARDS\, CO\, 816328501\, United States
ATTACH;FMTTYPE=image/jpeg:https://alpineartscenter.org/wp-content/uploads/2021/06/Edwards-Sunset.jpg
END:VEVENT
BEGIN:VEVENT
DTSTART;TZID=America/Denver:20240706T183000
DTEND;TZID=America/Denver:20240706T203000
DTSTAMP:20260424T005213
CREATED:20240405T211950Z
LAST-MODIFIED:20240405T211950Z
UID:10000541-1720290600-1720297800@alpineartscenter.org
SUMMARY:Cocktails & Clay
DESCRIPTION:Register Here \nClay Platter \nYour clay class includes all materials\, instruction\, and firing/glazing based on a set glaze for the entire class. Projects will be ready to pick up approximately 2 weeks later\, or shipping can be arranged at an additional fee. If you prefer to glaze your own piece\, you may opt to do that for a half-price drop-in fee of $8; please ask your instructor if you are interested in this add-on.
URL:https://alpineartscenter.org/event/cocktails-clay-9/
LOCATION:Alpine Arts Center\, 280 MAIN ST UNIT C-101\, EDWARDS\, CO\, 816328501\, United States
ATTACH;FMTTYPE=image/jpeg:https://alpineartscenter.org/wp-content/uploads/2021/05/aspen_leaf_platter.jpg
END:VEVENT
BEGIN:VEVENT
DTSTART;TZID=America/Denver:20240629T130000
DTEND;TZID=America/Denver:20240629T143000
DTSTAMP:20260424T005213
CREATED:20240405T211433Z
LAST-MODIFIED:20240405T211433Z
UID:10000540-1719666000-1719671400@alpineartscenter.org
SUMMARY:Cupcakes & Canvas
DESCRIPTION:Register \nFireworks – Painting
URL:https://alpineartscenter.org/event/cupcakes-canvas-7/
LOCATION:Alpine Arts Center\, 280 MAIN ST UNIT C-101\, EDWARDS\, CO\, 816328501\, United States
ATTACH;FMTTYPE=image/png:https://alpineartscenter.org/wp-content/uploads/2021/06/Fireworks.png
END:VEVENT
BEGIN:VEVENT
DTSTART;TZID=America/Denver:20240626T183000
DTEND;TZID=America/Denver:20240626T203000
DTSTAMP:20260424T005213
CREATED:20240405T211044Z
LAST-MODIFIED:20240405T211044Z
UID:10000539-1719426600-1719433800@alpineartscenter.org
SUMMARY:Cocktails & Canvas
DESCRIPTION:Register \nMountains on Wood Painting
URL:https://alpineartscenter.org/event/cocktails-canvas-9/
LOCATION:Alpine Arts Center\, 280 MAIN ST UNIT C-101\, EDWARDS\, CO\, 816328501\, United States
ATTACH;FMTTYPE=image/jpeg:https://alpineartscenter.org/wp-content/uploads/2021/05/mountainsonwood-scaled.jpg
END:VEVENT
BEGIN:VEVENT
DTSTART;TZID=America/Denver:20240622T183000
DTEND;TZID=America/Denver:20240622T203000
DTSTAMP:20260424T005213
CREATED:20240405T205831Z
LAST-MODIFIED:20240405T212015Z
UID:10000538-1719081000-1719088200@alpineartscenter.org
SUMMARY:Cocktails & Clay
DESCRIPTION:Register Here \nAspen Mug \nYour clay class includes all materials\, instruction\, and firing/glazing based on a set glaze for the entire class. Projects will be ready to pick up approximately 2 weeks later\, or shipping can be arranged at an additional fee. If you prefer to glaze your own piece\, you may opt to do that for a half-price drop-in fee of $8; please ask your instructor if you are interested in this add-on.
URL:https://alpineartscenter.org/event/cocktails-clay-8/
LOCATION:Alpine Arts Center\, 280 MAIN ST UNIT C-101\, EDWARDS\, CO\, 816328501\, United States
ATTACH;FMTTYPE=image/jpeg:https://alpineartscenter.org/wp-content/uploads/2022/11/aspen-mug.jpg
END:VEVENT
BEGIN:VEVENT
DTSTART;TZID=America/Denver:20240615T130000
DTEND;TZID=America/Denver:20240615T143000
DTSTAMP:20260424T005213
CREATED:20240405T205327Z
LAST-MODIFIED:20240405T205327Z
UID:10000537-1718456400-1718461800@alpineartscenter.org
SUMMARY:Cupcakes & Canvas
DESCRIPTION:Register \nPoppies – Painting
URL:https://alpineartscenter.org/event/cupcakes-canvas-6/
LOCATION:Alpine Arts Center\, 280 MAIN ST UNIT C-101\, EDWARDS\, CO\, 816328501\, United States
ATTACH;FMTTYPE=image/jpeg:https://alpineartscenter.org/wp-content/uploads/2021/05/Poppies-791.jpg
END:VEVENT
BEGIN:VEVENT
DTSTART;TZID=America/Denver:20240612T183000
DTEND;TZID=America/Denver:20240612T203000
DTSTAMP:20260424T005213
CREATED:20240405T204651Z
LAST-MODIFIED:20240405T204651Z
UID:10000536-1718217000-1718224200@alpineartscenter.org
SUMMARY:Cocktails & Canvas
DESCRIPTION:Register \nSummer Path Painting
URL:https://alpineartscenter.org/event/cocktails-canvas-8/
LOCATION:Alpine Arts Center\, 280 MAIN ST UNIT C-101\, EDWARDS\, CO\, 816328501\, United States
ATTACH;FMTTYPE=image/jpeg:https://alpineartscenter.org/wp-content/uploads/2021/05/summer_path.jpg
END:VEVENT
BEGIN:VEVENT
DTSTART;TZID=America/Denver:20240608T183000
DTEND;TZID=America/Denver:20240608T203000
DTSTAMP:20260424T005213
CREATED:20240405T203954Z
LAST-MODIFIED:20240405T203954Z
UID:10000534-1717871400-1717878600@alpineartscenter.org
SUMMARY:Cocktails & Canvas
DESCRIPTION:Register \nSunset SUP Painting
URL:https://alpineartscenter.org/event/cocktails-canvas-7/
LOCATION:Alpine Arts Center\, 280 MAIN ST UNIT C-101\, EDWARDS\, CO\, 816328501\, United States
ATTACH;FMTTYPE=image/png:https://alpineartscenter.org/wp-content/uploads/2023/07/Sunset-SUP.png
END:VEVENT
BEGIN:VEVENT
DTSTART;TZID=America/Denver:20240512T150000
DTEND;TZID=America/Denver:20240512T163000
DTSTAMP:20260424T005213
CREATED:20240123T032059Z
LAST-MODIFIED:20240510T205958Z
UID:10000530-1715526000-1715531400@alpineartscenter.org
SUMMARY:Mother's Day Cupcakes & Canvas
DESCRIPTION:Register Now! \nPainting – Vail Sunset \nMoms receive their first mimosa for free!
URL:https://alpineartscenter.org/event/mothers-day-cupcakes-canvas-2/
LOCATION:Alpine Arts Center\, 280 MAIN ST UNIT C-101\, EDWARDS\, CO\, 816328501\, United States
ATTACH;FMTTYPE=image/png:https://alpineartscenter.org/wp-content/uploads/2021/06/Vail-Sunset.png
END:VEVENT
BEGIN:VEVENT
DTSTART;TZID=America/Denver:20240508T183000
DTEND;TZID=America/Denver:20240508T203000
DTSTAMP:20260424T005213
CREATED:20240123T031640Z
LAST-MODIFIED:20240123T031640Z
UID:10000529-1715193000-1715200200@alpineartscenter.org
SUMMARY:Wax & Wine
DESCRIPTION:Register Here! \nEncaustics (wax painting) \nLearn the art of wax painting and create 4 fine art prints/cards using wax and a craft iron. Sign up to try something new; no prior experience is necessary!
URL:https://alpineartscenter.org/event/wax-wine-4/
LOCATION:Alpine Arts Center\, 280 MAIN ST UNIT C-101\, EDWARDS\, CO\, 816328501\, United States
ATTACH;FMTTYPE=image/jpeg:https://alpineartscenter.org/wp-content/uploads/2022/07/encaustics.jpeg
END:VEVENT
BEGIN:VEVENT
DTSTART;TZID=America/Denver:20240504T183000
DTEND;TZID=America/Denver:20240504T203000
DTSTAMP:20260424T005213
CREATED:20240123T025528Z
LAST-MODIFIED:20240123T025528Z
UID:10000526-1714847400-1714854600@alpineartscenter.org
SUMMARY:Cocktails & Clay
DESCRIPTION:Register Here \nCustom Garden Stakes \nYour clay class includes all materials\, instruction\, and firing/glazing based on a set glaze for the entire class. Projects will be ready to pick up approximately 2 weeks later\, or shipping can be arranged at an additional fee. If you prefer to glaze your own piece\, you may opt to do that for a half-price drop-in fee of $8; please ask your instructor if you are interested in this add-on.
URL:https://alpineartscenter.org/event/cocktails-clay-6/
LOCATION:Alpine Arts Center\, 280 MAIN ST UNIT C-101\, EDWARDS\, CO\, 816328501\, United States
ATTACH;FMTTYPE=image/png:https://alpineartscenter.org/wp-content/uploads/2023/02/Garden-Stakes.png
END:VEVENT
BEGIN:VEVENT
DTSTART;TZID=America/Denver:20240428T150000
DTEND;TZID=America/Denver:20240428T163000
DTSTAMP:20260424T005213
CREATED:20240123T031246Z
LAST-MODIFIED:20240123T031246Z
UID:10000528-1714316400-1714321800@alpineartscenter.org
SUMMARY:Cupcakes & Canvas
DESCRIPTION:Register \nAspen Meadow – Painting
URL:https://alpineartscenter.org/event/cupcakes-canvas-5/
LOCATION:Alpine Arts Center\, 280 MAIN ST UNIT C-101\, EDWARDS\, CO\, 816328501\, United States
ATTACH;FMTTYPE=image/jpeg:https://alpineartscenter.org/wp-content/uploads/2021/05/AspenMeadow-764.jpg
END:VEVENT
BEGIN:VEVENT
DTSTART;TZID=America/Denver:20240424T183000
DTEND;TZID=America/Denver:20240424T203000
DTSTAMP:20260424T005213
CREATED:20230726T022957Z
LAST-MODIFIED:20240123T024711Z
UID:10000480-1713983400-1713990600@alpineartscenter.org
SUMMARY:Cocktails & Canvas
DESCRIPTION:Register \nAcrylic Paint Pouring
URL:https://alpineartscenter.org/event/cocktails-canvas-72/
LOCATION:Alpine Arts Center\, 280 MAIN ST UNIT C-101\, EDWARDS\, CO\, 816328501\, United States
ATTACH;FMTTYPE=image/jpeg:https://alpineartscenter.org/wp-content/uploads/2021/05/acyrlic_paint_pouring.jpg
END:VEVENT
BEGIN:VEVENT
DTSTART;TZID=America/Denver:20240420T183000
DTEND;TZID=America/Denver:20240420T203000
DTSTAMP:20260424T005213
CREATED:20240123T030847Z
LAST-MODIFIED:20240123T030847Z
UID:10000527-1713637800-1713645000@alpineartscenter.org
SUMMARY:Cocktails & Canvas
DESCRIPTION:Register \nGreen Trees – Painting
URL:https://alpineartscenter.org/event/cocktails-canvas-6/
LOCATION:Alpine Arts Center\, 280 MAIN ST UNIT C-101\, EDWARDS\, CO\, 816328501\, United States
ATTACH;FMTTYPE=image/png:https://alpineartscenter.org/wp-content/uploads/2021/06/Green-Trees.png
END:VEVENT
BEGIN:VEVENT
DTSTART;TZID=America/Denver:20240414T150000
DTEND;TZID=America/Denver:20240414T163000
DTSTAMP:20260424T005213
CREATED:20240123T022146Z
LAST-MODIFIED:20240123T022326Z
UID:10000523-1713106800-1713112200@alpineartscenter.org
SUMMARY:Cupcakes & Canvas
DESCRIPTION:Register \nColorado Sunrise – Painting
URL:https://alpineartscenter.org/event/cupcakes-canvas-4/
LOCATION:Alpine Arts Center\, 280 MAIN ST UNIT C-101\, EDWARDS\, CO\, 816328501\, United States
ATTACH;FMTTYPE=image/jpeg:https://alpineartscenter.org/wp-content/uploads/2021/05/coloradosunrise-1068.jpg
END:VEVENT
BEGIN:VEVENT
DTSTART;TZID=America/Denver:20240410T183000
DTEND;TZID=America/Denver:20240410T203000
DTSTAMP:20260424T005213
CREATED:20240123T021458Z
LAST-MODIFIED:20240123T021458Z
UID:10000522-1712773800-1712781000@alpineartscenter.org
SUMMARY:Cocktails & Clay
DESCRIPTION:Register \nSki Boot Mug (or Snowboard Boot) \nYour clay class includes all materials\, instruction\, and firing/glazing based on a set glaze for the entire class. Projects will be ready to pick up approximately 2 weeks later\, or shipping can be arranged at an additional fee. If you prefer to glaze your own piece\, you may opt to do that for a half-price drop-in fee of $8; please ask your instructor if you are interested in this add-on.
URL:https://alpineartscenter.org/event/cocktails-clay-5/
LOCATION:Alpine Arts Center\, 280 MAIN ST UNIT C-101\, EDWARDS\, CO\, 816328501\, United States
ATTACH;FMTTYPE=image/png:https://alpineartscenter.org/wp-content/uploads/2023/01/Screenshot-2023-01-26-at-3.11.40-PM.png
END:VEVENT
BEGIN:VEVENT
DTSTART;TZID=America/Denver:20240406T183000
DTEND;TZID=America/Denver:20240406T203000
DTSTAMP:20260424T005213
CREATED:20240123T020802Z
LAST-MODIFIED:20240123T032612Z
UID:10000521-1712428200-1712435400@alpineartscenter.org
SUMMARY:Paint Your Pet
DESCRIPTION:Register \nPaint Your Pet \nPlease send in the photo of your pet to info@alpineartscenter.org upon registering (the photo should have good/quality lighting\, a close up of your pet works best). For registrations less than 48 hours in advance please inquire before signing up to make sure our staff has time to transfer your image onto your canvas.
URL:https://alpineartscenter.org/event/paint-your-pet/
LOCATION:Alpine Arts Center\, 280 MAIN ST UNIT C-101\, EDWARDS\, CO\, 816328501\, United States
ATTACH;FMTTYPE=image/jpeg:https://alpineartscenter.org/wp-content/uploads/2021/05/animal-portrait.jpg
END:VEVENT
BEGIN:VEVENT
DTSTART;TZID=America/Denver:20240331T150000
DTEND;TZID=America/Denver:20240331T163000
DTSTAMP:20260424T005213
CREATED:20240123T020508Z
LAST-MODIFIED:20240318T234238Z
UID:10000520-1711897200-1711902600@alpineartscenter.org
SUMMARY:Cupcakes & Canvas
DESCRIPTION:Register \nSpring Flowers – Painting for Easter Sunday!
URL:https://alpineartscenter.org/event/cupcakes-canvas-3/
LOCATION:Alpine Arts Center\, 280 MAIN ST UNIT C-101\, EDWARDS\, CO\, 816328501\, United States
ATTACH;FMTTYPE=image/png:https://alpineartscenter.org/wp-content/uploads/2021/06/Spring-Flowers.png
END:VEVENT
BEGIN:VEVENT
DTSTART;TZID=America/Denver:20240327T183000
DTEND;TZID=America/Denver:20240327T203000
DTSTAMP:20260424T005213
CREATED:20240123T020017Z
LAST-MODIFIED:20240123T020017Z
UID:10000519-1711564200-1711571400@alpineartscenter.org
SUMMARY:Cocktails & Clay
DESCRIPTION:Register \nAspen Vase \nYour clay class includes all materials\, instruction\, and firing/glazing based on a set glaze for the entire class. Projects will be ready to pick up approximately 2 weeks later\, or shipping can be arranged at an additional fee. If you prefer to glaze your own piece\, you may opt to do that for a half-price drop-in fee of $8; please ask your instructor if you are interested in this add-on.
URL:https://alpineartscenter.org/event/cocktails-clay-4/
LOCATION:Alpine Arts Center\, 280 MAIN ST UNIT C-101\, EDWARDS\, CO\, 816328501\, United States
ATTACH;FMTTYPE=image/jpeg:https://alpineartscenter.org/wp-content/uploads/2021/05/aspen_vases-736.jpg
END:VEVENT
BEGIN:VEVENT
DTSTART;TZID=America/Denver:20240323T183000
DTEND;TZID=America/Denver:20240323T203000
DTSTAMP:20260424T005213
CREATED:20240123T015556Z
LAST-MODIFIED:20240123T032412Z
UID:10000518-1711218600-1711225800@alpineartscenter.org
SUMMARY:Cocktails & Canvas
DESCRIPTION:Register \nSkier’s Paradise – Painting
URL:https://alpineartscenter.org/event/cocktails-canvas-4/
LOCATION:Alpine Arts Center\, 280 MAIN ST UNIT C-101\, EDWARDS\, CO\, 816328501\, United States
ATTACH;FMTTYPE=image/jpeg:https://alpineartscenter.org/wp-content/uploads/2021/05/skiersparadise-1079.jpg
END:VEVENT
BEGIN:VEVENT
DTSTART;TZID=America/Denver:20240317T150000
DTEND;TZID=America/Denver:20240317T163000
DTSTAMP:20260424T005213
CREATED:20240123T012827Z
LAST-MODIFIED:20240123T012827Z
UID:10000516-1710687600-1710693000@alpineartscenter.org
SUMMARY:St. Patty's Cupcakes & Clay
DESCRIPTION:Register \nSculpt Your St. Patty’s Day Gnome \nYour clay class includes all materials\, instruction\, and air dry clay so your project can be sculpted and painted during the class. \n 
URL:https://alpineartscenter.org/event/st-pattys-cupcakes-clay/
LOCATION:Alpine Arts Center\, 280 MAIN ST UNIT C-101\, EDWARDS\, CO\, 816328501\, United States
ATTACH;FMTTYPE=image/png:https://alpineartscenter.org/wp-content/uploads/2024/01/St.-Patricks-Day-Clay-Gnomes.png
END:VEVENT
BEGIN:VEVENT
DTSTART;TZID=America/Denver:20240313T183000
DTEND;TZID=America/Denver:20240313T203000
DTSTAMP:20260424T005213
CREATED:20240123T014759Z
LAST-MODIFIED:20240123T014759Z
UID:10000517-1710354600-1710361800@alpineartscenter.org
SUMMARY:Cocktails & Canvas
DESCRIPTION:Register \nBeer Stein & Taps – Painting to kick of St. Patrick’s Weekend!
URL:https://alpineartscenter.org/event/cocktails-canvas-5/
LOCATION:Alpine Arts Center\, 280 MAIN ST UNIT C-101\, EDWARDS\, CO\, 816328501\, United States
ATTACH;FMTTYPE=image/jpeg:https://alpineartscenter.org/wp-content/uploads/2021/06/IMG_9238-scaled.jpg
END:VEVENT
BEGIN:VEVENT
DTSTART;TZID=America/Denver:20240309T183000
DTEND;TZID=America/Denver:20240309T203000
DTSTAMP:20260424T005213
CREATED:20240122T230620Z
LAST-MODIFIED:20240122T230620Z
UID:10000514-1710009000-1710016200@alpineartscenter.org
SUMMARY:Sip & Stencil Ceramics
DESCRIPTION:Register \nIncludes pottery (choose from a plate\, mugs\, or other pottery items)\, stencils\, glazes\, and step-by-step instructions to learn this fun stencil technique! Pottery will be ready to pick up about 1 week later\, or shipping is available upon request.
URL:https://alpineartscenter.org/event/sip-stencil-ceramics/
LOCATION:Alpine Arts Center\, 280 MAIN ST UNIT C-101\, EDWARDS\, CO\, 816328501\, United States
ATTACH;FMTTYPE=image/png:https://alpineartscenter.org/wp-content/uploads/2023/07/Ceramics-Stencils.png
END:VEVENT
BEGIN:VEVENT
DTSTART;TZID=America/Denver:20240303T150000
DTEND;TZID=America/Denver:20240303T163000
DTSTAMP:20260424T005213
CREATED:20231109T164206Z
LAST-MODIFIED:20240108T203851Z
UID:10000511-1709478000-1709483400@alpineartscenter.org
SUMMARY:Cupcakes & Canvas
DESCRIPTION: Register \nWinter Sunset – Painting
URL:https://alpineartscenter.org/event/cupcakes-canvas-2/
LOCATION:Alpine Arts Center\, 280 MAIN ST UNIT C-101\, EDWARDS\, CO\, 816328501\, United States
ATTACH;FMTTYPE=image/jpeg:https://alpineartscenter.org/wp-content/uploads/2021/05/wintersunset-1081.jpg
END:VEVENT
BEGIN:VEVENT
DTSTART;TZID=America/Denver:20240228T183000
DTEND;TZID=America/Denver:20240228T203000
DTSTAMP:20260424T005213
CREATED:20231109T163842Z
LAST-MODIFIED:20240108T203834Z
UID:10000510-1709145000-1709152200@alpineartscenter.org
SUMMARY:Cocktails & Canvas
DESCRIPTION:Register \nMountains on Wood – Painting
URL:https://alpineartscenter.org/event/cocktails-canvas-3/
LOCATION:Alpine Arts Center\, 280 MAIN ST UNIT C-101\, EDWARDS\, CO\, 816328501\, United States
ATTACH;FMTTYPE=image/jpeg:https://alpineartscenter.org/wp-content/uploads/2021/05/mountainsonwood-scaled.jpg
END:VEVENT
END:VCALENDAR