BEGIN:VCALENDAR
VERSION:2.0
PRODID:-//Alpine Arts Center - ECPv6.15.11//NONSGML v1.0//EN
CALSCALE:GREGORIAN
METHOD:PUBLISH
X-ORIGINAL-URL:https://alpineartscenter.org
X-WR-CALDESC:Events for Alpine Arts Center
REFRESH-INTERVAL;VALUE=DURATION:PT1H
X-Robots-Tag:noindex
X-PUBLISHED-TTL:PT1H
BEGIN:VTIMEZONE
TZID:America/Denver
BEGIN:DAYLIGHT
TZOFFSETFROM:-0700
TZOFFSETTO:-0600
TZNAME:MDT
DTSTART:20210314T090000
END:DAYLIGHT
BEGIN:STANDARD
TZOFFSETFROM:-0600
TZOFFSETTO:-0700
TZNAME:MST
DTSTART:20211107T080000
END:STANDARD
BEGIN:DAYLIGHT
TZOFFSETFROM:-0700
TZOFFSETTO:-0600
TZNAME:MDT
DTSTART:20220313T090000
END:DAYLIGHT
BEGIN:STANDARD
TZOFFSETFROM:-0600
TZOFFSETTO:-0700
TZNAME:MST
DTSTART:20221106T080000
END:STANDARD
BEGIN:DAYLIGHT
TZOFFSETFROM:-0700
TZOFFSETTO:-0600
TZNAME:MDT
DTSTART:20230312T090000
END:DAYLIGHT
BEGIN:STANDARD
TZOFFSETFROM:-0600
TZOFFSETTO:-0700
TZNAME:MST
DTSTART:20231105T080000
END:STANDARD
BEGIN:DAYLIGHT
TZOFFSETFROM:-0700
TZOFFSETTO:-0600
TZNAME:MDT
DTSTART:20240310T090000
END:DAYLIGHT
BEGIN:STANDARD
TZOFFSETFROM:-0600
TZOFFSETTO:-0700
TZNAME:MST
DTSTART:20241103T080000
END:STANDARD
BEGIN:DAYLIGHT
TZOFFSETFROM:-0700
TZOFFSETTO:-0600
TZNAME:MDT
DTSTART:20250309T090000
END:DAYLIGHT
BEGIN:STANDARD
TZOFFSETFROM:-0600
TZOFFSETTO:-0700
TZNAME:MST
DTSTART:20251102T080000
END:STANDARD
BEGIN:DAYLIGHT
TZOFFSETFROM:-0700
TZOFFSETTO:-0600
TZNAME:MDT
DTSTART:20260308T090000
END:DAYLIGHT
BEGIN:STANDARD
TZOFFSETFROM:-0600
TZOFFSETTO:-0700
TZNAME:MST
DTSTART:20261101T080000
END:STANDARD
END:VTIMEZONE
BEGIN:VEVENT
DTSTART;TZID=America/Denver:20251009T173000
DTEND;TZID=America/Denver:20251009T190000
DTSTAMP:20260423T191207
CREATED:20250905T213039Z
LAST-MODIFIED:20250905T213039Z
UID:10000644-1760031000-1760036400@alpineartscenter.org
SUMMARY:Discover Vail Art Series
DESCRIPTION:Register \nDiscounted Art Class: Glass Etching \nThursday\, October 9th @ 5:30-7pm \nAlpine Arts Center hosts a discounted class at 10th Mountain Whiskey & Spirits \nCreate a set of etched glasses using stencils and etching cream! This process is fun to learn and makes the glass etching process a breeze. Your drinks will taste better in a set of your own handmade glasses. All materials & step-by-step instruction will be provided. Alpine Arts Center is excited to offer art programs in partnership with Discover Vail for a discounted price of $25 per person! Events are fun\, social\, and open to all ages unless otherwise noted (children should be accompanied by a participating adult).
URL:https://alpineartscenter.org/event/discover-vail-art-series-4/
LOCATION:10th Mountain Whiskey & Spirits\, 227 Bridge St\, Vail\, CO\, 81657\, United States
ATTACH;FMTTYPE=image/png:https://alpineartscenter.org/wp-content/uploads/2023/05/Screenshot-2023-05-06-at-7.49.43-AM.png
END:VEVENT
BEGIN:VEVENT
DTSTART;TZID=America/Denver:20231017T170000
DTEND;TZID=America/Denver:20231017T183000
DTSTAMP:20260423T191207
CREATED:20230506T113842Z
LAST-MODIFIED:20231010T162046Z
UID:10000464-1697562000-1697567400@alpineartscenter.org
SUMMARY:Town of Vail Art Series: Glass Etching
DESCRIPTION:Register \nDiscounted Art Class: Glass Etching \nTuesday\, October 17th @ 5:00-6:30pm \nAlpine Arts Center hosts a discounted class at 10th Mountain Whiskey & Spirits \nCreate a set of etched glasses using stencils and etching cream! This process is fun to learn and makes the glass etching process a breeze. Your drinks will taste better in a set of your own handmade glasses. All materials & step-by-step instruction will be provided. Alpine Arts Center is excited to offer art programs in partnership with the Town of Vail for a discounted price of $25 per person! Events are fun\, social\, and open to all ages unless otherwise noted (children should be accompanied by a participating adult).
URL:https://alpineartscenter.org/event/town-of-vail-art-series-glass-etching-3/
LOCATION:10th Mountain Whiskey & Spirits\, 227 Bridge St\, Vail\, CO\, 81657\, United States
ATTACH;FMTTYPE=image/png:https://alpineartscenter.org/wp-content/uploads/2023/05/Screenshot-2023-05-06-at-7.49.43-AM.png
END:VEVENT
BEGIN:VEVENT
DTSTART;TZID=America/Denver:20221020T160000
DTEND;TZID=America/Denver:20221020T173000
DTSTAMP:20260423T191207
CREATED:20220916T203006Z
LAST-MODIFIED:20221012T213350Z
UID:10000397-1666281600-1666287000@alpineartscenter.org
SUMMARY:Town of Vail Art Series
DESCRIPTION:Register Now! \nDiscounted Art Class: Glass Etching \nThursday\, October 20th @ 5pm \n10th Mountain Whiskey Special: All Drinks Are 15% Off \nAlpine Arts Center hosted art class in Vail Village at 10th Mountain Whiskey & Spirits. All materials and step-by-step instruction is provided. Alpine Arts Center is excited to offer art programs in partnership with the Town of Vail for a discounted price of $25 per person. Events are fun\, social and open to all experience levels. \n 
URL:https://alpineartscenter.org/event/town-of-vail-art-series-glass-etching-2/
LOCATION:10th Mountain Whiskey & Spirits\, 227 Bridge St\, Vail\, CO\, 81657\, United States
ATTACH;FMTTYPE=image/jpeg:https://alpineartscenter.org/wp-content/uploads/2021/10/glassetching-scaled.jpg
END:VEVENT
END:VCALENDAR