BEGIN:VCALENDAR
VERSION:2.0
PRODID:-//Alpine Arts Center - ECPv6.15.11//NONSGML v1.0//EN
CALSCALE:GREGORIAN
METHOD:PUBLISH
X-WR-CALNAME:Alpine Arts Center
X-ORIGINAL-URL:https://alpineartscenter.org
X-WR-CALDESC:Events for Alpine Arts Center
REFRESH-INTERVAL;VALUE=DURATION:PT1H
X-Robots-Tag:noindex
X-PUBLISHED-TTL:PT1H
BEGIN:VTIMEZONE
TZID:America/Denver
BEGIN:DAYLIGHT
TZOFFSETFROM:-0700
TZOFFSETTO:-0600
TZNAME:MDT
DTSTART:20230312T090000
END:DAYLIGHT
BEGIN:STANDARD
TZOFFSETFROM:-0600
TZOFFSETTO:-0700
TZNAME:MST
DTSTART:20231105T080000
END:STANDARD
BEGIN:DAYLIGHT
TZOFFSETFROM:-0700
TZOFFSETTO:-0600
TZNAME:MDT
DTSTART:20240310T090000
END:DAYLIGHT
BEGIN:STANDARD
TZOFFSETFROM:-0600
TZOFFSETTO:-0700
TZNAME:MST
DTSTART:20241103T080000
END:STANDARD
BEGIN:DAYLIGHT
TZOFFSETFROM:-0700
TZOFFSETTO:-0600
TZNAME:MDT
DTSTART:20250309T090000
END:DAYLIGHT
BEGIN:STANDARD
TZOFFSETFROM:-0600
TZOFFSETTO:-0700
TZNAME:MST
DTSTART:20251102T080000
END:STANDARD
END:VTIMEZONE
BEGIN:VEVENT
DTSTART;TZID=America/Denver:20241011T173000
DTEND;TZID=America/Denver:20241011T190000
DTSTAMP:20260423T211945
CREATED:20240918T232618Z
LAST-MODIFIED:20240918T232618Z
UID:10000571-1728667800-1728673200@alpineartscenter.org
SUMMARY:Cocktails & Canvas • Bravo! Vail
DESCRIPTION:Register \nAutumnal Musical Expressions: Cocktails & Canvas @ Alpine Arts Center with Bravo! Vail \nOct. 11th at 5:15 PM\nArrive at 5:15 for Beer/Wine/Champagne available for purchase at our Art Bar! Class will start at 5:30. \nThis exciting evening of painting and music explores musical themes of autumn and their impact on the art world. Must be 21+ to attend.
URL:https://alpineartscenter.org/event/cocktails-canvas-bravo-vail/
LOCATION:Alpine Arts Center\, 280 MAIN ST UNIT C-101\, EDWARDS\, CO\, 816328501\, United States
ATTACH;FMTTYPE=image/jpeg:https://alpineartscenter.org/wp-content/uploads/2021/05/intertwined-728.jpg
END:VEVENT
BEGIN:VEVENT
DTSTART;TZID=America/Denver:20241008T163000
DTEND;TZID=America/Denver:20241008T180000
DTSTAMP:20260423T211945
CREATED:20240918T233002Z
LAST-MODIFIED:20240920T183644Z
UID:10000572-1728405000-1728410400@alpineartscenter.org
SUMMARY:Bravo! Vail • Mexican Ofrendas & Music
DESCRIPTION:Register \n\nBravo! Vail • Mexican Ofrendas & Music \n\n\nOfrendas\, or altars\, are an essential part of the Day of the Dead celebrations in Mexico. This family-friendly workshop gives participants an opportunity to create their own ofrenda while listening and learning about the music from Bravo! Vail.  Admission is free\, but reservations are required. \n\n\nPlease bring 6 items of personal meaning to place in your shoebox altar. 
URL:https://alpineartscenter.org/event/bravo-vail-mexican-ofrendas-music-2/
LOCATION:Alpine Arts Center\, 280 MAIN ST UNIT C-101\, EDWARDS\, CO\, 816328501\, United States
ATTACH;FMTTYPE=image/png:https://alpineartscenter.org/wp-content/uploads/2022/09/Bravo-Mexican-Alters-.png
END:VEVENT
BEGIN:VEVENT
DTSTART;TZID=America/Denver:20241005T130000
DTEND;TZID=America/Denver:20241005T143000
DTSTAMP:20260423T211945
CREATED:20240820T184048Z
LAST-MODIFIED:20240820T184527Z
UID:10000566-1728133200-1728138600@alpineartscenter.org
SUMMARY:Cupcakes & Canvas
DESCRIPTION:Register \nFall Pumpkin – Painting
URL:https://alpineartscenter.org/event/cupcakes-canvas-44/
LOCATION:Alpine Arts Center\, 280 MAIN ST UNIT C-101\, EDWARDS\, CO\, 816328501\, United States
ATTACH;FMTTYPE=image/jpeg:https://alpineartscenter.org/wp-content/uploads/2021/05/fall_pumpkin-586.jpg
END:VEVENT
BEGIN:VEVENT
DTSTART;TZID=America/Denver:20241002T183000
DTEND;TZID=America/Denver:20241002T203000
DTSTAMP:20260423T211945
CREATED:20240820T183331Z
LAST-MODIFIED:20240920T174834Z
UID:10000564-1727893800-1727901000@alpineartscenter.org
SUMMARY:Cocktails & Canvas
DESCRIPTION:Register \nFall Colors Painting
URL:https://alpineartscenter.org/event/cocktails-canvas-17/
LOCATION:Alpine Arts Center\, 280 MAIN ST UNIT C-101\, EDWARDS\, CO\, 816328501\, United States
ATTACH;FMTTYPE=image/jpeg:https://alpineartscenter.org/wp-content/uploads/2021/05/fall_colors-585.jpg
END:VEVENT
BEGIN:VEVENT
DTSTART;TZID=America/Denver:20240928T183000
DTEND;TZID=America/Denver:20240928T203000
DTSTAMP:20260423T211945
CREATED:20240820T182455Z
LAST-MODIFIED:20240820T182455Z
UID:10000561-1727548200-1727555400@alpineartscenter.org
SUMMARY:Cocktails & Canvas
DESCRIPTION:Register \nMountains on Wood
URL:https://alpineartscenter.org/event/cocktails-canvas-15/
LOCATION:Alpine Arts Center\, 280 MAIN ST UNIT C-101\, EDWARDS\, CO\, 816328501\, United States
ATTACH;FMTTYPE=image/jpeg:https://alpineartscenter.org/wp-content/uploads/2021/05/mountainsonwood-scaled.jpg
END:VEVENT
BEGIN:VEVENT
DTSTART;TZID=America/Denver:20240924T163000
DTEND;TZID=America/Denver:20240924T180000
DTSTAMP:20260423T211945
CREATED:20240827T223358Z
LAST-MODIFIED:20240827T223358Z
UID:10000567-1727195400-1727200800@alpineartscenter.org
SUMMARY:Town of Vail Art Series
DESCRIPTION:Register \nDiscounted Art Class: Vail Sunset Painting \nTuesday\, September 24th @ 4:30-6pm \nAlpine Arts Center hosts a discounted class at Vail Public Library \nCome join us for a social art event and learn to paint your own Vail Sunset Scene on canvas! All materials & step-by-step instruction will be provided. Alpine Arts Center is excited to offer art programs in partnership with the Town of Vail for a discounted price of $25 per person! All programs are fun\, social\, and open to all ages (children should be accompanied by a participating adult). \nThank you to our event sponsors: Town of Vail\, Vail Daily\, Holy Cross\, & Alpine Bank \nLearn more about what is happening in Vail at discovervail.com
URL:https://alpineartscenter.org/event/town-of-vail-art-series-7/
LOCATION:Vail Public Library\, 292 W Meadow Dr\, Vail\, CO\, 81657\, United States
ATTACH;FMTTYPE=image/png:https://alpineartscenter.org/wp-content/uploads/2021/06/Vail-Sunset.png
END:VEVENT
BEGIN:VEVENT
DTSTART;TZID=America/Denver:20240921T130000
DTEND;TZID=America/Denver:20240921T143000
DTSTAMP:20260423T211945
CREATED:20240820T183731Z
LAST-MODIFIED:20240820T183731Z
UID:10000565-1726923600-1726929000@alpineartscenter.org
SUMMARY:Cupcakes & Canvas
DESCRIPTION:Register \nSunset Bike Ride – Painting
URL:https://alpineartscenter.org/event/cupcakes-canvas-36/
LOCATION:Alpine Arts Center\, 280 MAIN ST UNIT C-101\, EDWARDS\, CO\, 816328501\, United States
ATTACH;FMTTYPE=image/png:https://alpineartscenter.org/wp-content/uploads/2023/07/Sunset-Bike-Ride.png
END:VEVENT
BEGIN:VEVENT
DTSTART;TZID=America/Denver:20240918T183000
DTEND;TZID=America/Denver:20240918T203000
DTSTAMP:20260423T211945
CREATED:20240820T182147Z
LAST-MODIFIED:20240820T182147Z
UID:10000560-1726684200-1726691400@alpineartscenter.org
SUMMARY:Cocktails & Clay
DESCRIPTION:Register Here \nAspen Vase \nYour clay class includes all materials\, instruction\, and firing/glazing based on a set glaze for the entire class. Projects will be ready to pick up approximately 2 weeks later\, or shipping can be arranged at an additional fee. If you prefer to glaze your own piece\, you may opt to do that for a half-price drop-in fee of $8; please ask your instructor if you are interested in this add-on.
URL:https://alpineartscenter.org/event/cocktails-clay-7/
LOCATION:Alpine Arts Center\, 280 MAIN ST UNIT C-101\, EDWARDS\, CO\, 816328501\, United States
ATTACH;FMTTYPE=image/jpeg:https://alpineartscenter.org/wp-content/uploads/2022/11/aspen-vase.jpg
END:VEVENT
BEGIN:VEVENT
DTSTART;TZID=America/Denver:20240907T183000
DTEND;TZID=America/Denver:20240907T203000
DTSTAMP:20260423T211945
CREATED:20240820T181622Z
LAST-MODIFIED:20240820T181622Z
UID:10000559-1725733800-1725741000@alpineartscenter.org
SUMMARY:Cocktails & Canvas
DESCRIPTION:Register \nFull Moon Aspens Painting
URL:https://alpineartscenter.org/event/cocktails-canvas-14/
LOCATION:Alpine Arts Center\, 280 MAIN ST UNIT C-101\, EDWARDS\, CO\, 816328501\, United States
ATTACH;FMTTYPE=image/jpeg:https://alpineartscenter.org/wp-content/uploads/2021/05/full_moon_aspens-15.jpg
END:VEVENT
BEGIN:VEVENT
DTSTART;TZID=America/Denver:20240831T183000
DTEND;TZID=America/Denver:20240831T203000
DTSTAMP:20260423T211945
CREATED:20240405T230704Z
LAST-MODIFIED:20240405T230704Z
UID:10000553-1725129000-1725136200@alpineartscenter.org
SUMMARY:Paint Your Pet
DESCRIPTION:Register \nPaint Your Pet \nPlease send in the photo of your pet to info@alpineartscenter.org upon registering (the photo should have good/quality lighting\, a close up of your pet works best). For registrations less than 48 hours in advance please inquire before signing up to make sure our staff has time to transfer your image onto your canvas.
URL:https://alpineartscenter.org/event/paint-your-pet-8/
LOCATION:Alpine Arts Center\, 280 MAIN ST UNIT C-101\, EDWARDS\, CO\, 816328501\, United States
ATTACH;FMTTYPE=image/jpeg:https://alpineartscenter.org/wp-content/uploads/2021/05/animal-portrait.jpg
END:VEVENT
BEGIN:VEVENT
DTSTART;TZID=America/Denver:20240824T130000
DTEND;TZID=America/Denver:20240824T143000
DTSTAMP:20260423T211945
CREATED:20240405T230012Z
LAST-MODIFIED:20240405T231824Z
UID:10000552-1724504400-1724509800@alpineartscenter.org
SUMMARY:Brownies & Brims
DESCRIPTION:Register \nHat Marbling!
URL:https://alpineartscenter.org/event/cupcakes-canvas-10/
LOCATION:Alpine Arts Center\, 280 MAIN ST UNIT C-101\, EDWARDS\, CO\, 816328501\, United States
ATTACH;FMTTYPE=image/jpeg:https://alpineartscenter.org/wp-content/uploads/2023/09/Hat-Marbling-scaled.jpg
END:VEVENT
BEGIN:VEVENT
DTSTART;TZID=America/Denver:20240823T163000
DTEND;TZID=America/Denver:20240823T203000
DTSTAMP:20260423T211945
CREATED:20240711T214911Z
LAST-MODIFIED:20240712T003439Z
UID:10000558-1724430600-1724445000@alpineartscenter.org
SUMMARY:2024 Riverwalk • Art Battle & Block Party!
DESCRIPTION:2024 Riverwalk • Art Battle & Block Party!\nFriday\, Aug. 23rd \nWatch local artists battle it out and vote for your favorite artist.\nLocal Artist Competition • Live Music • Art Auction • Block Party!\nCheck-in @ Alpine Arts Center\nLive Music By: Laurie D & The Blues Babes • The Evolution\nEagle Valley Humane Society is offering thirsty attendees drinks for a donation. \nArtists: Apply to Participate\nFun Interactive Community Event • Free for Artists to Participate with the Chance to Win Big!\nAny Medium & Subject – Prizes for 1st\, 2nd\, 3rd – Silent Auction Opportunity\nFeel free to share this info with other artist friends.\nThe Art Battle will take place from 4:30-7:30pm.\nLive music and auction will continue until 8:30pm.\n*No cost for entry\, if you are approved a card will be held on file\, in the case of no call/no show to the event\, a deposit will be taken. \nAPPLY BY EMAIL TO LAUREN@ALPINEARTSCENTER.ORG\nInclude the following:\n1. Your contact info (email and phone)\n2. Art medium you plan to work in\n3. Samples of past work (please attach or provide website link)\n5. Any special requests (electric\, location preference for work space\, etc.)
URL:https://alpineartscenter.org/event/2024-riverwalk-art-battle-block-party/
LOCATION:Alpine Arts Center\, 280 MAIN ST UNIT C-101\, EDWARDS\, CO\, 816328501\, United States
ATTACH;FMTTYPE=image/jpeg:https://alpineartscenter.org/wp-content/uploads/2024/07/ART-BATTLE-2024-Final-Poster-scaled.jpg
END:VEVENT
BEGIN:VEVENT
DTSTART;TZID=America/Denver:20240821T183000
DTEND;TZID=America/Denver:20240821T203000
DTSTAMP:20260423T211945
CREATED:20240405T225616Z
LAST-MODIFIED:20240405T225616Z
UID:10000551-1724265000-1724272200@alpineartscenter.org
SUMMARY:Cocktails & Clay
DESCRIPTION:Register Here \nClay Platter \nYour clay class includes all materials\, instruction\, and firing/glazing based on a set glaze for the entire class. Projects will be ready to pick up approximately 2 weeks later\, or shipping can be arranged at an additional fee. If you prefer to glaze your own piece\, you may opt to do that for a half-price drop-in fee of $8; please ask your instructor if you are interested in this add-on.
URL:https://alpineartscenter.org/event/cocktails-clay-45/
LOCATION:Alpine Arts Center\, 280 MAIN ST UNIT C-101\, EDWARDS\, CO\, 816328501\, United States
ATTACH;FMTTYPE=image/jpeg:https://alpineartscenter.org/wp-content/uploads/2021/05/set-of-leaf-platters.jpg
END:VEVENT
BEGIN:VEVENT
DTSTART;TZID=America/Denver:20240820T153000
DTEND;TZID=America/Denver:20240820T170000
DTSTAMP:20260423T211945
CREATED:20240410T220903Z
LAST-MODIFIED:20240410T222031Z
UID:10000556-1724167800-1724173200@alpineartscenter.org
SUMMARY:Town of Vail Art Series
DESCRIPTION:Register \nDiscounted Art Class: Hat Painting\, Wearable Art \nTuesday\, August 20th @ 3:30-5pm \nAlpine Arts Center hosts a discounted class at The Amp (Gerald R. Ford Amphitheater) \nCome join us for a social art event and learn to paint your own Vail scene on a hat\, wearable art! All materials & step-by-step instruction will be provided. Alpine Arts Center is excited to offer art programs in partnership with the Town of Vail for a discounted price of $25 per person! All programs are fun\, social\, and open to all ages (children should be accompanied by a participating adult). \nAlso join us during the concert starting @ 5:30 for drop-in art! \nThank you to our event sponsors: Town of Vail\, Vail Daily\, Holy Cross\, & Alpine Bank \nLearn more about what is happening in Vail at discovervail.com
URL:https://alpineartscenter.org/event/town-of-vail-art-series-5/
LOCATION:Gerald R. Ford Amphitheater\, 503 S Frontage Rd E\, Vail\, CO\, 81656\, United States
ATTACH;FMTTYPE=image/jpeg:https://alpineartscenter.org/wp-content/uploads/2024/04/Hats-scaled.jpeg
END:VEVENT
BEGIN:VEVENT
DTSTART;TZID=America/Denver:20240817T183000
DTEND;TZID=America/Denver:20240817T203000
DTSTAMP:20260423T211945
CREATED:20240405T225035Z
LAST-MODIFIED:20240405T225035Z
UID:10000550-1723919400-1723926600@alpineartscenter.org
SUMMARY:Cocktails & Canvas
DESCRIPTION:Register \nSunset Over Gore Range Painting
URL:https://alpineartscenter.org/event/cocktails-canvas-13/
LOCATION:Alpine Arts Center\, 280 MAIN ST UNIT C-101\, EDWARDS\, CO\, 816328501\, United States
ATTACH;FMTTYPE=image/jpeg:https://alpineartscenter.org/wp-content/uploads/2021/06/IMG_3243-scaled.jpg
END:VEVENT
BEGIN:VEVENT
DTSTART;TZID=America/Denver:20240810T130000
DTEND;TZID=America/Denver:20240810T143000
DTSTAMP:20260423T211945
CREATED:20240405T224436Z
LAST-MODIFIED:20240405T224436Z
UID:10000549-1723294800-1723300200@alpineartscenter.org
SUMMARY:Brushes & Banana Splits
DESCRIPTION:Register \nBanana Split – Painting \nClass includes banana split ice cream bar!
URL:https://alpineartscenter.org/event/brushes-banana-splits/
LOCATION:Alpine Arts Center\, 280 MAIN ST UNIT C-101\, EDWARDS\, CO\, 816328501\, United States
ATTACH;FMTTYPE=image/png:https://alpineartscenter.org/wp-content/uploads/2021/06/Banana-Split.png
END:VEVENT
BEGIN:VEVENT
DTSTART;TZID=America/Denver:20240807T183000
DTEND;TZID=America/Denver:20240807T203000
DTSTAMP:20260423T211945
CREATED:20240405T221113Z
LAST-MODIFIED:20240405T221113Z
UID:10000548-1723055400-1723062600@alpineartscenter.org
SUMMARY:Cocktails & Canvas
DESCRIPTION:Register \nAcrylic Paint Pouring
URL:https://alpineartscenter.org/event/cocktails-canvas-12/
LOCATION:Alpine Arts Center\, 280 MAIN ST UNIT C-101\, EDWARDS\, CO\, 816328501\, United States
ATTACH;FMTTYPE=image/jpeg:https://alpineartscenter.org/wp-content/uploads/2021/05/acyrlic_paint_pouring.jpg
END:VEVENT
BEGIN:VEVENT
DTSTART;TZID=America/Denver:20240803T183000
DTEND;TZID=America/Denver:20240803T203000
DTSTAMP:20260423T211945
CREATED:20240405T220742Z
LAST-MODIFIED:20240405T220742Z
UID:10000547-1722709800-1722717000@alpineartscenter.org
SUMMARY:Cocktails & Clay
DESCRIPTION:Register Here \nSucculent Holder \nYour clay class includes all materials\, instruction\, and firing/glazing based on a set glaze for the entire class. Projects will be ready to pick up approximately 2 weeks later\, or shipping can be arranged at an additional fee. If you prefer to glaze your own piece\, you may opt to do that for a half-price drop-in fee of $8; please ask your instructor if you are interested in this add-on.
URL:https://alpineartscenter.org/event/cocktails-clay-44/
LOCATION:Alpine Arts Center\, 280 MAIN ST UNIT C-101\, EDWARDS\, CO\, 816328501\, United States
ATTACH;FMTTYPE=image/jpeg:https://alpineartscenter.org/wp-content/uploads/2023/09/Ceramic-Succulant.jpg
END:VEVENT
BEGIN:VEVENT
DTSTART;TZID=America/Denver:20240727T130000
DTEND;TZID=America/Denver:20240727T143000
DTSTAMP:20260423T211945
CREATED:20240405T215943Z
LAST-MODIFIED:20240405T215943Z
UID:10000546-1722085200-1722090600@alpineartscenter.org
SUMMARY:Cupcakes & Canvas
DESCRIPTION:Register \nBeaver Creek Meadows – Painting
URL:https://alpineartscenter.org/event/cupcakes-canvas-9/
LOCATION:Alpine Arts Center\, 280 MAIN ST UNIT C-101\, EDWARDS\, CO\, 816328501\, United States
ATTACH;FMTTYPE=image/jpeg:https://alpineartscenter.org/wp-content/uploads/2022/07/beavercreekmeadows.jpg
END:VEVENT
BEGIN:VEVENT
DTSTART;TZID=America/Denver:20240724T183000
DTEND;TZID=America/Denver:20240724T203000
DTSTAMP:20260423T211945
CREATED:20240405T215427Z
LAST-MODIFIED:20240405T215435Z
UID:10000545-1721845800-1721853000@alpineartscenter.org
SUMMARY:Cocktails & Canvas
DESCRIPTION:Register \nSunset Bike Ride Painting
URL:https://alpineartscenter.org/event/cocktails-canvas-11/
LOCATION:Alpine Arts Center\, 280 MAIN ST UNIT C-101\, EDWARDS\, CO\, 816328501\, United States
ATTACH;FMTTYPE=image/png:https://alpineartscenter.org/wp-content/uploads/2023/07/Sunset-Bike-Ride.png
END:VEVENT
BEGIN:VEVENT
DTSTART;TZID=America/Denver:20240720T183000
DTEND;TZID=America/Denver:20240720T203000
DTSTAMP:20260423T211945
CREATED:20240405T214857Z
LAST-MODIFIED:20240405T214857Z
UID:10000544-1721500200-1721507400@alpineartscenter.org
SUMMARY:Cocktails & Clay
DESCRIPTION:Register Here \nAspen Vase \nYour clay class includes all materials\, instruction\, and firing/glazing based on a set glaze for the entire class. Projects will be ready to pick up approximately 2 weeks later\, or shipping can be arranged at an additional fee. If you prefer to glaze your own piece\, you may opt to do that for a half-price drop-in fee of $8; please ask your instructor if you are interested in this add-on.
URL:https://alpineartscenter.org/event/cocktails-clay-43/
LOCATION:Alpine Arts Center\, 280 MAIN ST UNIT C-101\, EDWARDS\, CO\, 816328501\, United States
ATTACH;FMTTYPE=image/jpeg:https://alpineartscenter.org/wp-content/uploads/2021/05/aspen_vases-736.jpg
END:VEVENT
BEGIN:VEVENT
DTSTART;TZID=America/Denver:20240716T153000
DTEND;TZID=America/Denver:20240716T200000
DTSTAMP:20260423T211945
CREATED:20240410T221309Z
LAST-MODIFIED:20240626T041622Z
UID:10000557-1721143800-1721160000@alpineartscenter.org
SUMMARY:Town of Vail Art Series
DESCRIPTION:*No registration necessary* \nDiscounted Art Class: Silk & Hat Marbling \nIn Vail @ The Amp (Gerald R. Ford Amphitheater) \nTuesday\, July 16th Starting @ 3:30pm \nAlpine Arts Center is excited to offer art programs in partnership with the Town of Vail for a discounted price! Events are fun\, social\, and open to all ages unless otherwise noted (children should be accompanied by a participating adult). \nStop by our silk marbling booth for an amazing art medium and experience. All materials & step-by-step instruction will be provided. \nThank you to our sponsors: Town of Vail\, Holy Cross Energy\, Alpine Bank\, and The Vail Daily. \nLearn more about what is happening in Vail at discovervail.com
URL:https://alpineartscenter.org/event/town-of-vail-art-series-6/
LOCATION:Gerald R. Ford Amphitheater\, 503 S Frontage Rd E\, Vail\, CO\, 81656\, United States
ATTACH;FMTTYPE=image/png:https://alpineartscenter.org/wp-content/uploads/2021/06/silkscarf.png
END:VEVENT
BEGIN:VEVENT
DTSTART;TZID=America/Denver:20240713T130000
DTEND;TZID=America/Denver:20240713T143000
DTSTAMP:20260423T211945
CREATED:20240405T214458Z
LAST-MODIFIED:20240405T214458Z
UID:10000543-1720875600-1720881000@alpineartscenter.org
SUMMARY:Cupcakes & Canvas
DESCRIPTION:Register \nWander – Collage Painting
URL:https://alpineartscenter.org/event/cupcakes-canvas-8/
LOCATION:Alpine Arts Center\, 280 MAIN ST UNIT C-101\, EDWARDS\, CO\, 816328501\, United States
ATTACH;FMTTYPE=image/png:https://alpineartscenter.org/wp-content/uploads/2021/06/Wander.png
END:VEVENT
BEGIN:VEVENT
DTSTART;TZID=America/Denver:20240710T183000
DTEND;TZID=America/Denver:20240710T203000
DTSTAMP:20260423T211945
CREATED:20240405T213027Z
LAST-MODIFIED:20240405T213027Z
UID:10000542-1720636200-1720643400@alpineartscenter.org
SUMMARY:Cocktails & Canvas
DESCRIPTION:Register \nEdwards Sunset Painting
URL:https://alpineartscenter.org/event/cocktails-canvas-10/
LOCATION:Alpine Arts Center\, 280 MAIN ST UNIT C-101\, EDWARDS\, CO\, 816328501\, United States
ATTACH;FMTTYPE=image/jpeg:https://alpineartscenter.org/wp-content/uploads/2021/06/Edwards-Sunset.jpg
END:VEVENT
BEGIN:VEVENT
DTSTART;TZID=America/Denver:20240706T183000
DTEND;TZID=America/Denver:20240706T203000
DTSTAMP:20260423T211945
CREATED:20240405T211950Z
LAST-MODIFIED:20240405T211950Z
UID:10000541-1720290600-1720297800@alpineartscenter.org
SUMMARY:Cocktails & Clay
DESCRIPTION:Register Here \nClay Platter \nYour clay class includes all materials\, instruction\, and firing/glazing based on a set glaze for the entire class. Projects will be ready to pick up approximately 2 weeks later\, or shipping can be arranged at an additional fee. If you prefer to glaze your own piece\, you may opt to do that for a half-price drop-in fee of $8; please ask your instructor if you are interested in this add-on.
URL:https://alpineartscenter.org/event/cocktails-clay-9/
LOCATION:Alpine Arts Center\, 280 MAIN ST UNIT C-101\, EDWARDS\, CO\, 816328501\, United States
ATTACH;FMTTYPE=image/jpeg:https://alpineartscenter.org/wp-content/uploads/2021/05/aspen_leaf_platter.jpg
END:VEVENT
BEGIN:VEVENT
DTSTART;TZID=America/Denver:20240702T153000
DTEND;TZID=America/Denver:20240702T170000
DTSTAMP:20260423T211945
CREATED:20240410T220120Z
LAST-MODIFIED:20240410T222110Z
UID:10000555-1719934200-1719939600@alpineartscenter.org
SUMMARY:Town of Vail Art Series
DESCRIPTION:Register \nDiscounted Art Class: Pepi’s View of Gore Painting \nTuesday\, July 2nd @ 3:30-5pm \nAlpine Arts Center hosts a discounted class in Vail at The Amp (Gerald R. Ford Amphitheater) \nCome join us for a social art event and learn to paint Pepi’s View of Gore! All materials & step-by-step instruction will be provided. Alpine Arts Center is excited to offer art programs in partnership with the Town of Vail for a discounted price of $25 per person! All programs are fun\, social\, and open to all ages (children should be accompanied by a participating adult). \nAlso join us during the concert starting @ 5:30 for drop-in art – canvas painting! \nThank you to our event sponsors: Town of Vail\, Vail Daily\, Holy Cross\, & Alpine Bank \nLearn more about what is happening in Vail at discovervail.com
URL:https://alpineartscenter.org/event/town-of-vail-art-series-4/
LOCATION:Gerald R. Ford Amphitheater\, 503 S Frontage Rd E\, Vail\, CO\, 81656\, United States
ATTACH;FMTTYPE=image/jpeg:https://alpineartscenter.org/wp-content/uploads/2024/04/Pepis-View-of-Gore.jpeg
END:VEVENT
BEGIN:VEVENT
DTSTART;TZID=America/Denver:20240629T130000
DTEND;TZID=America/Denver:20240629T143000
DTSTAMP:20260423T211945
CREATED:20240405T211433Z
LAST-MODIFIED:20240405T211433Z
UID:10000540-1719666000-1719671400@alpineartscenter.org
SUMMARY:Cupcakes & Canvas
DESCRIPTION:Register \nFireworks – Painting
URL:https://alpineartscenter.org/event/cupcakes-canvas-7/
LOCATION:Alpine Arts Center\, 280 MAIN ST UNIT C-101\, EDWARDS\, CO\, 816328501\, United States
ATTACH;FMTTYPE=image/png:https://alpineartscenter.org/wp-content/uploads/2021/06/Fireworks.png
END:VEVENT
BEGIN:VEVENT
DTSTART;TZID=America/Denver:20240626T183000
DTEND;TZID=America/Denver:20240626T203000
DTSTAMP:20260423T211945
CREATED:20240405T211044Z
LAST-MODIFIED:20240405T211044Z
UID:10000539-1719426600-1719433800@alpineartscenter.org
SUMMARY:Cocktails & Canvas
DESCRIPTION:Register \nMountains on Wood Painting
URL:https://alpineartscenter.org/event/cocktails-canvas-9/
LOCATION:Alpine Arts Center\, 280 MAIN ST UNIT C-101\, EDWARDS\, CO\, 816328501\, United States
ATTACH;FMTTYPE=image/jpeg:https://alpineartscenter.org/wp-content/uploads/2021/05/mountainsonwood-scaled.jpg
END:VEVENT
BEGIN:VEVENT
DTSTART;TZID=America/Denver:20240622T183000
DTEND;TZID=America/Denver:20240622T203000
DTSTAMP:20260423T211945
CREATED:20240405T205831Z
LAST-MODIFIED:20240405T212015Z
UID:10000538-1719081000-1719088200@alpineartscenter.org
SUMMARY:Cocktails & Clay
DESCRIPTION:Register Here \nAspen Mug \nYour clay class includes all materials\, instruction\, and firing/glazing based on a set glaze for the entire class. Projects will be ready to pick up approximately 2 weeks later\, or shipping can be arranged at an additional fee. If you prefer to glaze your own piece\, you may opt to do that for a half-price drop-in fee of $8; please ask your instructor if you are interested in this add-on.
URL:https://alpineartscenter.org/event/cocktails-clay-8/
LOCATION:Alpine Arts Center\, 280 MAIN ST UNIT C-101\, EDWARDS\, CO\, 816328501\, United States
ATTACH;FMTTYPE=image/jpeg:https://alpineartscenter.org/wp-content/uploads/2022/11/aspen-mug.jpg
END:VEVENT
BEGIN:VEVENT
DTSTART;TZID=America/Denver:20240615T130000
DTEND;TZID=America/Denver:20240615T143000
DTSTAMP:20260423T211945
CREATED:20240405T205327Z
LAST-MODIFIED:20240405T205327Z
UID:10000537-1718456400-1718461800@alpineartscenter.org
SUMMARY:Cupcakes & Canvas
DESCRIPTION:Register \nPoppies – Painting
URL:https://alpineartscenter.org/event/cupcakes-canvas-6/
LOCATION:Alpine Arts Center\, 280 MAIN ST UNIT C-101\, EDWARDS\, CO\, 816328501\, United States
ATTACH;FMTTYPE=image/jpeg:https://alpineartscenter.org/wp-content/uploads/2021/05/Poppies-791.jpg
END:VEVENT
END:VCALENDAR