BEGIN:VCALENDAR
VERSION:2.0
PRODID:-//Alpine Arts Center - ECPv6.15.11//NONSGML v1.0//EN
CALSCALE:GREGORIAN
METHOD:PUBLISH
X-ORIGINAL-URL:https://alpineartscenter.org
X-WR-CALDESC:Events for Alpine Arts Center
REFRESH-INTERVAL;VALUE=DURATION:PT1H
X-Robots-Tag:noindex
X-PUBLISHED-TTL:PT1H
BEGIN:VTIMEZONE
TZID:America/Denver
BEGIN:DAYLIGHT
TZOFFSETFROM:-0700
TZOFFSETTO:-0600
TZNAME:MDT
DTSTART:20230312T090000
END:DAYLIGHT
BEGIN:STANDARD
TZOFFSETFROM:-0600
TZOFFSETTO:-0700
TZNAME:MST
DTSTART:20231105T080000
END:STANDARD
BEGIN:DAYLIGHT
TZOFFSETFROM:-0700
TZOFFSETTO:-0600
TZNAME:MDT
DTSTART:20240310T090000
END:DAYLIGHT
BEGIN:STANDARD
TZOFFSETFROM:-0600
TZOFFSETTO:-0700
TZNAME:MST
DTSTART:20241103T080000
END:STANDARD
BEGIN:DAYLIGHT
TZOFFSETFROM:-0700
TZOFFSETTO:-0600
TZNAME:MDT
DTSTART:20250309T090000
END:DAYLIGHT
BEGIN:STANDARD
TZOFFSETFROM:-0600
TZOFFSETTO:-0700
TZNAME:MST
DTSTART:20251102T080000
END:STANDARD
BEGIN:DAYLIGHT
TZOFFSETFROM:-0700
TZOFFSETTO:-0600
TZNAME:MDT
DTSTART:20260308T090000
END:DAYLIGHT
BEGIN:STANDARD
TZOFFSETFROM:-0600
TZOFFSETTO:-0700
TZNAME:MST
DTSTART:20261101T080000
END:STANDARD
END:VTIMEZONE
BEGIN:VEVENT
DTSTART;TZID=America/Denver:20250514T183000
DTEND;TZID=America/Denver:20250514T203000
DTSTAMP:20260423T175430
CREATED:20250308T193453Z
LAST-MODIFIED:20250426T193105Z
UID:10000606-1747247400-1747254600@alpineartscenter.org
SUMMARY:Woodburning & Wine
DESCRIPTION:REGISTER HERE! \nWoodburning & Wine \nWant a fun and creative night out in the company of friends? We will lead you step-by-step through the evening’s project and provide all materials. Wine/beer is $6 per glass (all alcoholic beverages must be purchased through our bar; non-alcoholic options and snacks available too). Advanced registration required. *SAVE 10% with our new Arts Center Memberships (good for discounts on in studio and virtual classes\, camps\, drop-ins & wine/beer).
URL:https://alpineartscenter.org/event/woodburning-wine/
LOCATION:Alpine Arts Center\, 280 MAIN ST UNIT C-101\, EDWARDS\, CO\, 816328501\, United States
ATTACH;FMTTYPE=image/jpeg:https://alpineartscenter.org/wp-content/uploads/2024/10/woodburning-scaled.jpg
END:VEVENT
BEGIN:VEVENT
DTSTART;TZID=America/Denver:20250510T183000
DTEND;TZID=America/Denver:20250510T203000
DTSTAMP:20260423T175430
CREATED:20250308T192752Z
LAST-MODIFIED:20250426T193728Z
UID:10000605-1746901800-1746909000@alpineartscenter.org
SUMMARY:Cocktails & Clay
DESCRIPTION:REGISTER HERE! \nClay Platter \nWant a fun and creative night out in the company of friends? We will lead you step-by-step through the evening’s project and provide all materials. Wine/beer is $6 per glass (all alcoholic beverages must be purchased through our bar; non-alcoholic options and snacks available too). Advanced registration required. *SAVE 10% with our new Arts Center Memberships (good for discounts on in studio and virtual classes\, camps\, drop-ins & wine/beer). \nYour clay class includes all materials\, instruction\, and firing/glazing based on a set glaze for the entire class. Projects will be ready to pick up approximately 2 weeks later\, or shipping can be arranged at an additional fee. If you prefer to glaze your own piece\, you may opt to do that for a half-price drop-in fee of $8; please ask your instructor if you are interested in this add-on.
URL:https://alpineartscenter.org/event/cocktails-clay-53/
LOCATION:Alpine Arts Center\, 280 MAIN ST UNIT C-101\, EDWARDS\, CO\, 816328501\, United States
ATTACH;FMTTYPE=image/jpeg:https://alpineartscenter.org/wp-content/uploads/2021/05/set-of-leaf-platters.jpg
END:VEVENT
BEGIN:VEVENT
DTSTART;TZID=America/Denver:20250507T170000
DTEND;TZID=America/Denver:20250507T183000
DTSTAMP:20260423T175430
CREATED:20250313T184530Z
LAST-MODIFIED:20250426T193014Z
UID:10000609-1746637200-1746642600@alpineartscenter.org
SUMMARY:Discover Vail Art Series
DESCRIPTION:REGISTER HERE \nDiscounted Art Class: Flower Mandala Wall Hanging \nWednesday\, May 7th @ 5-6:30pm \nAlpine Arts Center hosts a discounted class at Root & Flower\, Vail Village \nCome create your own flower mandala wall hanging! All materials & step-by-step instruction will be provided. Alpine Arts Center is excited to offer art programs in partnership with the Town of Vail for a discounted price of $25 per person! \nThank you to our event sponsors: Discover Vail\, Vail Daily\, Holy Cross\, & Alpine Bank \nLearn more about what is happening in Vail at discovervail.com
URL:https://alpineartscenter.org/event/town-of-vail-art-series-12/
LOCATION:Root & Flower\, 288 Bridge St Unit C4\, Vail\, CO\, 81657\, United States
ATTACH;FMTTYPE=image/png:https://alpineartscenter.org/wp-content/uploads/2024/04/flower-mandala-wall-hanging-1.png
END:VEVENT
BEGIN:VEVENT
DTSTART;TZID=America/Denver:20250430T183000
DTEND;TZID=America/Denver:20250430T203000
DTSTAMP:20260423T175430
CREATED:20250308T192323Z
LAST-MODIFIED:20250426T192948Z
UID:10000604-1746037800-1746045000@alpineartscenter.org
SUMMARY:Cocktails & Canvas
DESCRIPTION:REGISTER HERE! \nCowboy Boots \nWant a fun and creative night out in the company of friends? We will lead you step-by-step through the evening’s project and provide all materials.Wine/beer is $6 per glass (all alcoholic beverages must be purchased through our bar; non-alcoholic options and snacks available too). Advanced registration required.*SAVE 10% with our new Arts Center Memberships (good for discounts on in studio and virtual classes\, camps\, drop-ins & wine/beer)
URL:https://alpineartscenter.org/event/cocktails-canvas-83/
LOCATION:Alpine Arts Center\, 280 MAIN ST UNIT C-101\, EDWARDS\, CO\, 816328501\, United States
ATTACH;FMTTYPE=image/png:https://alpineartscenter.org/wp-content/uploads/2024/10/cowboy-boots.png
END:VEVENT
BEGIN:VEVENT
DTSTART;TZID=America/Denver:20250426T183000
DTEND;TZID=America/Denver:20250426T210000
DTSTAMP:20260423T175430
CREATED:20250308T191914Z
LAST-MODIFIED:20250308T193647Z
UID:10000603-1745692200-1745701200@alpineartscenter.org
SUMMARY:Paint Your Pet
DESCRIPTION:Register \nPaint Your Pet \nPlease send in the photo of your pet to info@alpineartscenter.org upon registering (the photo should have good/quality lighting\, a close up of your pet works best). For registrations less than 48 hours in advance please inquire before signing up to make sure our staff has time to transfer your image onto your canvas.
URL:https://alpineartscenter.org/event/paint-your-pet-11/
LOCATION:Alpine Arts Center\, 280 MAIN ST UNIT C-101\, EDWARDS\, CO\, 816328501\, United States
ATTACH;FMTTYPE=image/jpeg:https://alpineartscenter.org/wp-content/uploads/2021/05/animal-portrait.jpg
END:VEVENT
BEGIN:VEVENT
DTSTART;TZID=America/Denver:20250419T130000
DTEND;TZID=America/Denver:20250419T143000
DTSTAMP:20260423T175430
CREATED:20250308T191314Z
LAST-MODIFIED:20250308T191314Z
UID:10000602-1745067600-1745073000@alpineartscenter.org
SUMMARY:Cupcakes & Canvas
DESCRIPTION:Register \nSpring Flowers
URL:https://alpineartscenter.org/event/cupcakes-canvas-51/
LOCATION:Alpine Arts Center\, 280 MAIN ST UNIT C-101\, EDWARDS\, CO\, 816328501\, United States
ATTACH;FMTTYPE=image/png:https://alpineartscenter.org/wp-content/uploads/2021/06/Spring-Flowers.png
END:VEVENT
BEGIN:VEVENT
DTSTART;TZID=America/Denver:20250416T170000
DTEND;TZID=America/Denver:20250416T183000
DTSTAMP:20260423T175430
CREATED:20250313T184108Z
LAST-MODIFIED:20250405T211521Z
UID:10000608-1744822800-1744828200@alpineartscenter.org
SUMMARY:Discover Vail Art Series
DESCRIPTION:Register \nDiscounted Art Class: End of Season Paint Pottery Party! \nWednesday\, April 16th @ 5-6:30pm \nAlpine Arts Center hosts a discounted class at Vendetta’s \nCome create your own paint pottery mug at this end of season event! All materials & step-by-step instruction will be provided. Alpine Arts Center is excited to offer art programs in partnership with the Town of Vail for a discounted price of $25 per person! Events are fun\, social\, and open to all ages unless otherwise noted (children should be accompanied by a participating adult). \nProjects will be ready approximately one week after the event; shipping can also be arranged for an additional fee. \nThank you to our event sponsors: Discover Vail\, Vail Daily\, Holy Cross\, & Alpine Bank \nLearn more about what is happening in Vail at discovervail.com
URL:https://alpineartscenter.org/event/town-of-vail-art-series-11/
LOCATION:Vendetta’s\, 291 Bridge Street\, Vail\, 81657\, United States
ATTACH;FMTTYPE=image/jpeg:https://alpineartscenter.org/wp-content/uploads/2024/03/ski-mugs-scaled.jpeg
END:VEVENT
BEGIN:VEVENT
DTSTART;TZID=America/Denver:20250402T183000
DTEND;TZID=America/Denver:20250402T203000
DTSTAMP:20260423T175430
CREATED:20250128T040242Z
LAST-MODIFIED:20250128T040242Z
UID:10000600-1743618600-1743625800@alpineartscenter.org
SUMMARY:Cocktails & Clay
DESCRIPTION:Register Here \nSucculent Holder \nYour clay class includes all materials\, instruction\, and firing/glazing based on a set glaze for the entire class. Projects will be ready to pick up approximately 2 weeks later\, or shipping can be arranged at an additional fee. If you prefer to glaze your own piece\, you may opt to do that for a half-price drop-in fee of $8; please ask your instructor if you are interested in this add-on.
URL:https://alpineartscenter.org/event/cocktails-clay-52/
LOCATION:Alpine Arts Center\, 280 MAIN ST UNIT C-101\, EDWARDS\, CO\, 816328501\, United States
ATTACH;FMTTYPE=image/jpeg:https://alpineartscenter.org/wp-content/uploads/2023/09/Ceramic-Succulant.jpg
END:VEVENT
BEGIN:VEVENT
DTSTART;TZID=America/Denver:20250329T183000
DTEND;TZID=America/Denver:20250329T203000
DTSTAMP:20260423T175430
CREATED:20250128T035211Z
LAST-MODIFIED:20250128T035211Z
UID:10000599-1743273000-1743280200@alpineartscenter.org
SUMMARY:Cocktails & Canvas
DESCRIPTION:Register \nSki Vail Painting
URL:https://alpineartscenter.org/event/cocktails-canvas-82/
LOCATION:Alpine Arts Center\, 280 MAIN ST UNIT C-101\, EDWARDS\, CO\, 816328501\, United States
ATTACH;FMTTYPE=image/jpeg:https://alpineartscenter.org/wp-content/uploads/2021/06/ski-vail.jpg
END:VEVENT
BEGIN:VEVENT
DTSTART;TZID=America/Denver:20250319T183000
DTEND;TZID=America/Denver:20250319T203000
DTSTAMP:20260423T175430
CREATED:20250128T033027Z
LAST-MODIFIED:20250128T033027Z
UID:10000597-1742409000-1742416200@alpineartscenter.org
SUMMARY:Cocktails & Clay
DESCRIPTION:Register Here \nAspen Vase \nYour clay class includes all materials\, instruction\, and firing/glazing based on a set glaze for the entire class. Projects will be ready to pick up approximately 2 weeks later\, or shipping can be arranged at an additional fee. If you prefer to glaze your own piece\, you may opt to do that for a half-price drop-in fee of $8; please ask your instructor if you are interested in this add-on.
URL:https://alpineartscenter.org/event/cocktails-clay-51/
LOCATION:Alpine Arts Center\, 280 MAIN ST UNIT C-101\, EDWARDS\, CO\, 816328501\, United States
ATTACH;FMTTYPE=image/jpeg:https://alpineartscenter.org/wp-content/uploads/2022/11/aspen-vase.jpg
END:VEVENT
BEGIN:VEVENT
DTSTART;TZID=America/Denver:20250315T183000
DTEND;TZID=America/Denver:20250315T203000
DTSTAMP:20260423T175430
CREATED:20250128T032616Z
LAST-MODIFIED:20250128T032616Z
UID:10000596-1742063400-1742070600@alpineartscenter.org
SUMMARY:Cocktails & Canvas
DESCRIPTION:Register \nFull Moon Aspens Painting
URL:https://alpineartscenter.org/event/cocktails-canvas-81/
LOCATION:Alpine Arts Center\, 280 MAIN ST UNIT C-101\, EDWARDS\, CO\, 816328501\, United States
ATTACH;FMTTYPE=image/jpeg:https://alpineartscenter.org/wp-content/uploads/2021/05/full_moon_aspens-15.jpg
END:VEVENT
BEGIN:VEVENT
DTSTART;TZID=America/Denver:20250314T160000
DTEND;TZID=America/Denver:20250314T173000
DTSTAMP:20260423T175430
CREATED:20250207T212708Z
LAST-MODIFIED:20250207T212708Z
UID:10000601-1741968000-1741973400@alpineartscenter.org
SUMMARY:Town of Vail Art Series
DESCRIPTION:Register \nDiscounted Art Class: Vail Yeti Painting \nFriday\, March 14th @ 4-5:30pm \nAlpine Arts Center hosts a discounted class at Vail Public Library \nCome join us for a social art event and learn to paint your own Vail Yeti Scene on canvas. It’s the last weekend of Vail Yeti hockey\, so join us for a Yeti inspired painting before the game! All materials & step-by-step instruction will be provided. Alpine Arts Center is excited to offer art programs in partnership with the Town of Vail for a discounted price of $25 per person! All programs are fun\, social\, and open to all ages (children should be accompanied by a participating adult). \nThank you to our event sponsors: Town of Vail\, Vail Daily\, Holy Cross\, & Alpine Bank \nLearn more about what is happening in Vail at discovervail.com
URL:https://alpineartscenter.org/event/town-of-vail-art-series-10/
LOCATION:Vail Public Library\, 292 W Meadow Dr\, Vail\, CO\, 81657\, United States
ATTACH;FMTTYPE=image/jpeg:https://alpineartscenter.org/wp-content/uploads/2025/02/Yeti-Vail-scaled.jpeg
END:VEVENT
BEGIN:VEVENT
DTSTART;TZID=America/Denver:20250308T130000
DTEND;TZID=America/Denver:20250308T143000
DTSTAMP:20260423T175430
CREATED:20250128T033558Z
LAST-MODIFIED:20250128T040624Z
UID:10000598-1741438800-1741444200@alpineartscenter.org
SUMMARY:Cupcakes & Canvas
DESCRIPTION:Register \nPaint Pottery with Ceramic Stencils \nChoose from mugs\, plates\, and other pre-made pottery pieces and learn how to apply stencils for beautiful effects! Your class includes all instruction\, your pottery item\, and a cupcake! \nPlease note: pottery will need to be fired and can be picked up about a week after the class. Shipping is also available for an additional fee.
URL:https://alpineartscenter.org/event/cupcakes-canvas-50/
LOCATION:Alpine Arts Center\, 280 MAIN ST UNIT C-101\, EDWARDS\, CO\, 816328501\, United States
ATTACH;FMTTYPE=image/png:https://alpineartscenter.org/wp-content/uploads/2023/07/Ceramics-Stencils.png
END:VEVENT
BEGIN:VEVENT
DTSTART;TZID=America/Denver:20250301T183000
DTEND;TZID=America/Denver:20250301T203000
DTSTAMP:20260423T175430
CREATED:20250113T235035Z
LAST-MODIFIED:20250113T235048Z
UID:10000593-1740853800-1740861000@alpineartscenter.org
SUMMARY:Cocktails & Clay
DESCRIPTION:Register Here \nAspen Mug \nYour clay class includes all materials\, instruction\, and firing/glazing based on a set glaze for the entire class. Projects will be ready to pick up approximately 2 weeks later\, or shipping can be arranged at an additional fee. If you prefer to glaze your own piece\, you may opt to do that for a half-price drop-in fee of $8; please ask your instructor if you are interested in this add-on.
URL:https://alpineartscenter.org/event/cocktails-clay-50/
LOCATION:Alpine Arts Center\, 280 MAIN ST UNIT C-101\, EDWARDS\, CO\, 816328501\, United States
ATTACH;FMTTYPE=image/jpeg:https://alpineartscenter.org/wp-content/uploads/2022/11/aspen-mug.jpg
END:VEVENT
BEGIN:VEVENT
DTSTART;TZID=America/Denver:20250222T130000
DTEND;TZID=America/Denver:20250222T143000
DTSTAMP:20260423T175430
CREATED:20250113T235700Z
LAST-MODIFIED:20250113T235700Z
UID:10000594-1740229200-1740234600@alpineartscenter.org
SUMMARY:Cupcakes & Canvas
DESCRIPTION:Register \nBlue Jay Painting
URL:https://alpineartscenter.org/event/cupcakes-canvas-49/
LOCATION:Alpine Arts Center\, 280 MAIN ST UNIT C-101\, EDWARDS\, CO\, 816328501\, United States
ATTACH;FMTTYPE=image/png:https://alpineartscenter.org/wp-content/uploads/2021/06/Blue-Jay.png
END:VEVENT
BEGIN:VEVENT
DTSTART;TZID=America/Denver:20250219T183000
DTEND;TZID=America/Denver:20250219T203000
DTSTAMP:20260423T175430
CREATED:20250113T234809Z
LAST-MODIFIED:20250113T234809Z
UID:10000592-1739989800-1739997000@alpineartscenter.org
SUMMARY:Cocktails & Canvas
DESCRIPTION:Register \nWinter Sunset Painting
URL:https://alpineartscenter.org/event/cocktails-canvas-80/
LOCATION:Alpine Arts Center\, 280 MAIN ST UNIT C-101\, EDWARDS\, CO\, 816328501\, United States
ATTACH;FMTTYPE=image/jpeg:https://alpineartscenter.org/wp-content/uploads/2021/05/wintersunset-1081.jpg
END:VEVENT
BEGIN:VEVENT
DTSTART;TZID=America/Denver:20250215T183000
DTEND;TZID=America/Denver:20250215T203000
DTSTAMP:20260423T175430
CREATED:20250113T233640Z
LAST-MODIFIED:20250113T233640Z
UID:10000591-1739644200-1739651400@alpineartscenter.org
SUMMARY:Cocktails & Canvas
DESCRIPTION:Register \nSkier’s Paradise Painting
URL:https://alpineartscenter.org/event/cocktails-canvas-79/
LOCATION:Alpine Arts Center\, 280 MAIN ST UNIT C-101\, EDWARDS\, CO\, 816328501\, United States
ATTACH;FMTTYPE=image/jpeg:https://alpineartscenter.org/wp-content/uploads/2021/05/skiersparadise-1079.jpg
END:VEVENT
BEGIN:VEVENT
DTSTART;TZID=America/Denver:20250208T183000
DTEND;TZID=America/Denver:20250208T203000
DTSTAMP:20260423T175430
CREATED:20250113T232247Z
LAST-MODIFIED:20250113T232247Z
UID:10000590-1739039400-1739046600@alpineartscenter.org
SUMMARY:Cocktails & Clay
DESCRIPTION:Register Here \nSki Boot Mug (or snowboard boot) \nYour clay class includes all materials\, instruction\, and firing/glazing based on a set glaze for the entire class. Projects will be ready to pick up approximately 2 weeks later\, or shipping can be arranged at an additional fee. If you prefer to glaze your own piece\, you may opt to do that for a half-price drop-in fee of $8; please ask your instructor if you are interested in this add-on.
URL:https://alpineartscenter.org/event/cocktails-clay-49/
LOCATION:Alpine Arts Center\, 280 MAIN ST UNIT C-101\, EDWARDS\, CO\, 816328501\, United States
ATTACH;FMTTYPE=image/png:https://alpineartscenter.org/wp-content/uploads/2023/01/Screenshot-2023-01-26-at-3.11.40-PM.png
END:VEVENT
BEGIN:VEVENT
DTSTART;TZID=America/Denver:20250129T183000
DTEND;TZID=America/Denver:20250129T210000
DTSTAMP:20260423T175430
CREATED:20241209T190525Z
LAST-MODIFIED:20241209T190525Z
UID:10000586-1738175400-1738184400@alpineartscenter.org
SUMMARY:Paint Your Pet
DESCRIPTION:Register \nPaint Your Pet \nPlease send in the photo of your pet to info@alpineartscenter.org upon registering (the photo should have good/quality lighting\, a close up of your pet works best). For registrations less than 48 hours in advance please inquire before signing up to make sure our staff has time to transfer your image onto your canvas.
URL:https://alpineartscenter.org/event/paint-your-pet-10/
LOCATION:Alpine Arts Center\, 280 MAIN ST UNIT C-101\, EDWARDS\, CO\, 816328501\, United States
ATTACH;FMTTYPE=image/jpeg:https://alpineartscenter.org/wp-content/uploads/2021/05/animal-portrait.jpg
END:VEVENT
BEGIN:VEVENT
DTSTART;TZID=America/Denver:20250115T183000
DTEND;TZID=America/Denver:20250115T203000
DTSTAMP:20260423T175430
CREATED:20241209T185937Z
LAST-MODIFIED:20241209T185937Z
UID:10000585-1736965800-1736973000@alpineartscenter.org
SUMMARY:Cocktails & Canvas
DESCRIPTION:Register \nTwilight Stream Painting
URL:https://alpineartscenter.org/event/cocktails-canvas-78/
LOCATION:Alpine Arts Center\, 280 MAIN ST UNIT C-101\, EDWARDS\, CO\, 816328501\, United States
ATTACH;FMTTYPE=image/jpeg:https://alpineartscenter.org/wp-content/uploads/2021/06/Twilight-Stream-scaled.jpg
END:VEVENT
BEGIN:VEVENT
DTSTART;TZID=America/Denver:20250111T183000
DTEND;TZID=America/Denver:20250111T203000
DTSTAMP:20260423T175430
CREATED:20241209T202822Z
LAST-MODIFIED:20241209T202822Z
UID:10000588-1736620200-1736627400@alpineartscenter.org
SUMMARY:Cocktails & Clay
DESCRIPTION:Register Here \nAspen Vase \nYour clay class includes all materials\, instruction\, and firing/glazing based on a set glaze for the entire class. Projects will be ready to pick up approximately 2 weeks later\, or shipping can be arranged at an additional fee. If you prefer to glaze your own piece\, you may opt to do that for a half-price drop-in fee of $8; please ask your instructor if you are interested in this add-on.
URL:https://alpineartscenter.org/event/cocktails-clay-48/
LOCATION:Alpine Arts Center\, 280 MAIN ST UNIT C-101\, EDWARDS\, CO\, 816328501\, United States
ATTACH;FMTTYPE=image/jpeg:https://alpineartscenter.org/wp-content/uploads/2022/11/aspen-vase.jpg
END:VEVENT
BEGIN:VEVENT
DTSTART;TZID=America/Denver:20250104T130000
DTEND;TZID=America/Denver:20250104T143000
DTSTAMP:20260423T175430
CREATED:20241209T202420Z
LAST-MODIFIED:20241209T202420Z
UID:10000587-1735995600-1736001000@alpineartscenter.org
SUMMARY:Cupcakes & Canvas
DESCRIPTION:Register \nSwirly Aspens Painting
URL:https://alpineartscenter.org/event/cupcakes-canvas-48/
LOCATION:Alpine Arts Center\, 280 MAIN ST UNIT C-101\, EDWARDS\, CO\, 816328501\, United States
ATTACH;FMTTYPE=image/jpeg:https://alpineartscenter.org/wp-content/uploads/2021/05/IMG_4832-594.jpg
END:VEVENT
BEGIN:VEVENT
DTSTART;TZID=America/Denver:20241228T183000
DTEND;TZID=America/Denver:20241228T203000
DTSTAMP:20260423T175430
CREATED:20241014T042004Z
LAST-MODIFIED:20241014T042004Z
UID:10000580-1735410600-1735417800@alpineartscenter.org
SUMMARY:Cocktails & Canvas
DESCRIPTION:Register \nChair 5 Views Painting
URL:https://alpineartscenter.org/event/cocktails-canvas-77/
LOCATION:Alpine Arts Center\, 280 MAIN ST UNIT C-101\, EDWARDS\, CO\, 816328501\, United States
ATTACH;FMTTYPE=image/png:https://alpineartscenter.org/wp-content/uploads/2024/03/Chair-5-Views.png
END:VEVENT
BEGIN:VEVENT
DTSTART;TZID=America/Denver:20241218T183000
DTEND;TZID=America/Denver:20241218T203000
DTSTAMP:20260423T175430
CREATED:20241014T041611Z
LAST-MODIFIED:20241014T041611Z
UID:10000579-1734546600-1734553800@alpineartscenter.org
SUMMARY:Cocktails & Canvas
DESCRIPTION:Register \nSnowy Path Painting
URL:https://alpineartscenter.org/event/cocktails-canvas-18/
LOCATION:Alpine Arts Center\, 280 MAIN ST UNIT C-101\, EDWARDS\, CO\, 816328501\, United States
ATTACH;FMTTYPE=image/jpeg:https://alpineartscenter.org/wp-content/uploads/2021/05/snowypathNEWW-705.jpg
END:VEVENT
BEGIN:VEVENT
DTSTART;TZID=America/Denver:20241214T130000
DTEND;TZID=America/Denver:20241214T143000
DTSTAMP:20260423T175430
CREATED:20241014T043801Z
LAST-MODIFIED:20241014T043812Z
UID:10000583-1734181200-1734186600@alpineartscenter.org
SUMMARY:Cupcakes & Canvas
DESCRIPTION:Register \nHoliday Ornaments – Painting
URL:https://alpineartscenter.org/event/cupcakes-canvas-47/
LOCATION:Alpine Arts Center\, 280 MAIN ST UNIT C-101\, EDWARDS\, CO\, 816328501\, United States
ATTACH;FMTTYPE=image/jpeg:https://alpineartscenter.org/wp-content/uploads/2021/05/holiday_ornaments-593.jpg
END:VEVENT
BEGIN:VEVENT
DTSTART;TZID=America/Denver:20241206T100000
DTEND;TZID=America/Denver:20241209T180000
DTSTAMP:20260423T175430
CREATED:20240922T203833Z
LAST-MODIFIED:20240922T203833Z
UID:10000575-1733479200-1733767200@alpineartscenter.org
SUMMARY:Artists' Holiday Market
DESCRIPTION:Give the gift of handmade this holiday season by shopping at our Holiday Market! \nOur Annual Holiday Market will feature Colorado-made art\, decor & other handmade knickknacks. Some of your favorite gallery artists from our store as well as local artists will have their items for sale. All goods at the Holiday Market are handmade by a Colorado artist. \nThe Holiday Market is open from 10 am – 6 pm December 6th-9th. \nWe’ll also have complimentary cider and cookies available so you can snack while you shop! \nCall To Artists! \nThe Holiday Market is approaching! If you would like to participate in this year’s market please email us @ info@alpineartscenter.org and we’ll respond with all of the info & details. If this is your first year entering the market please send samples of your work to this email and we can go from there!
URL:https://alpineartscenter.org/event/artists-holiday-market/
LOCATION:Alpine Arts Center\, 280 MAIN ST UNIT C-101\, EDWARDS\, CO\, 816328501\, United States
ATTACH;FMTTYPE=image/png:https://alpineartscenter.org/wp-content/uploads/2023/09/2023-Holiday-Market-1-e1727037376391.png
END:VEVENT
BEGIN:VEVENT
DTSTART;TZID=America/Denver:20241204T183000
DTEND;TZID=America/Denver:20241204T210000
DTSTAMP:20260423T175430
CREATED:20241014T040033Z
LAST-MODIFIED:20241014T040033Z
UID:10000576-1733337000-1733346000@alpineartscenter.org
SUMMARY:Paint Your Pet
DESCRIPTION:Register \nPaint Your Pet \nPlease send in the photo of your pet to info@alpineartscenter.org upon registering (the photo should have good/quality lighting\, a close up of your pet works best). For registrations less than 48 hours in advance please inquire before signing up to make sure our staff has time to transfer your image onto your canvas.
URL:https://alpineartscenter.org/event/paint-your-pet-9/
LOCATION:Alpine Arts Center\, 280 MAIN ST UNIT C-101\, EDWARDS\, CO\, 816328501\, United States
ATTACH;FMTTYPE=image/jpeg:https://alpineartscenter.org/wp-content/uploads/2021/05/animal-portrait.jpg
END:VEVENT
BEGIN:VEVENT
DTSTART;TZID=America/Denver:20241130T130000
DTEND;TZID=America/Denver:20241130T143000
DTSTAMP:20260423T175430
CREATED:20241014T043223Z
LAST-MODIFIED:20241014T043403Z
UID:10000582-1732971600-1732977000@alpineartscenter.org
SUMMARY:Cupcakes & Canvas
DESCRIPTION:Register \nWood Ornaments – Painting
URL:https://alpineartscenter.org/event/cupcakes-canvas-46/
LOCATION:Alpine Arts Center\, 280 MAIN ST UNIT C-101\, EDWARDS\, CO\, 816328501\, United States
ATTACH;FMTTYPE=image/jpeg:https://alpineartscenter.org/wp-content/uploads/2021/06/wood-slice-ornaments.jpeg
END:VEVENT
BEGIN:VEVENT
DTSTART;TZID=America/Denver:20241123T183000
DTEND;TZID=America/Denver:20241123T203000
DTSTAMP:20260423T175430
CREATED:20241014T041018Z
LAST-MODIFIED:20241014T041018Z
UID:10000578-1732386600-1732393800@alpineartscenter.org
SUMMARY:Cocktails & Canvas
DESCRIPTION:Register \nSki Vail Painting
URL:https://alpineartscenter.org/event/cocktails-canvas-16/
LOCATION:Alpine Arts Center\, 280 MAIN ST UNIT C-101\, EDWARDS\, CO\, 816328501\, United States
ATTACH;FMTTYPE=image/jpeg:https://alpineartscenter.org/wp-content/uploads/2021/06/ski-vail.jpg
END:VEVENT
BEGIN:VEVENT
DTSTART;TZID=America/Denver:20241121T170000
DTEND;TZID=America/Denver:20241121T183000
DTSTAMP:20260423T175430
CREATED:20240920T173825Z
LAST-MODIFIED:20240920T173825Z
UID:10000573-1732208400-1732213800@alpineartscenter.org
SUMMARY:Town of Vail Art Series
DESCRIPTION:Register \nDiscounted Art Class: Pressed Flower Seasonal Ornaments \nThursday\, November 21 @ 5:00-6:30pm \nAlpine Arts Center hosts a discounted class at Root & Flower \nCome create Pressed Flower Seasonal Ornaments\, great for Thanksgiving and also holiday gift giving! All materials & step-by-step instruction will be provided. Alpine Arts Center is excited to offer art programs in partnership with the Town of Vail for a discounted price of $25 per person!
URL:https://alpineartscenter.org/event/town-of-vail-art-series-8/
LOCATION:Root & Flower\, 288 Bridge St Unit C4\, Vail\, CO\, 81657\, United States
ATTACH;FMTTYPE=image/jpeg:https://alpineartscenter.org/wp-content/uploads/2024/09/flower-pressed-ornament.jpg
END:VEVENT
END:VCALENDAR