BEGIN:VCALENDAR
VERSION:2.0
PRODID:-//Alpine Arts Center - ECPv6.15.11//NONSGML v1.0//EN
CALSCALE:GREGORIAN
METHOD:PUBLISH
X-WR-CALNAME:Alpine Arts Center
X-ORIGINAL-URL:https://alpineartscenter.org
X-WR-CALDESC:Events for Alpine Arts Center
REFRESH-INTERVAL;VALUE=DURATION:PT1H
X-Robots-Tag:noindex
X-PUBLISHED-TTL:PT1H
BEGIN:VTIMEZONE
TZID:America/Denver
BEGIN:DAYLIGHT
TZOFFSETFROM:-0700
TZOFFSETTO:-0600
TZNAME:MDT
DTSTART:20220313T090000
END:DAYLIGHT
BEGIN:STANDARD
TZOFFSETFROM:-0600
TZOFFSETTO:-0700
TZNAME:MST
DTSTART:20221106T080000
END:STANDARD
BEGIN:DAYLIGHT
TZOFFSETFROM:-0700
TZOFFSETTO:-0600
TZNAME:MDT
DTSTART:20230312T090000
END:DAYLIGHT
BEGIN:STANDARD
TZOFFSETFROM:-0600
TZOFFSETTO:-0700
TZNAME:MST
DTSTART:20231105T080000
END:STANDARD
BEGIN:DAYLIGHT
TZOFFSETFROM:-0700
TZOFFSETTO:-0600
TZNAME:MDT
DTSTART:20240310T090000
END:DAYLIGHT
BEGIN:STANDARD
TZOFFSETFROM:-0600
TZOFFSETTO:-0700
TZNAME:MST
DTSTART:20241103T080000
END:STANDARD
END:VTIMEZONE
BEGIN:VEVENT
DTSTART;TZID=America/Denver:20230719T183000
DTEND;TZID=America/Denver:20230719T203000
DTSTAMP:20260424T081106
CREATED:20230426T221807Z
LAST-MODIFIED:20230708T180200Z
UID:10000351-1689791400-1689798600@alpineartscenter.org
SUMMARY:Cocktails & Canvas
DESCRIPTION:Register \nSunset Bike Ride
URL:https://alpineartscenter.org/event/cocktails-canvas-63/
LOCATION:Alpine Arts Center\, 280 MAIN ST UNIT C-101\, EDWARDS\, CO\, 816328501\, United States
ATTACH;FMTTYPE=image/png:https://alpineartscenter.org/wp-content/uploads/2023/07/Sunset-Bike-Ride.png
END:VEVENT
BEGIN:VEVENT
DTSTART;TZID=America/Denver:20230718T153000
DTEND;TZID=America/Denver:20230718T200000
DTSTAMP:20260424T081106
CREATED:20230505T200231Z
LAST-MODIFIED:20230617T214435Z
UID:10000462-1689694200-1689710400@alpineartscenter.org
SUMMARY:Town of Vail Art Series: Silk Marbling Booth
DESCRIPTION:*No registration necessary* \nDiscounted Art Class: Silk Marbling \nIn Vail @ The Amp (Gerald R. Ford Amphitheater) \nTuesday\, July 18th Starting @ 3:30pm \nAlpine Arts Center is excited to offer art programs in partnership with the Town of Vail for a discounted price of $25 per person! Events are fun\, social\, and open to all ages unless otherwise noted (children should be accompanied by a participating adult). \nStop by our silk marbling booth for an amazing art medium and experience. All materials & step-by-step instruction will be provided. Register at the link above. \nThank you to our sponsors: Town of Vail\, Holy Cross Energy\, Alpine Bank\, and The Vail Daily.
URL:https://alpineartscenter.org/event/town-of-vail-art-series-silk-marbling-booth-3/
LOCATION:Gerald R. Ford Amphitheater\, 503 S Frontage Rd E\, Vail\, CO\, 81656\, United States
ATTACH;FMTTYPE=image/png:https://alpineartscenter.org/wp-content/uploads/2021/06/silkscarf.png
END:VEVENT
BEGIN:VEVENT
DTSTART;TZID=America/Denver:20230715T183000
DTEND;TZID=America/Denver:20230715T203000
DTSTAMP:20260424T081106
CREATED:20230426T220803Z
LAST-MODIFIED:20230428T231022Z
UID:10000349-1689445800-1689453000@alpineartscenter.org
SUMMARY:Sip & Etch
DESCRIPTION:Register \nGlass Etching \nCreate a set of etched glasses using stencils and etching cream! This process is fun to learn and makes the glass etching process a breeze. Your drinks will taste better in a set of your own handmade glasses.
URL:https://alpineartscenter.org/event/cocktails-canvas-62/
LOCATION:Alpine Arts Center\, 280 MAIN ST UNIT C-101\, EDWARDS\, CO\, 816328501\, United States
ATTACH;FMTTYPE=image/jpeg:https://alpineartscenter.org/wp-content/uploads/2021/05/wine_glass_etching-723.jpg
END:VEVENT
BEGIN:VEVENT
DTSTART;TZID=America/Denver:20230711T153000
DTEND;TZID=America/Denver:20230711T170000
DTSTAMP:20260424T081106
CREATED:20230505T192728Z
LAST-MODIFIED:20230609T200300Z
UID:10000461-1689089400-1689094800@alpineartscenter.org
SUMMARY:Town of Vail Art Series
DESCRIPTION:Register \nDiscounted Art Class: Special Project w/ Squire Broel – Foil Tooling Sculpture \nIn Vail @ The Amp (Gerald R. Ford Amphitheater) \nTuesday\, July 11th @ 3:30 pm \nAlpine Arts Center is excited to offer art programs in partnership with the Town of Vail for a discounted price of $25 per person! Events are fun\, social\, and open to all ages unless otherwise noted (children should be accompanied by a participating adult). \nCome create a sculpture with Squire Broel! All materials & step-by-step instruction will be provided. Register at the link above and see below for more details. \nAlso join us during the concert starting @ 5:30 for a community drop-in art project with Squire Broel! \nThank you to our sponsors: Town of Vail\, Holy Cross Energy\, Alpine Bank\, and The Vail Daily. \n  \n\nSquire Broel is part of Vail’s Art in Public Places Artist in Residency summer pilot program. View Broel’s sculpture in the courtyard at the Ford Park amphitheater later this summer. \n\n\nSquire Broel’s sculptures draw inspiration from nature–especially from trees and forests. This project incorporates the use of abstract and simplified forms that reference trees\, gothic windows\, and feathers as well as other natural and human-made objects. Each shape will have similar central characteristics but each will showcase unique marks and colors based on the vision of each participating maker.\n\nTo learn more about Squire Broel view his website.
URL:https://alpineartscenter.org/event/town-of-vail-art-series-special-project-w-squire-broel/
LOCATION:Gerald R. Ford Amphitheater\, 503 S Frontage Rd E\, Vail\, CO\, 81656\, United States
ATTACH;FMTTYPE=image/png:https://alpineartscenter.org/wp-content/uploads/2023/05/Squire-Broel.png
END:VEVENT
BEGIN:VEVENT
DTSTART;TZID=America/Denver:20230709T150000
DTEND;TZID=America/Denver:20230709T163000
DTSTAMP:20260424T081106
CREATED:20230426T215418Z
LAST-MODIFIED:20230426T215418Z
UID:10000347-1688914800-1688920200@alpineartscenter.org
SUMMARY:Cupcakes & Clay
DESCRIPTION:Ceramic Mug Design \nYour clay class includes all materials\, instruction\, and firing/glazing based on a set glaze for the entire class. Projects will be ready to pick up approximately 2 weeks later\, or shipping can be arranged at an additional fee. If you prefer to glaze your own piece\, you may opt to do that for a half-price drop-in fee of $8; please ask your instructor if you are interested in this add-on.
URL:https://alpineartscenter.org/event/cupcakes-clay-15/
LOCATION:Alpine Arts Center\, 280 MAIN ST UNIT C-101\, EDWARDS\, CO\, 816328501\, United States
ATTACH;FMTTYPE=image/jpeg:https://alpineartscenter.org/wp-content/uploads/2021/05/aspen_mug-732.jpg
END:VEVENT
BEGIN:VEVENT
DTSTART;TZID=America/Denver:20230705T183000
DTEND;TZID=America/Denver:20230705T213000
DTSTAMP:20260424T081106
CREATED:20230426T214448Z
LAST-MODIFIED:20230509T182546Z
UID:10000345-1688581800-1688592600@alpineartscenter.org
SUMMARY:Cocktails & Canvas
DESCRIPTION:Register \nWildlife at Dusk Painting \n 
URL:https://alpineartscenter.org/event/cocktails-clay-33/
LOCATION:Alpine Arts Center\, 280 MAIN ST UNIT C-101\, EDWARDS\, CO\, 816328501\, United States
ATTACH;FMTTYPE=image/jpeg:https://alpineartscenter.org/wp-content/uploads/2021/05/ElkatDusk-scaled.jpg
END:VEVENT
BEGIN:VEVENT
DTSTART;TZID=America/Denver:20230701T183000
DTEND;TZID=America/Denver:20230701T203000
DTSTAMP:20260424T081106
CREATED:20230426T213543Z
LAST-MODIFIED:20230426T213543Z
UID:10000453-1688236200-1688243400@alpineartscenter.org
SUMMARY:Cocktails & Clay
DESCRIPTION:Register \nAspen Vase \nYour clay class includes all materials\, instruction\, and firing/glazing based on a set glaze for the entire class. Projects will be ready to pick up approximately 2 weeks later\, or shipping can be arranged at an additional fee. If you prefer to glaze your own piece\, you may opt to do that for a half-price drop-in fee of $8; please ask your instructor if you are interested in this add-on.
URL:https://alpineartscenter.org/event/cocktails-clay-32/
LOCATION:Alpine Arts Center\, 280 MAIN ST UNIT C-101\, EDWARDS\, CO\, 816328501\, United States
ATTACH;FMTTYPE=image/jpeg:https://alpineartscenter.org/wp-content/uploads/2021/05/aspen_vases-736.jpg
END:VEVENT
BEGIN:VEVENT
DTSTART;TZID=America/Denver:20230627T153000
DTEND;TZID=America/Denver:20230627T170000
DTSTAMP:20260424T081106
CREATED:20230505T190617Z
LAST-MODIFIED:20230509T224318Z
UID:10000460-1687879800-1687885200@alpineartscenter.org
SUMMARY:Town of Vail Art Series: Vail Mandala Painting
DESCRIPTION:Register \nDiscounted Art Class: Vail Mandala Painting \nIn Vail @ The Amp (Gerald R. Ford Amphitheater) \nTuesday\, June 27th @ 3:30 pm \nAlpine Arts Center is excited to offer art programs in partnership with the Town of Vail for a discounted price of $25 per person! Events are fun\, social\, and open to all ages unless otherwise noted (children should be accompanied by a participating adult). \nCome create an amazing Vail Mandala Painting! All materials & step-by-step instruction will be provided. Register at the link above. \nAlso join us during the concert starting @ 5:30 for drop-in art – canvas painting! \nThank you to our sponsors: Town of Vail\, Holy Cross Energy\, Alpine Bank\, and The Vail Daily.
URL:https://alpineartscenter.org/event/town-of-vail-art-series-vail-mandala-painting/
LOCATION:Gerald R. Ford Amphitheater\, 503 S Frontage Rd E\, Vail\, CO\, 81656\, United States
ATTACH;FMTTYPE=image/png:https://alpineartscenter.org/wp-content/uploads/2023/05/Screenshot-2023-05-09-at-12.20.06-PM.png
END:VEVENT
BEGIN:VEVENT
DTSTART;TZID=America/Denver:20230621T183000
DTEND;TZID=America/Denver:20230621T203000
DTSTAMP:20260424T081106
CREATED:20230426T211955Z
LAST-MODIFIED:20230517T183929Z
UID:10000451-1687372200-1687379400@alpineartscenter.org
SUMMARY:Cocktails & Canvas
DESCRIPTION:Register \nSunset On Gore Range
URL:https://alpineartscenter.org/event/cocktails-canvas-67/
LOCATION:Alpine Arts Center\, 280 MAIN ST UNIT C-101\, EDWARDS\, CO\, 816328501\, United States
ATTACH;FMTTYPE=image/jpeg:https://alpineartscenter.org/wp-content/uploads/2021/06/IMG_3243-scaled.jpg
END:VEVENT
BEGIN:VEVENT
DTSTART;TZID=America/Denver:20230617T183000
DTEND;TZID=America/Denver:20230617T203000
DTSTAMP:20260424T081106
CREATED:20230426T211031Z
LAST-MODIFIED:20230428T230537Z
UID:10000450-1687026600-1687033800@alpineartscenter.org
SUMMARY:Cocktails & Canvas
DESCRIPTION:Register \nSummer Path Painting
URL:https://alpineartscenter.org/event/cocktails-canvas-61/
LOCATION:Alpine Arts Center\, 280 MAIN ST UNIT C-101\, EDWARDS\, CO\, 816328501\, United States
ATTACH;FMTTYPE=image/jpeg:https://alpineartscenter.org/wp-content/uploads/2021/05/summer_path.jpg
END:VEVENT
BEGIN:VEVENT
DTSTART;TZID=America/Denver:20230603T183000
DTEND;TZID=America/Denver:20230603T203000
DTSTAMP:20260424T081106
CREATED:20230210T221308Z
LAST-MODIFIED:20230427T203927Z
UID:10000444-1685817000-1685824200@alpineartscenter.org
SUMMARY:Cocktails & Clay
DESCRIPTION:Register Here \nCustom Garden Stakes \nYour clay class includes all materials\, instruction\, and firing/glazing based on a set glaze for the entire class. Projects will be ready to pick up approximately 2 weeks later\, or shipping can be arranged at an additional fee. If you prefer to glaze your own piece\, you may opt to do that for a half-price drop-in fee of $8; please ask your instructor if you are interested in this add-on.
URL:https://alpineartscenter.org/event/cocktails-canvas-59/
LOCATION:Alpine Arts Center\, 280 MAIN ST UNIT C-101\, EDWARDS\, CO\, 816328501\, United States
ATTACH;FMTTYPE=image/png:https://alpineartscenter.org/wp-content/uploads/2023/02/Garden-Stakes.png
END:VEVENT
BEGIN:VEVENT
DTSTART;TZID=America/Denver:20230524T183000
DTEND;TZID=America/Denver:20230524T203000
DTSTAMP:20260424T081106
CREATED:20230428T173424Z
LAST-MODIFIED:20230428T174206Z
UID:10000458-1684953000-1684960200@alpineartscenter.org
SUMMARY:Cocktails & Clay
DESCRIPTION:Register \nAspen Vase \nYour clay class includes all materials\, instruction\, and firing/glazing based on a set glaze for the entire class. Projects will be ready to pick up approximately 2 weeks later\, or shipping can be arranged at an additional fee. If you prefer to glaze your own piece\, you may opt to do that for a half-price drop-in fee of $8; please ask your instructor if you are interested in this add-on.
URL:https://alpineartscenter.org/event/cocktails-clay-36/
LOCATION:Alpine Arts Center\, 280 MAIN ST UNIT C-101\, EDWARDS\, CO\, 816328501\, United States
ATTACH;FMTTYPE=image/jpeg:https://alpineartscenter.org/wp-content/uploads/2021/05/aspen_vases-736.jpg
END:VEVENT
BEGIN:VEVENT
DTSTART;TZID=America/Denver:20230427T080000
DTEND;TZID=America/Denver:20230427T170000
DTSTAMP:20260424T081106
CREATED:20230427T194837Z
LAST-MODIFIED:20230427T194837Z
UID:10000361-1682582400-1682614800@alpineartscenter.org
SUMMARY:Cocktails & Clay
DESCRIPTION:Register \nAspen Vase \nYour clay class includes all materials\, instruction\, and firing/glazing based on a set glaze for the entire class. Projects will be ready to pick up approximately 2 weeks later\, or shipping can be arranged at an additional fee. If you prefer to glaze your own piece\, you may opt to do that for a half-price drop-in fee of $8; please ask your instructor if you are interested in this add-on.
URL:https://alpineartscenter.org/event/cocktails-clay-35/
LOCATION:Alpine Arts Center\, 280 MAIN ST UNIT C-101\, EDWARDS\, CO\, 816328501\, United States
ATTACH;FMTTYPE=image/jpeg:https://alpineartscenter.org/wp-content/uploads/2021/05/aspen_vases-736.jpg
END:VEVENT
BEGIN:VEVENT
DTSTART;TZID=America/Denver:20230421T180000
DTEND;TZID=America/Denver:20230421T210000
DTSTAMP:20260424T081106
CREATED:20230404T195728Z
LAST-MODIFIED:20230421T142341Z
UID:10000448-1682100000-1682110800@alpineartscenter.org
SUMMARY:Cocktails\, Cooking & Clay
DESCRIPTION:Friday\, April 21st @ 6-9pm \nRegister Here \n\nCome delight in a night of cocktails\, cooking & clay! Enjoy an ochoko of sake while making a California roll during our collaborative evening with The Kitchen Conservatory. We will be making a clay sushi platter and soy sauce dish.\n\nThis class includes 2 California rolls\, an ochoko of sake\, all clay materials\, instruction\, and firing/glazing based on a set glaze for the entire class. Projects will be ready to pick up approximately 2 weeks later\, or shipping can be arranged at an additional fee. If you prefer to glaze your own piece\, you may opt to do that for a half-price drop-in fee of $8; please ask your instructor if you are interested in this add-on.\n\nFor more information on The Kitchen Conservatory visit  www.kitchenconservatory.org.
URL:https://alpineartscenter.org/event/co/
LOCATION:Alpine Arts Center\, 280 MAIN ST UNIT C-101\, EDWARDS\, CO\, 816328501\, United States
END:VEVENT
END:VCALENDAR