BEGIN:VCALENDAR
VERSION:2.0
PRODID:-//Alpine Arts Center - ECPv6.15.11//NONSGML v1.0//EN
CALSCALE:GREGORIAN
METHOD:PUBLISH
X-ORIGINAL-URL:https://alpineartscenter.org
X-WR-CALDESC:Events for Alpine Arts Center
REFRESH-INTERVAL;VALUE=DURATION:PT1H
X-Robots-Tag:noindex
X-PUBLISHED-TTL:PT1H
BEGIN:VTIMEZONE
TZID:America/Denver
BEGIN:DAYLIGHT
TZOFFSETFROM:-0700
TZOFFSETTO:-0600
TZNAME:MDT
DTSTART:20250309T090000
END:DAYLIGHT
BEGIN:STANDARD
TZOFFSETFROM:-0600
TZOFFSETTO:-0700
TZNAME:MST
DTSTART:20251102T080000
END:STANDARD
BEGIN:DAYLIGHT
TZOFFSETFROM:-0700
TZOFFSETTO:-0600
TZNAME:MDT
DTSTART:20260308T090000
END:DAYLIGHT
BEGIN:STANDARD
TZOFFSETFROM:-0600
TZOFFSETTO:-0700
TZNAME:MST
DTSTART:20261101T080000
END:STANDARD
BEGIN:DAYLIGHT
TZOFFSETFROM:-0700
TZOFFSETTO:-0600
TZNAME:MDT
DTSTART:20270314T090000
END:DAYLIGHT
BEGIN:STANDARD
TZOFFSETFROM:-0600
TZOFFSETTO:-0700
TZNAME:MST
DTSTART:20271107T080000
END:STANDARD
END:VTIMEZONE
BEGIN:VEVENT
DTSTART;TZID=America/Denver:20260428T170000
DTEND;TZID=America/Denver:20260428T183000
DTSTAMP:20260423T085637
CREATED:20260326T182442Z
LAST-MODIFIED:20260326T182442Z
UID:10000726-1777395600-1777401000@alpineartscenter.org
SUMMARY:Discover Vail Art Series
DESCRIPTION:Register \nDiscounted Art Class: Mexican Folk Art Flower Pot \nTuesday\, April 28th @ 5-6:30pm \nAlpine Arts Center hosts a discounted class at El Segundo\, Vail. \nCreate your own Mexican Folk Art Flower Pot at El Segundo! All materials & step-by-step instruction will be provided. Alpine Arts Center is excited to offer art programs in partnership with Discover Vail for a discounted price of $25 per person! Events are fun\, social\, and open to all ages unless otherwise noted (children should be accompanied by a participating adult). \nThanks to our event sponsors: Discover Vail\, Alpine Bank\, and Holy Cross Energy.
URL:https://alpineartscenter.org/event/discover-vail-art-series-10/
LOCATION:El Segundo\, 223 Gore Creek Dr\, Vail\, 81657\, United States
ATTACH;FMTTYPE=image/jpeg:https://alpineartscenter.org/wp-content/uploads/2026/03/El-Segundo-Flower-Pots.jpg
END:VEVENT
BEGIN:VEVENT
DTSTART;TZID=America/Denver:20260506T183000
DTEND;TZID=America/Denver:20260506T210000
DTSTAMP:20260423T085637
CREATED:20260221T231640Z
LAST-MODIFIED:20260221T231640Z
UID:10000699-1778092200-1778101200@alpineartscenter.org
SUMMARY:Paint Your Pet
DESCRIPTION:REGISTER HERE! \nPaint Your Pet \nPlease send in the photo of your pet to info@alpineartscenter.org upon registering (the photo should have good/quality lighting\, a close up of your pet works best). For registrations less than 48 hours in advance please inquire before signing up to make sure our staff has time to transfer your image onto your canvas. \nWant a fun and creative night out in the company of friends? We will lead you step-by-step through the evening’s project and provide all materials. Wine/beer is $6 per glass (all alcoholic beverages must be purchased through our bar; non-alcoholic options and snacks available too). Advanced registration required. *SAVE 10% with our new Arts Center Memberships (good for discounts on in studio and virtual classes\, camps\, drop-ins & wine/beer).
URL:https://alpineartscenter.org/event/paint-your-pet-15/
LOCATION:Alpine Arts Center\, 280 MAIN ST UNIT C-101\, EDWARDS\, CO\, 816328501\, United States
ATTACH;FMTTYPE=image/jpeg:https://alpineartscenter.org/wp-content/uploads/2021/05/animal-portrait.jpg
END:VEVENT
BEGIN:VEVENT
DTSTART;TZID=America/Denver:20260606T183000
DTEND;TZID=America/Denver:20260606T203000
DTSTAMP:20260423T085637
CREATED:20260222T215207Z
LAST-MODIFIED:20260222T215207Z
UID:10000711-1780770600-1780777800@alpineartscenter.org
SUMMARY:Cocktails & Canvas
DESCRIPTION:REGISTER HERE! \nBatik Painting \nLearn the process of Batik using hot wax and dyes – with any choice of image/subject! \nWant a fun and creative night out in the company of friends? We will lead you step-by-step through the evening’s project and provide all materials. Wine/beer is $6 per glass (all alcoholic beverages must be purchased through our bar; non-alcoholic options and snacks available too). Advanced registration required. *SAVE 10% with our new Arts Center Memberships (good for discounts on in studio and virtual classes\, camps\, drop-ins & wine/beer).
URL:https://alpineartscenter.org/event/cocktails-canvas-104/
LOCATION:Alpine Arts Center\, 280 MAIN ST UNIT C-101\, EDWARDS\, CO\, 816328501\, United States
ATTACH;FMTTYPE=image/png:https://alpineartscenter.org/wp-content/uploads/2026/02/Batik.png
END:VEVENT
BEGIN:VEVENT
DTSTART;TZID=America/Denver:20260610T183000
DTEND;TZID=America/Denver:20260610T203000
DTSTAMP:20260423T085637
CREATED:20260222T222116Z
LAST-MODIFIED:20260222T233729Z
UID:10000713-1781116200-1781123400@alpineartscenter.org
SUMMARY:Cocktails & Clay
DESCRIPTION:REGISTER HERE! \nClay Cabin Candle & Incense Holder \nWant a fun and creative night out in the company of friends? We will lead you step-by-step through the evening’s project and provide all materials. Wine/beer is $6 per glass (all alcoholic beverages must be purchased through our bar; non-alcoholic options and snacks available too). Advanced registration required. *SAVE 10% with our new Arts Center Memberships (good for discounts on in studio and virtual classes\, camps\, drop-ins & wine/beer). \nYour clay class includes all materials\, instruction\, and firing/glazing based on a set glaze for the entire class. Projects will be ready to pick up approximately 2 weeks later\, or shipping can be arranged at an additional fee. If you prefer to glaze your own piece\, you may opt to do that for a half-price drop-in fee of $8; please ask your instructor if you are interested in this add-on.
URL:https://alpineartscenter.org/event/cocktails-clay-66/
LOCATION:Alpine Arts Center\, 280 MAIN ST UNIT C-101\, EDWARDS\, CO\, 816328501\, United States
ATTACH;FMTTYPE=image/jpeg:https://alpineartscenter.org/wp-content/uploads/2026/02/Cabin-Candle-Incense-Holder.jpg
END:VEVENT
BEGIN:VEVENT
DTSTART;TZID=America/Denver:20260613T130000
DTEND;TZID=America/Denver:20260613T143000
DTSTAMP:20260423T085637
CREATED:20260222T204828Z
LAST-MODIFIED:20260222T204828Z
UID:10000701-1781355600-1781361000@alpineartscenter.org
SUMMARY:Cupcakes & Canvas
DESCRIPTION:REGISTER HERE! \nColumbine painting! \nA family friendly version of our Cocktails & Canvas and Cocktails & Clay classes! An instructor will guide you through a step by step demonstration of the featured project; all supplies and cupcakes are included! Wine/beer/champagne can be purchased during the class for ages 21+. To register a large group\, please call Alpine Arts Center at 970-926-2732. *SAVE 10% with our new Arts Center Memberships (good for discounts on in studio and virtual classes\, camps\, drop-ins & wine/beer).
URL:https://alpineartscenter.org/event/cupcakes-canvas-60/
LOCATION:Alpine Arts Center\, 280 MAIN ST UNIT C-101\, EDWARDS\, CO\, 816328501\, United States
ATTACH;FMTTYPE=image/jpeg:https://alpineartscenter.org/wp-content/uploads/2021/05/Columbine-785.jpg
END:VEVENT
BEGIN:VEVENT
DTSTART;TZID=America/Denver:20260620T183000
DTEND;TZID=America/Denver:20260620T203000
DTSTAMP:20260423T085637
CREATED:20260222T222234Z
LAST-MODIFIED:20260222T222234Z
UID:10000714-1781980200-1781987400@alpineartscenter.org
SUMMARY:Cocktails & Clay
DESCRIPTION:REGISTER HERE! \nAspen Vase \nWant a fun and creative night out in the company of friends? We will lead you step-by-step through the evening’s project and provide all materials. Wine/beer is $6 per glass (all alcoholic beverages must be purchased through our bar; non-alcoholic options and snacks available too). Advanced registration required. *SAVE 10% with our new Arts Center Memberships (good for discounts on in studio and virtual classes\, camps\, drop-ins & wine/beer). \nYour clay class includes all materials\, instruction\, and firing/glazing based on a set glaze for the entire class. Projects will be ready to pick up approximately 2 weeks later\, or shipping can be arranged at an additional fee. If you prefer to glaze your own piece\, you may opt to do that for a half-price drop-in fee of $8; please ask your instructor if you are interested in this add-on.
URL:https://alpineartscenter.org/event/cocktails-clay-67/
LOCATION:Alpine Arts Center\, 280 MAIN ST UNIT C-101\, EDWARDS\, CO\, 816328501\, United States
ATTACH;FMTTYPE=image/jpeg:https://alpineartscenter.org/wp-content/uploads/2022/11/aspen-vase.jpg
END:VEVENT
BEGIN:VEVENT
DTSTART;TZID=America/Denver:20260624T183000
DTEND;TZID=America/Denver:20260624T203000
DTSTAMP:20260423T085637
CREATED:20260222T222858Z
LAST-MODIFIED:20260222T222858Z
UID:10000718-1782325800-1782333000@alpineartscenter.org
SUMMARY:Cocktails & Canvas
DESCRIPTION:REGISTER HERE! \nPoppies Painting \nWant a fun and creative night out in the company of friends? We will lead you step-by-step through the evening’s project and provide all materials. Wine/beer is $6 per glass (all alcoholic beverages must be purchased through our bar; non-alcoholic options and snacks available too). Advanced registration required. *SAVE 10% with our new Arts Center Memberships (good for discounts on in studio and virtual classes\, camps\, drop-ins & wine/beer).
URL:https://alpineartscenter.org/event/cocktails-canvas-105/
LOCATION:Alpine Arts Center\, 280 MAIN ST UNIT C-101\, EDWARDS\, CO\, 816328501\, United States
ATTACH;FMTTYPE=image/jpeg:https://alpineartscenter.org/wp-content/uploads/2021/05/Poppies-791.jpg
END:VEVENT
BEGIN:VEVENT
DTSTART;TZID=America/Denver:20260630T153000
DTEND;TZID=America/Denver:20260630T170000
DTSTAMP:20260423T085637
CREATED:20260417T222903Z
LAST-MODIFIED:20260417T223442Z
UID:10000728-1782833400-1782838800@alpineartscenter.org
SUMMARY:Discover Vail Art Series
DESCRIPTION:REGISTER HERE \nDiscounted Art Class: Colorado Wildflower Meadow Painting \nTuesday\, June 30th @ 3:30-5pm \nAlpine Arts Center hosts a discounted class at The Amp\, Vail Village \nCome join us for a social art event and learn to create your own Colorado Wildflower Meadow masterpiece! All materials & step-by-step instruction will be provided. Alpine Arts Center is excited to offer art programs in partnership with Discover Vail for a discounted price of $25 per person! All programs are fun\, social\, and open to all ages (children should be accompanied by a participating adult). \nAlso join us during the concert starting @ 5:30 for drop-in art – canvas painting! \nThank you to our event sponsors: Discover Vail\, Holy Cross\, & Alpine Bank \nLearn more about what is happening in Vail at discovervail.com
URL:https://alpineartscenter.org/event/discover-vail-art-series-12/
LOCATION:Gerald R. Ford Amphitheater\, 503 S Frontage Rd E\, Vail\, CO\, 81656\, United States
ATTACH;FMTTYPE=image/jpeg:https://alpineartscenter.org/wp-content/uploads/2026/04/IMG_4977-scaled.jpeg
END:VEVENT
BEGIN:VEVENT
DTSTART;TZID=America/Denver:20260708T183000
DTEND;TZID=America/Denver:20260708T203000
DTSTAMP:20260423T085637
CREATED:20260222T223041Z
LAST-MODIFIED:20260222T223041Z
UID:10000719-1783535400-1783542600@alpineartscenter.org
SUMMARY:Cocktails & Canvas
DESCRIPTION:REGISTER HERE! \nAspen Meadow Painting \nWant a fun and creative night out in the company of friends? We will lead you step-by-step through the evening’s project and provide all materials. Wine/beer is $6 per glass (all alcoholic beverages must be purchased through our bar; non-alcoholic options and snacks available too). Advanced registration required. *SAVE 10% with our new Arts Center Memberships (good for discounts on in studio and virtual classes\, camps\, drop-ins & wine/beer).
URL:https://alpineartscenter.org/event/cocktails-canvas-106/
LOCATION:Alpine Arts Center\, 280 MAIN ST UNIT C-101\, EDWARDS\, CO\, 816328501\, United States
ATTACH;FMTTYPE=image/jpeg:https://alpineartscenter.org/wp-content/uploads/2021/05/AspenMeadow-764.jpg
END:VEVENT
BEGIN:VEVENT
DTSTART;TZID=America/Denver:20260711T130000
DTEND;TZID=America/Denver:20260711T143000
DTSTAMP:20260423T085637
CREATED:20260222T205128Z
LAST-MODIFIED:20260222T205128Z
UID:10000702-1783774800-1783780200@alpineartscenter.org
SUMMARY:Cupcakes & Canvas
DESCRIPTION:REGISTER HERE! \nSummer Path painting! \nA family friendly version of our Cocktails & Canvas and Cocktails & Clay classes! An instructor will guide you through a step by step demonstration of the featured project; all supplies and cupcakes are included! Wine/beer/champagne can be purchased during the class for ages 21+. To register a large group\, please call Alpine Arts Center at 970-926-2732. *SAVE 10% with our new Arts Center Memberships (good for discounts on in studio and virtual classes\, camps\, drop-ins & wine/beer).
URL:https://alpineartscenter.org/event/cupcakes-canvas-61/
LOCATION:Alpine Arts Center\, 280 MAIN ST UNIT C-101\, EDWARDS\, CO\, 816328501\, United States
ATTACH;FMTTYPE=image/jpeg:https://alpineartscenter.org/wp-content/uploads/2021/05/summer_path.jpg
END:VEVENT
BEGIN:VEVENT
DTSTART;TZID=America/Denver:20260714T153000
DTEND;TZID=America/Denver:20260714T170000
DTSTAMP:20260423T085637
CREATED:20260417T223358Z
LAST-MODIFIED:20260417T223358Z
UID:10000729-1784043000-1784048400@alpineartscenter.org
SUMMARY:Discover Vail Art Series
DESCRIPTION:REGISTER HERE \nDiscounted Art Class: Spray Paint Canvas Painting (or bring a t-shirt if you prefer to create wearable art) \nTuesday\, July 14th @ 3:30-5pm \nAlpine Arts Center hosts a discounted class at The Amp\, Vail Village \nCome join us for a social art event and learn to create your own Spray Paint Art masterpiece! All materials & step-by-step instruction will be provided. Alpine Arts Center is excited to offer art programs in partnership with Discover Vail for a discounted price of $25 per person! All programs are fun\, social\, and open to all ages (children should be accompanied by a participating adult). \nAlso join us during the concert starting @ 5:30 for drop-in art – spray & canvas painting! \nThank you to our event sponsors: Discover Vail\, Holy Cross\, & Alpine Bank \nLearn more about what is happening in Vail at discovervail.com
URL:https://alpineartscenter.org/event/discover-vail-art-series-13/
LOCATION:Gerald R. Ford Amphitheater\, 503 S Frontage Rd E\, Vail\, CO\, 81656\, United States
ATTACH;FMTTYPE=image/jpeg:https://alpineartscenter.org/wp-content/uploads/2023/05/1-1.jpeg
END:VEVENT
BEGIN:VEVENT
DTSTART;TZID=America/Denver:20260718T183000
DTEND;TZID=America/Denver:20260718T203000
DTSTAMP:20260423T085637
CREATED:20260222T223217Z
LAST-MODIFIED:20260222T223217Z
UID:10000720-1784399400-1784406600@alpineartscenter.org
SUMMARY:Cocktails & Canvas
DESCRIPTION:REGISTER HERE! \nVail Sunset Painting \nWant a fun and creative night out in the company of friends? We will lead you step-by-step through the evening’s project and provide all materials. Wine/beer is $6 per glass (all alcoholic beverages must be purchased through our bar; non-alcoholic options and snacks available too). Advanced registration required. *SAVE 10% with our new Arts Center Memberships (good for discounts on in studio and virtual classes\, camps\, drop-ins & wine/beer).
URL:https://alpineartscenter.org/event/cocktails-canvas-107/
LOCATION:Alpine Arts Center\, 280 MAIN ST UNIT C-101\, EDWARDS\, CO\, 816328501\, United States
ATTACH;FMTTYPE=image/png:https://alpineartscenter.org/wp-content/uploads/2021/06/Vail-Sunset.png
END:VEVENT
BEGIN:VEVENT
DTSTART;TZID=America/Denver:20260721T153000
DTEND;TZID=America/Denver:20260721T200000
DTSTAMP:20260423T085637
CREATED:20260417T222231Z
LAST-MODIFIED:20260417T222231Z
UID:10000727-1784647800-1784664000@alpineartscenter.org
SUMMARY:Discover Vail Art Series
DESCRIPTION:*No registration necessary* \nDiscounted Art Class: Silk & Hat Marbling \nIn Vail @ The Amp (Gerald R. Ford Amphitheater) \nTuesday\, July 21st Starting @ 3:30pm \nAlpine Arts Center is excited to offer art programs in partnership with Discover Vail for a discounted price! Events are fun\, social\, and open to all ages unless otherwise noted (children should be accompanied by a participating adult). \nStop by our silk marbling booth for an amazing art medium and experience. All materials & step-by-step instruction will be provided for $25+ (depending on marbling selection). \nThank you to our sponsors: Discover Vail\, Holy Cross Energy and Alpine Bank. \nLearn more about what is happening in Vail at discovervail.com
URL:https://alpineartscenter.org/event/discover-vail-art-series-11/
LOCATION:Gerald R. Ford Amphitheater\, 503 S Frontage Rd E\, Vail\, CO\, 81656\, United States
ATTACH;FMTTYPE=image/png:https://alpineartscenter.org/wp-content/uploads/2021/06/silkscarf.png
END:VEVENT
BEGIN:VEVENT
DTSTART;TZID=America/Denver:20260722T183000
DTEND;TZID=America/Denver:20260722T203000
DTSTAMP:20260423T085637
CREATED:20260222T222535Z
LAST-MODIFIED:20260222T222535Z
UID:10000716-1784745000-1784752200@alpineartscenter.org
SUMMARY:Cocktails & Clay
DESCRIPTION:REGISTER HERE! \nClay Travel Mug \nWant a fun and creative night out in the company of friends? We will lead you step-by-step through the evening’s project and provide all materials. Wine/beer is $6 per glass (all alcoholic beverages must be purchased through our bar; non-alcoholic options and snacks available too). Advanced registration required. *SAVE 10% with our new Arts Center Memberships (good for discounts on in studio and virtual classes\, camps\, drop-ins & wine/beer). \nYour clay class includes all materials\, instruction\, and firing/glazing based on a set glaze for the entire class. Projects will be ready to pick up approximately 2 weeks later\, or shipping can be arranged at an additional fee. If you prefer to glaze your own piece\, you may opt to do that for a half-price drop-in fee of $8; please ask your instructor if you are interested in this add-on.
URL:https://alpineartscenter.org/event/cocktails-clay-69/
LOCATION:Alpine Arts Center\, 280 MAIN ST UNIT C-101\, EDWARDS\, CO\, 816328501\, United States
ATTACH;FMTTYPE=image/jpeg:https://alpineartscenter.org/wp-content/uploads/2026/02/Clay-Travel-Mug.jpg
END:VEVENT
BEGIN:VEVENT
DTSTART;TZID=America/Denver:20260801T183000
DTEND;TZID=America/Denver:20260801T203000
DTSTAMP:20260423T085637
CREATED:20260222T223349Z
LAST-MODIFIED:20260222T223349Z
UID:10000721-1785609000-1785616200@alpineartscenter.org
SUMMARY:Cocktails & Canvas
DESCRIPTION:REGISTER HERE! \nSunset Over Gore Range Painting \nWant a fun and creative night out in the company of friends? We will lead you step-by-step through the evening’s project and provide all materials. Wine/beer is $6 per glass (all alcoholic beverages must be purchased through our bar; non-alcoholic options and snacks available too). Advanced registration required. *SAVE 10% with our new Arts Center Memberships (good for discounts on in studio and virtual classes\, camps\, drop-ins & wine/beer).
URL:https://alpineartscenter.org/event/cocktails-canvas-108/
LOCATION:Alpine Arts Center\, 280 MAIN ST UNIT C-101\, EDWARDS\, CO\, 816328501\, United States
ATTACH;FMTTYPE=image/jpeg:https://alpineartscenter.org/wp-content/uploads/2021/06/IMG_3243-scaled.jpg
END:VEVENT
BEGIN:VEVENT
DTSTART;TZID=America/Denver:20260805T183000
DTEND;TZID=America/Denver:20260805T203000
DTSTAMP:20260423T085637
CREATED:20260222T222637Z
LAST-MODIFIED:20260401T150612Z
UID:10000717-1785954600-1785961800@alpineartscenter.org
SUMMARY:Cocktails & Canvas
DESCRIPTION:REGISTER HERE! \nPaddleboarding on Piney Lake \nWant a fun and creative night out in the company of friends? We will lead you step-by-step through the evening’s project and provide all materials. Wine/beer is $6 per glass (all alcoholic beverages must be purchased through our bar; non-alcoholic options and snacks available too). Advanced registration required. *SAVE 10% with our new Arts Center Memberships (good for discounts on in studio and virtual classes\, camps\, drop-ins & wine/beer).
URL:https://alpineartscenter.org/event/cocktails-clay-70/
LOCATION:Alpine Arts Center\, 280 MAIN ST UNIT C-101\, EDWARDS\, CO\, 816328501\, United States
ATTACH;FMTTYPE=image/jpeg:https://alpineartscenter.org/wp-content/uploads/2026/02/Paddleboarding-on-Piney-Lake.jpg
END:VEVENT
BEGIN:VEVENT
DTSTART;TZID=America/Denver:20260808T130000
DTEND;TZID=America/Denver:20260808T143000
DTSTAMP:20260423T085637
CREATED:20260222T205317Z
LAST-MODIFIED:20260222T205317Z
UID:10000703-1786194000-1786199400@alpineartscenter.org
SUMMARY:Cupcakes & Canvas
DESCRIPTION:REGISTER HERE! \nHungry Bear painting! \nA family friendly version of our Cocktails & Canvas and Cocktails & Clay classes! An instructor will guide you through a step by step demonstration of the featured project; all supplies and cupcakes are included! Wine/beer/champagne can be purchased during the class for ages 21+. To register a large group\, please call Alpine Arts Center at 970-926-2732. *SAVE 10% with our new Arts Center Memberships (good for discounts on in studio and virtual classes\, camps\, drop-ins & wine/beer).
URL:https://alpineartscenter.org/event/cupcakes-canvas-62/
LOCATION:Alpine Arts Center\, 280 MAIN ST UNIT C-101\, EDWARDS\, CO\, 816328501\, United States
ATTACH;FMTTYPE=image/png:https://alpineartscenter.org/wp-content/uploads/2026/02/Hungry-Bear.png
END:VEVENT
BEGIN:VEVENT
DTSTART;TZID=America/Denver:20260815T183000
DTEND;TZID=America/Denver:20260815T203000
DTSTAMP:20260423T085637
CREATED:20260222T222338Z
LAST-MODIFIED:20260222T222338Z
UID:10000715-1786818600-1786825800@alpineartscenter.org
SUMMARY:Cocktails & Clay
DESCRIPTION:REGISTER HERE! \nAspen Vase \nWant a fun and creative night out in the company of friends? We will lead you step-by-step through the evening’s project and provide all materials. Wine/beer is $6 per glass (all alcoholic beverages must be purchased through our bar; non-alcoholic options and snacks available too). Advanced registration required. *SAVE 10% with our new Arts Center Memberships (good for discounts on in studio and virtual classes\, camps\, drop-ins & wine/beer). \nYour clay class includes all materials\, instruction\, and firing/glazing based on a set glaze for the entire class. Projects will be ready to pick up approximately 2 weeks later\, or shipping can be arranged at an additional fee. If you prefer to glaze your own piece\, you may opt to do that for a half-price drop-in fee of $8; please ask your instructor if you are interested in this add-on.
URL:https://alpineartscenter.org/event/cocktails-clay-68/
LOCATION:Alpine Arts Center\, 280 MAIN ST UNIT C-101\, EDWARDS\, CO\, 816328501\, United States
ATTACH;FMTTYPE=image/jpeg:https://alpineartscenter.org/wp-content/uploads/2022/11/aspen-vase.jpg
END:VEVENT
BEGIN:VEVENT
DTSTART;TZID=America/Denver:20260818T170000
DTEND;TZID=America/Denver:20260818T183000
DTSTAMP:20260423T085637
CREATED:20260422T174953Z
LAST-MODIFIED:20260422T174953Z
UID:10000730-1787072400-1787077800@alpineartscenter.org
SUMMARY:Discover Vail Art Series
DESCRIPTION:Register \nDiscounted Art Class: Printmaking Tote Bags \nTuesday\, August 18th @ 5-6:30pm \nAlpine Arts Center hosts a discounted class at Avanti\, Vail. \nCreate your own printmaking tote bag with personalized stamps! All materials & step-by-step instruction will be provided. Alpine Arts Center is excited to offer art programs in partnership with Discover Vail for a discounted price of $25 per person! Events are fun\, social\, and open to all ages unless otherwise noted (children should be accompanied by a participating adult). \nThanks to our event sponsors: Discover Vail\, Alpine Bank\, and Holy Cross Energy.
URL:https://alpineartscenter.org/event/discover-vail-art-series-14/
LOCATION:Avanti F&B\, 458 Vail Valley Dr\, Vail\, 81657\, United States
ATTACH;FMTTYPE=image/jpeg:https://alpineartscenter.org/wp-content/uploads/2026/04/printmaking-tote-bags-1.jpeg
END:VEVENT
BEGIN:VEVENT
DTSTART;TZID=America/Denver:20260819T183000
DTEND;TZID=America/Denver:20260819T203000
DTSTAMP:20260423T085637
CREATED:20260222T223608Z
LAST-MODIFIED:20260222T223608Z
UID:10000722-1787164200-1787171400@alpineartscenter.org
SUMMARY:Cocktails & Canvas
DESCRIPTION:REGISTER HERE! \nBeaver Creek Summer Ski Signs Painting \nWant a fun and creative night out in the company of friends? We will lead you step-by-step through the evening’s project and provide all materials. Wine/beer is $6 per glass (all alcoholic beverages must be purchased through our bar; non-alcoholic options and snacks available too). Advanced registration required. *SAVE 10% with our new Arts Center Memberships (good for discounts on in studio and virtual classes\, camps\, drop-ins & wine/beer).
URL:https://alpineartscenter.org/event/cocktails-canvas-109/
LOCATION:Alpine Arts Center\, 280 MAIN ST UNIT C-101\, EDWARDS\, CO\, 816328501\, United States
ATTACH;FMTTYPE=image/png:https://alpineartscenter.org/wp-content/uploads/2022/08/Beaver-Creek-Summer-Ski-Signs.png
END:VEVENT
BEGIN:VEVENT
DTSTART;TZID=America/Denver:20260821T163000
DTEND;TZID=America/Denver:20260821T203000
DTSTAMP:20260423T085637
CREATED:20260222T230252Z
LAST-MODIFIED:20260222T230527Z
UID:10000723-1787329800-1787344200@alpineartscenter.org
SUMMARY:2026 Riverwalk • Art Battle & Block Party!
DESCRIPTION:2026 Riverwalk • Art Battle & Block Party!\nFriday\, Aug. 21st \nWatch local artists battle it out and vote for your favorite artist.\nLocal Artist Competition • Live Music • Art Auction • Block Party!\nCheck-in @ Alpine Arts Center\nLive Music\nRiverwalk is offering thirsty attendees drinks for a donation. \nArtists: Apply to Participate\nFun Interactive Community Event • Free for Artists to Participate with the Chance to Win Big!\nAny Medium & Subject – Prizes for 1st\, 2nd\, 3rd – Silent Auction Opportunity\nFeel free to share this info with other artist friends.\nThe Art Battle will take place from 4:30-7:30pm.\nLive music and auction will continue until 8:30pm.\n*No cost for entry\, if you are approved a card will be held on file\, in the case of no call/no show to the event\, a deposit will be taken. \nAPPLY BY EMAIL TO LAUREN@ALPINEARTSCENTER.ORG\nInclude the following:\n1. Your contact info (email and phone)\n2. Art medium you plan to work in\n3. Samples of past work (please attach or provide website link)\n5. Any special requests (electric\, location preference for work space\, etc.)
URL:https://alpineartscenter.org/event/2026-riverwalk-art-battle-block-party-2/
LOCATION:Alpine Arts Center\, 280 MAIN ST UNIT C-101\, EDWARDS\, CO\, 816328501\, United States
ATTACH;FMTTYPE=image/png:https://alpineartscenter.org/wp-content/uploads/2023/07/2023-Riverwalk-•-Art-Battle-Block-Party-1-e1771801490669.png
END:VEVENT
BEGIN:VEVENT
DTSTART;TZID=America/Denver:20260829T183000
DTEND;TZID=America/Denver:20260829T210000
DTSTAMP:20260423T085637
CREATED:20260222T221540Z
LAST-MODIFIED:20260222T224440Z
UID:10000712-1788028200-1788037200@alpineartscenter.org
SUMMARY:Paint Your Pet
DESCRIPTION:REGISTER HERE! \nPaint Your Pet \nPlease send in the photo of your pet to info@alpineartscenter.org upon registering (the photo should have good/quality lighting\, a close up of your pet works best). For registrations less than 48 hours in advance please inquire before signing up to make sure our staff has time to transfer your image onto your canvas. \nWant a fun and creative night out in the company of friends? We will lead you step-by-step through the evening’s project and provide all materials. Wine/beer is $6 per glass (all alcoholic beverages must be purchased through our bar; non-alcoholic options and snacks available too). Advanced registration required. *SAVE 10% with our new Arts Center Memberships (good for discounts on in studio and virtual classes\, camps\, drop-ins & wine/beer).
URL:https://alpineartscenter.org/event/paint-your-pet-16/
LOCATION:Alpine Arts Center\, 280 MAIN ST UNIT C-101\, EDWARDS\, CO\, 816328501\, United States
ATTACH;FMTTYPE=image/jpeg:https://alpineartscenter.org/wp-content/uploads/2021/05/animal-portrait.jpg
END:VEVENT
END:VCALENDAR